BEGIN:VCALENDAR
VERSION:2.0
PRODID:-//Christ Memorial Baptist Church - ECPv6.15.20//NONSGML v1.0//EN
CALSCALE:GREGORIAN
METHOD:PUBLISH
X-WR-CALNAME:Christ Memorial Baptist Church
X-ORIGINAL-URL:https://christmemorialbaptist.com
X-WR-CALDESC:Events for Christ Memorial Baptist Church
REFRESH-INTERVAL;VALUE=DURATION:PT1H
X-Robots-Tag:noindex
X-PUBLISHED-TTL:PT1H
BEGIN:VTIMEZONE
TZID:America/New_York
BEGIN:DAYLIGHT
TZOFFSETFROM:-0500
TZOFFSETTO:-0400
TZNAME:EDT
DTSTART:20250309T070000
END:DAYLIGHT
BEGIN:STANDARD
TZOFFSETFROM:-0400
TZOFFSETTO:-0500
TZNAME:EST
DTSTART:20251102T060000
END:STANDARD
BEGIN:DAYLIGHT
TZOFFSETFROM:-0500
TZOFFSETTO:-0400
TZNAME:EDT
DTSTART:20260308T070000
END:DAYLIGHT
BEGIN:STANDARD
TZOFFSETFROM:-0400
TZOFFSETTO:-0500
TZNAME:EST
DTSTART:20261101T060000
END:STANDARD
BEGIN:DAYLIGHT
TZOFFSETFROM:-0500
TZOFFSETTO:-0400
TZNAME:EDT
DTSTART:20270314T070000
END:DAYLIGHT
BEGIN:STANDARD
TZOFFSETFROM:-0400
TZOFFSETTO:-0500
TZNAME:EST
DTSTART:20271107T060000
END:STANDARD
END:VTIMEZONE
BEGIN:VEVENT
DTSTART;TZID=America/New_York:20261101T094500
DTEND;TZID=America/New_York:20261101T110000
DTSTAMP:20260424T100747
CREATED:20240318T015214Z
LAST-MODIFIED:20240516T162702Z
UID:10000207-1793526300-1793530800@christmemorialbaptist.com
SUMMARY:SUNDAY SCHOOL
DESCRIPTION:
URL:https://christmemorialbaptist.com/event/sunday-school/2026-11-01/
LOCATION:Christ Memorial Baptist\, 1023 Dutchtown Rd\, Savannah\, GA\, 31406\, United States
CATEGORIES:Educational Events
END:VEVENT
BEGIN:VEVENT
DTSTART;TZID=America/New_York:20261103T190000
DTEND;TZID=America/New_York:20261103T200000
DTSTAMP:20260424T100747
CREATED:20240318T020615Z
LAST-MODIFIED:20240516T164910Z
UID:10001395-1793732400-1793736000@christmemorialbaptist.com
SUMMARY:BIBLE STUDY
DESCRIPTION:
URL:https://christmemorialbaptist.com/event/bible-study/2026-11-03/
LOCATION:Christ Memorial Baptist\, 1023 Dutchtown Rd\, Savannah\, GA\, 31406\, United States
CATEGORIES:Educational Events
END:VEVENT
BEGIN:VEVENT
DTSTART;TZID=America/New_York:20261108T094500
DTEND;TZID=America/New_York:20261108T110000
DTSTAMP:20260424T100747
CREATED:20240318T015214Z
LAST-MODIFIED:20240516T162702Z
UID:10000208-1794131100-1794135600@christmemorialbaptist.com
SUMMARY:SUNDAY SCHOOL
DESCRIPTION:
URL:https://christmemorialbaptist.com/event/sunday-school/2026-11-08/
LOCATION:Christ Memorial Baptist\, 1023 Dutchtown Rd\, Savannah\, GA\, 31406\, United States
CATEGORIES:Educational Events
END:VEVENT
BEGIN:VEVENT
DTSTART;TZID=America/New_York:20261110T190000
DTEND;TZID=America/New_York:20261110T200000
DTSTAMP:20260424T100747
CREATED:20240318T020615Z
LAST-MODIFIED:20240516T164910Z
UID:10001396-1794337200-1794340800@christmemorialbaptist.com
SUMMARY:BIBLE STUDY
DESCRIPTION:
URL:https://christmemorialbaptist.com/event/bible-study/2026-11-10/
LOCATION:Christ Memorial Baptist\, 1023 Dutchtown Rd\, Savannah\, GA\, 31406\, United States
CATEGORIES:Educational Events
END:VEVENT
BEGIN:VEVENT
DTSTART;TZID=America/New_York:20261115T094500
DTEND;TZID=America/New_York:20261115T110000
DTSTAMP:20260424T100747
CREATED:20240318T015214Z
LAST-MODIFIED:20240516T162702Z
UID:10000209-1794735900-1794740400@christmemorialbaptist.com
SUMMARY:SUNDAY SCHOOL
DESCRIPTION:
URL:https://christmemorialbaptist.com/event/sunday-school/2026-11-15/
LOCATION:Christ Memorial Baptist\, 1023 Dutchtown Rd\, Savannah\, GA\, 31406\, United States
CATEGORIES:Educational Events
END:VEVENT
BEGIN:VEVENT
DTSTART;TZID=America/New_York:20261117T190000
DTEND;TZID=America/New_York:20261117T200000
DTSTAMP:20260424T100747
CREATED:20240318T020615Z
LAST-MODIFIED:20240516T164910Z
UID:10001397-1794942000-1794945600@christmemorialbaptist.com
SUMMARY:BIBLE STUDY
DESCRIPTION:
URL:https://christmemorialbaptist.com/event/bible-study/2026-11-17/
LOCATION:Christ Memorial Baptist\, 1023 Dutchtown Rd\, Savannah\, GA\, 31406\, United States
CATEGORIES:Educational Events
END:VEVENT
BEGIN:VEVENT
DTSTART;TZID=America/New_York:20261122T094500
DTEND;TZID=America/New_York:20261122T110000
DTSTAMP:20260424T100747
CREATED:20240318T015214Z
LAST-MODIFIED:20240516T162702Z
UID:10000210-1795340700-1795345200@christmemorialbaptist.com
SUMMARY:SUNDAY SCHOOL
DESCRIPTION:
URL:https://christmemorialbaptist.com/event/sunday-school/2026-11-22/
LOCATION:Christ Memorial Baptist\, 1023 Dutchtown Rd\, Savannah\, GA\, 31406\, United States
CATEGORIES:Educational Events
END:VEVENT
BEGIN:VEVENT
DTSTART;TZID=America/New_York:20261124T190000
DTEND;TZID=America/New_York:20261124T200000
DTSTAMP:20260424T100747
CREATED:20240318T020615Z
LAST-MODIFIED:20240516T164910Z
UID:10001398-1795546800-1795550400@christmemorialbaptist.com
SUMMARY:BIBLE STUDY
DESCRIPTION:
URL:https://christmemorialbaptist.com/event/bible-study/2026-11-24/
LOCATION:Christ Memorial Baptist\, 1023 Dutchtown Rd\, Savannah\, GA\, 31406\, United States
CATEGORIES:Educational Events
END:VEVENT
BEGIN:VEVENT
DTSTART;TZID=America/New_York:20261129T094500
DTEND;TZID=America/New_York:20261129T110000
DTSTAMP:20260424T100747
CREATED:20240318T015214Z
LAST-MODIFIED:20240516T162702Z
UID:10000211-1795945500-1795950000@christmemorialbaptist.com
SUMMARY:SUNDAY SCHOOL
DESCRIPTION:
URL:https://christmemorialbaptist.com/event/sunday-school/2026-11-29/
LOCATION:Christ Memorial Baptist\, 1023 Dutchtown Rd\, Savannah\, GA\, 31406\, United States
CATEGORIES:Educational Events
END:VEVENT
END:VCALENDAR