BEGIN:VCALENDAR
VERSION:2.0
PRODID:-//Christ Memorial Baptist Church - ECPv6.15.20//NONSGML v1.0//EN
CALSCALE:GREGORIAN
METHOD:PUBLISH
X-WR-CALNAME:Christ Memorial Baptist Church
X-ORIGINAL-URL:https://christmemorialbaptist.com
X-WR-CALDESC:Events for Christ Memorial Baptist Church
REFRESH-INTERVAL;VALUE=DURATION:PT1H
X-Robots-Tag:noindex
X-PUBLISHED-TTL:PT1H
BEGIN:VTIMEZONE
TZID:America/New_York
BEGIN:DAYLIGHT
TZOFFSETFROM:-0500
TZOFFSETTO:-0400
TZNAME:EDT
DTSTART:20270314T070000
END:DAYLIGHT
BEGIN:STANDARD
TZOFFSETFROM:-0400
TZOFFSETTO:-0500
TZNAME:EST
DTSTART:20271107T060000
END:STANDARD
BEGIN:DAYLIGHT
TZOFFSETFROM:-0500
TZOFFSETTO:-0400
TZNAME:EDT
DTSTART:20280312T070000
END:DAYLIGHT
BEGIN:STANDARD
TZOFFSETFROM:-0400
TZOFFSETTO:-0500
TZNAME:EST
DTSTART:20281105T060000
END:STANDARD
BEGIN:DAYLIGHT
TZOFFSETFROM:-0500
TZOFFSETTO:-0400
TZNAME:EDT
DTSTART:20290311T070000
END:DAYLIGHT
BEGIN:STANDARD
TZOFFSETFROM:-0400
TZOFFSETTO:-0500
TZNAME:EST
DTSTART:20291104T060000
END:STANDARD
END:VTIMEZONE
BEGIN:VEVENT
DTSTART;TZID=America/New_York:20280326T094500
DTEND;TZID=America/New_York:20280326T110000
DTSTAMP:20260425T124224
CREATED:20240318T015214Z
LAST-MODIFIED:20240516T162702Z
UID:10000280-1837676700-1837681200@christmemorialbaptist.com
SUMMARY:SUNDAY SCHOOL
DESCRIPTION:
URL:https://christmemorialbaptist.com/event/sunday-school/2028-03-26/
LOCATION:Christ Memorial Baptist\, 1023 Dutchtown Rd\, Savannah\, GA\, 31406\, United States
CATEGORIES:Educational Events
END:VEVENT
BEGIN:VEVENT
DTSTART;TZID=America/New_York:20280328T190000
DTEND;TZID=America/New_York:20280328T200000
DTSTAMP:20260425T124224
CREATED:20240318T020615Z
LAST-MODIFIED:20240516T164910Z
UID:10001468-1837882800-1837886400@christmemorialbaptist.com
SUMMARY:BIBLE STUDY
DESCRIPTION:
URL:https://christmemorialbaptist.com/event/bible-study/2028-03-28/
LOCATION:Christ Memorial Baptist\, 1023 Dutchtown Rd\, Savannah\, GA\, 31406\, United States
CATEGORIES:Educational Events
END:VEVENT
BEGIN:VEVENT
DTSTART;TZID=America/New_York:20280402T094500
DTEND;TZID=America/New_York:20280402T110000
DTSTAMP:20260425T124224
CREATED:20240318T015214Z
LAST-MODIFIED:20240516T162702Z
UID:10000281-1838281500-1838286000@christmemorialbaptist.com
SUMMARY:SUNDAY SCHOOL
DESCRIPTION:
URL:https://christmemorialbaptist.com/event/sunday-school/2028-04-02/
LOCATION:Christ Memorial Baptist\, 1023 Dutchtown Rd\, Savannah\, GA\, 31406\, United States
CATEGORIES:Educational Events
END:VEVENT
BEGIN:VEVENT
DTSTART;TZID=America/New_York:20280404T190000
DTEND;TZID=America/New_York:20280404T200000
DTSTAMP:20260425T124224
CREATED:20240318T020615Z
LAST-MODIFIED:20240516T164910Z
UID:10001469-1838487600-1838491200@christmemorialbaptist.com
SUMMARY:BIBLE STUDY
DESCRIPTION:
URL:https://christmemorialbaptist.com/event/bible-study/2028-04-04/
LOCATION:Christ Memorial Baptist\, 1023 Dutchtown Rd\, Savannah\, GA\, 31406\, United States
CATEGORIES:Educational Events
END:VEVENT
BEGIN:VEVENT
DTSTART;TZID=America/New_York:20280409T094500
DTEND;TZID=America/New_York:20280409T110000
DTSTAMP:20260425T124224
CREATED:20240318T015214Z
LAST-MODIFIED:20240516T162702Z
UID:10000282-1838886300-1838890800@christmemorialbaptist.com
SUMMARY:SUNDAY SCHOOL
DESCRIPTION:
URL:https://christmemorialbaptist.com/event/sunday-school/2028-04-09/
LOCATION:Christ Memorial Baptist\, 1023 Dutchtown Rd\, Savannah\, GA\, 31406\, United States
CATEGORIES:Educational Events
END:VEVENT
BEGIN:VEVENT
DTSTART;TZID=America/New_York:20280411T190000
DTEND;TZID=America/New_York:20280411T200000
DTSTAMP:20260425T124224
CREATED:20240318T020615Z
LAST-MODIFIED:20240516T164910Z
UID:10001470-1839092400-1839096000@christmemorialbaptist.com
SUMMARY:BIBLE STUDY
DESCRIPTION:
URL:https://christmemorialbaptist.com/event/bible-study/2028-04-11/
LOCATION:Christ Memorial Baptist\, 1023 Dutchtown Rd\, Savannah\, GA\, 31406\, United States
CATEGORIES:Educational Events
END:VEVENT
BEGIN:VEVENT
DTSTART;TZID=America/New_York:20280416T094500
DTEND;TZID=America/New_York:20280416T110000
DTSTAMP:20260425T124224
CREATED:20240318T015214Z
LAST-MODIFIED:20240516T162702Z
UID:10000283-1839491100-1839495600@christmemorialbaptist.com
SUMMARY:SUNDAY SCHOOL
DESCRIPTION:
URL:https://christmemorialbaptist.com/event/sunday-school/2028-04-16/
LOCATION:Christ Memorial Baptist\, 1023 Dutchtown Rd\, Savannah\, GA\, 31406\, United States
CATEGORIES:Educational Events
END:VEVENT
BEGIN:VEVENT
DTSTART;TZID=America/New_York:20280418T190000
DTEND;TZID=America/New_York:20280418T200000
DTSTAMP:20260425T124224
CREATED:20240318T020615Z
LAST-MODIFIED:20240516T164910Z
UID:10001471-1839697200-1839700800@christmemorialbaptist.com
SUMMARY:BIBLE STUDY
DESCRIPTION:
URL:https://christmemorialbaptist.com/event/bible-study/2028-04-18/
LOCATION:Christ Memorial Baptist\, 1023 Dutchtown Rd\, Savannah\, GA\, 31406\, United States
CATEGORIES:Educational Events
END:VEVENT
BEGIN:VEVENT
DTSTART;TZID=America/New_York:20280423T094500
DTEND;TZID=America/New_York:20280423T110000
DTSTAMP:20260425T124224
CREATED:20240318T015214Z
LAST-MODIFIED:20240516T162702Z
UID:10000284-1840095900-1840100400@christmemorialbaptist.com
SUMMARY:SUNDAY SCHOOL
DESCRIPTION:
URL:https://christmemorialbaptist.com/event/sunday-school/2028-04-23/
LOCATION:Christ Memorial Baptist\, 1023 Dutchtown Rd\, Savannah\, GA\, 31406\, United States
CATEGORIES:Educational Events
END:VEVENT
BEGIN:VEVENT
DTSTART;TZID=America/New_York:20280425T190000
DTEND;TZID=America/New_York:20280425T200000
DTSTAMP:20260425T124224
CREATED:20240318T020615Z
LAST-MODIFIED:20240516T164910Z
UID:10001472-1840302000-1840305600@christmemorialbaptist.com
SUMMARY:BIBLE STUDY
DESCRIPTION:
URL:https://christmemorialbaptist.com/event/bible-study/2028-04-25/
LOCATION:Christ Memorial Baptist\, 1023 Dutchtown Rd\, Savannah\, GA\, 31406\, United States
CATEGORIES:Educational Events
END:VEVENT
BEGIN:VEVENT
DTSTART;TZID=America/New_York:20280430T094500
DTEND;TZID=America/New_York:20280430T110000
DTSTAMP:20260425T124224
CREATED:20240318T015214Z
LAST-MODIFIED:20240516T162702Z
UID:10000285-1840700700-1840705200@christmemorialbaptist.com
SUMMARY:SUNDAY SCHOOL
DESCRIPTION:
URL:https://christmemorialbaptist.com/event/sunday-school/2028-04-30/
LOCATION:Christ Memorial Baptist\, 1023 Dutchtown Rd\, Savannah\, GA\, 31406\, United States
CATEGORIES:Educational Events
END:VEVENT
BEGIN:VEVENT
DTSTART;TZID=America/New_York:20280502T190000
DTEND;TZID=America/New_York:20280502T200000
DTSTAMP:20260425T124224
CREATED:20240318T020615Z
LAST-MODIFIED:20240516T164910Z
UID:10001473-1840906800-1840910400@christmemorialbaptist.com
SUMMARY:BIBLE STUDY
DESCRIPTION:
URL:https://christmemorialbaptist.com/event/bible-study/2028-05-02/
LOCATION:Christ Memorial Baptist\, 1023 Dutchtown Rd\, Savannah\, GA\, 31406\, United States
CATEGORIES:Educational Events
END:VEVENT
BEGIN:VEVENT
DTSTART;TZID=America/New_York:20280507T094500
DTEND;TZID=America/New_York:20280507T110000
DTSTAMP:20260425T124224
CREATED:20240318T015214Z
LAST-MODIFIED:20240516T162702Z
UID:10000286-1841305500-1841310000@christmemorialbaptist.com
SUMMARY:SUNDAY SCHOOL
DESCRIPTION:
URL:https://christmemorialbaptist.com/event/sunday-school/2028-05-07/
LOCATION:Christ Memorial Baptist\, 1023 Dutchtown Rd\, Savannah\, GA\, 31406\, United States
CATEGORIES:Educational Events
END:VEVENT
BEGIN:VEVENT
DTSTART;TZID=America/New_York:20280509T190000
DTEND;TZID=America/New_York:20280509T200000
DTSTAMP:20260425T124224
CREATED:20240318T020615Z
LAST-MODIFIED:20240516T164910Z
UID:10001474-1841511600-1841515200@christmemorialbaptist.com
SUMMARY:BIBLE STUDY
DESCRIPTION:
URL:https://christmemorialbaptist.com/event/bible-study/2028-05-09/
LOCATION:Christ Memorial Baptist\, 1023 Dutchtown Rd\, Savannah\, GA\, 31406\, United States
CATEGORIES:Educational Events
END:VEVENT
BEGIN:VEVENT
DTSTART;TZID=America/New_York:20280514T094500
DTEND;TZID=America/New_York:20280514T110000
DTSTAMP:20260425T124224
CREATED:20240318T015214Z
LAST-MODIFIED:20240516T162702Z
UID:10000287-1841910300-1841914800@christmemorialbaptist.com
SUMMARY:SUNDAY SCHOOL
DESCRIPTION:
URL:https://christmemorialbaptist.com/event/sunday-school/2028-05-14/
LOCATION:Christ Memorial Baptist\, 1023 Dutchtown Rd\, Savannah\, GA\, 31406\, United States
CATEGORIES:Educational Events
END:VEVENT
BEGIN:VEVENT
DTSTART;TZID=America/New_York:20280516T190000
DTEND;TZID=America/New_York:20280516T200000
DTSTAMP:20260425T124224
CREATED:20240318T020615Z
LAST-MODIFIED:20240516T164910Z
UID:10001475-1842116400-1842120000@christmemorialbaptist.com
SUMMARY:BIBLE STUDY
DESCRIPTION:
URL:https://christmemorialbaptist.com/event/bible-study/2028-05-16/
LOCATION:Christ Memorial Baptist\, 1023 Dutchtown Rd\, Savannah\, GA\, 31406\, United States
CATEGORIES:Educational Events
END:VEVENT
BEGIN:VEVENT
DTSTART;TZID=America/New_York:20280521T094500
DTEND;TZID=America/New_York:20280521T110000
DTSTAMP:20260425T124224
CREATED:20240318T015214Z
LAST-MODIFIED:20240516T162702Z
UID:10000288-1842515100-1842519600@christmemorialbaptist.com
SUMMARY:SUNDAY SCHOOL
DESCRIPTION:
URL:https://christmemorialbaptist.com/event/sunday-school/2028-05-21/
LOCATION:Christ Memorial Baptist\, 1023 Dutchtown Rd\, Savannah\, GA\, 31406\, United States
CATEGORIES:Educational Events
END:VEVENT
BEGIN:VEVENT
DTSTART;TZID=America/New_York:20280523T190000
DTEND;TZID=America/New_York:20280523T200000
DTSTAMP:20260425T124224
CREATED:20240318T020615Z
LAST-MODIFIED:20240516T164910Z
UID:10001476-1842721200-1842724800@christmemorialbaptist.com
SUMMARY:BIBLE STUDY
DESCRIPTION:
URL:https://christmemorialbaptist.com/event/bible-study/2028-05-23/
LOCATION:Christ Memorial Baptist\, 1023 Dutchtown Rd\, Savannah\, GA\, 31406\, United States
CATEGORIES:Educational Events
END:VEVENT
BEGIN:VEVENT
DTSTART;TZID=America/New_York:20280528T094500
DTEND;TZID=America/New_York:20280528T110000
DTSTAMP:20260425T124224
CREATED:20240318T015214Z
LAST-MODIFIED:20240516T162702Z
UID:10000289-1843119900-1843124400@christmemorialbaptist.com
SUMMARY:SUNDAY SCHOOL
DESCRIPTION:
URL:https://christmemorialbaptist.com/event/sunday-school/2028-05-28/
LOCATION:Christ Memorial Baptist\, 1023 Dutchtown Rd\, Savannah\, GA\, 31406\, United States
CATEGORIES:Educational Events
END:VEVENT
BEGIN:VEVENT
DTSTART;TZID=America/New_York:20280530T190000
DTEND;TZID=America/New_York:20280530T200000
DTSTAMP:20260425T124224
CREATED:20240318T020615Z
LAST-MODIFIED:20240516T164910Z
UID:10001477-1843326000-1843329600@christmemorialbaptist.com
SUMMARY:BIBLE STUDY
DESCRIPTION:
URL:https://christmemorialbaptist.com/event/bible-study/2028-05-30/
LOCATION:Christ Memorial Baptist\, 1023 Dutchtown Rd\, Savannah\, GA\, 31406\, United States
CATEGORIES:Educational Events
END:VEVENT
BEGIN:VEVENT
DTSTART;TZID=America/New_York:20280604T094500
DTEND;TZID=America/New_York:20280604T110000
DTSTAMP:20260425T124224
CREATED:20240318T015214Z
LAST-MODIFIED:20240516T162702Z
UID:10000290-1843724700-1843729200@christmemorialbaptist.com
SUMMARY:SUNDAY SCHOOL
DESCRIPTION:
URL:https://christmemorialbaptist.com/event/sunday-school/2028-06-04/
LOCATION:Christ Memorial Baptist\, 1023 Dutchtown Rd\, Savannah\, GA\, 31406\, United States
CATEGORIES:Educational Events
END:VEVENT
BEGIN:VEVENT
DTSTART;TZID=America/New_York:20280606T190000
DTEND;TZID=America/New_York:20280606T200000
DTSTAMP:20260425T124224
CREATED:20240318T020615Z
LAST-MODIFIED:20240516T164910Z
UID:10001478-1843930800-1843934400@christmemorialbaptist.com
SUMMARY:BIBLE STUDY
DESCRIPTION:
URL:https://christmemorialbaptist.com/event/bible-study/2028-06-06/
LOCATION:Christ Memorial Baptist\, 1023 Dutchtown Rd\, Savannah\, GA\, 31406\, United States
CATEGORIES:Educational Events
END:VEVENT
BEGIN:VEVENT
DTSTART;TZID=America/New_York:20280611T094500
DTEND;TZID=America/New_York:20280611T110000
DTSTAMP:20260425T124224
CREATED:20240318T015214Z
LAST-MODIFIED:20240516T162702Z
UID:10000291-1844329500-1844334000@christmemorialbaptist.com
SUMMARY:SUNDAY SCHOOL
DESCRIPTION:
URL:https://christmemorialbaptist.com/event/sunday-school/2028-06-11/
LOCATION:Christ Memorial Baptist\, 1023 Dutchtown Rd\, Savannah\, GA\, 31406\, United States
CATEGORIES:Educational Events
END:VEVENT
BEGIN:VEVENT
DTSTART;TZID=America/New_York:20280613T190000
DTEND;TZID=America/New_York:20280613T200000
DTSTAMP:20260425T124224
CREATED:20240318T020615Z
LAST-MODIFIED:20240516T164910Z
UID:10001479-1844535600-1844539200@christmemorialbaptist.com
SUMMARY:BIBLE STUDY
DESCRIPTION:
URL:https://christmemorialbaptist.com/event/bible-study/2028-06-13/
LOCATION:Christ Memorial Baptist\, 1023 Dutchtown Rd\, Savannah\, GA\, 31406\, United States
CATEGORIES:Educational Events
END:VEVENT
BEGIN:VEVENT
DTSTART;TZID=America/New_York:20280618T094500
DTEND;TZID=America/New_York:20280618T110000
DTSTAMP:20260425T124224
CREATED:20240318T015214Z
LAST-MODIFIED:20240516T162702Z
UID:10000292-1844934300-1844938800@christmemorialbaptist.com
SUMMARY:SUNDAY SCHOOL
DESCRIPTION:
URL:https://christmemorialbaptist.com/event/sunday-school/2028-06-18/
LOCATION:Christ Memorial Baptist\, 1023 Dutchtown Rd\, Savannah\, GA\, 31406\, United States
CATEGORIES:Educational Events
END:VEVENT
BEGIN:VEVENT
DTSTART;TZID=America/New_York:20280620T190000
DTEND;TZID=America/New_York:20280620T200000
DTSTAMP:20260425T124224
CREATED:20240318T020615Z
LAST-MODIFIED:20240516T164910Z
UID:10001480-1845140400-1845144000@christmemorialbaptist.com
SUMMARY:BIBLE STUDY
DESCRIPTION:
URL:https://christmemorialbaptist.com/event/bible-study/2028-06-20/
LOCATION:Christ Memorial Baptist\, 1023 Dutchtown Rd\, Savannah\, GA\, 31406\, United States
CATEGORIES:Educational Events
END:VEVENT
BEGIN:VEVENT
DTSTART;TZID=America/New_York:20280625T094500
DTEND;TZID=America/New_York:20280625T110000
DTSTAMP:20260425T124224
CREATED:20240318T015214Z
LAST-MODIFIED:20240516T162702Z
UID:10000293-1845539100-1845543600@christmemorialbaptist.com
SUMMARY:SUNDAY SCHOOL
DESCRIPTION:
URL:https://christmemorialbaptist.com/event/sunday-school/2028-06-25/
LOCATION:Christ Memorial Baptist\, 1023 Dutchtown Rd\, Savannah\, GA\, 31406\, United States
CATEGORIES:Educational Events
END:VEVENT
BEGIN:VEVENT
DTSTART;TZID=America/New_York:20280627T190000
DTEND;TZID=America/New_York:20280627T200000
DTSTAMP:20260425T124224
CREATED:20240318T020615Z
LAST-MODIFIED:20240516T164910Z
UID:10001481-1845745200-1845748800@christmemorialbaptist.com
SUMMARY:BIBLE STUDY
DESCRIPTION:
URL:https://christmemorialbaptist.com/event/bible-study/2028-06-27/
LOCATION:Christ Memorial Baptist\, 1023 Dutchtown Rd\, Savannah\, GA\, 31406\, United States
CATEGORIES:Educational Events
END:VEVENT
BEGIN:VEVENT
DTSTART;TZID=America/New_York:20280702T094500
DTEND;TZID=America/New_York:20280702T110000
DTSTAMP:20260425T124224
CREATED:20240318T015214Z
LAST-MODIFIED:20240516T162702Z
UID:10000294-1846143900-1846148400@christmemorialbaptist.com
SUMMARY:SUNDAY SCHOOL
DESCRIPTION:
URL:https://christmemorialbaptist.com/event/sunday-school/2028-07-02/
LOCATION:Christ Memorial Baptist\, 1023 Dutchtown Rd\, Savannah\, GA\, 31406\, United States
CATEGORIES:Educational Events
END:VEVENT
BEGIN:VEVENT
DTSTART;TZID=America/New_York:20280704T190000
DTEND;TZID=America/New_York:20280704T200000
DTSTAMP:20260425T124224
CREATED:20240318T020615Z
LAST-MODIFIED:20240516T164910Z
UID:10001482-1846350000-1846353600@christmemorialbaptist.com
SUMMARY:BIBLE STUDY
DESCRIPTION:
URL:https://christmemorialbaptist.com/event/bible-study/2028-07-04/
LOCATION:Christ Memorial Baptist\, 1023 Dutchtown Rd\, Savannah\, GA\, 31406\, United States
CATEGORIES:Educational Events
END:VEVENT
END:VCALENDAR