BEGIN:VCALENDAR
VERSION:2.0
PRODID:-//Christ Memorial Baptist Church - ECPv6.15.20//NONSGML v1.0//EN
CALSCALE:GREGORIAN
METHOD:PUBLISH
X-WR-CALNAME:Christ Memorial Baptist Church
X-ORIGINAL-URL:https://christmemorialbaptist.com
X-WR-CALDESC:Events for Christ Memorial Baptist Church
REFRESH-INTERVAL;VALUE=DURATION:PT1H
X-Robots-Tag:noindex
X-PUBLISHED-TTL:PT1H
BEGIN:VTIMEZONE
TZID:America/New_York
BEGIN:DAYLIGHT
TZOFFSETFROM:-0500
TZOFFSETTO:-0400
TZNAME:EDT
DTSTART:20270314T070000
END:DAYLIGHT
BEGIN:STANDARD
TZOFFSETFROM:-0400
TZOFFSETTO:-0500
TZNAME:EST
DTSTART:20271107T060000
END:STANDARD
BEGIN:DAYLIGHT
TZOFFSETFROM:-0500
TZOFFSETTO:-0400
TZNAME:EDT
DTSTART:20280312T070000
END:DAYLIGHT
BEGIN:STANDARD
TZOFFSETFROM:-0400
TZOFFSETTO:-0500
TZNAME:EST
DTSTART:20281105T060000
END:STANDARD
BEGIN:DAYLIGHT
TZOFFSETFROM:-0500
TZOFFSETTO:-0400
TZNAME:EDT
DTSTART:20290311T070000
END:DAYLIGHT
BEGIN:STANDARD
TZOFFSETFROM:-0400
TZOFFSETTO:-0500
TZNAME:EST
DTSTART:20291104T060000
END:STANDARD
BEGIN:DAYLIGHT
TZOFFSETFROM:-0500
TZOFFSETTO:-0400
TZNAME:EDT
DTSTART:20300310T070000
END:DAYLIGHT
BEGIN:STANDARD
TZOFFSETFROM:-0400
TZOFFSETTO:-0500
TZNAME:EST
DTSTART:20301103T060000
END:STANDARD
END:VTIMEZONE
BEGIN:VEVENT
DTSTART;TZID=America/New_York:20281105T094500
DTEND;TZID=America/New_York:20281105T110000
DTSTAMP:20260425T211833
CREATED:20240318T015214Z
LAST-MODIFIED:20240516T162702Z
UID:10000312-1857030300-1857034800@christmemorialbaptist.com
SUMMARY:SUNDAY SCHOOL
DESCRIPTION:
URL:https://christmemorialbaptist.com/event/sunday-school/2028-11-05/
LOCATION:Christ Memorial Baptist\, 1023 Dutchtown Rd\, Savannah\, GA\, 31406\, United States
CATEGORIES:Educational Events
END:VEVENT
BEGIN:VEVENT
DTSTART;TZID=America/New_York:20281107T190000
DTEND;TZID=America/New_York:20281107T200000
DTSTAMP:20260425T211833
CREATED:20240318T020615Z
LAST-MODIFIED:20240516T164910Z
UID:10001500-1857236400-1857240000@christmemorialbaptist.com
SUMMARY:BIBLE STUDY
DESCRIPTION:
URL:https://christmemorialbaptist.com/event/bible-study/2028-11-07/
LOCATION:Christ Memorial Baptist\, 1023 Dutchtown Rd\, Savannah\, GA\, 31406\, United States
CATEGORIES:Educational Events
END:VEVENT
BEGIN:VEVENT
DTSTART;TZID=America/New_York:20281112T094500
DTEND;TZID=America/New_York:20281112T110000
DTSTAMP:20260425T211833
CREATED:20240318T015214Z
LAST-MODIFIED:20240516T162702Z
UID:10000313-1857635100-1857639600@christmemorialbaptist.com
SUMMARY:SUNDAY SCHOOL
DESCRIPTION:
URL:https://christmemorialbaptist.com/event/sunday-school/2028-11-12/
LOCATION:Christ Memorial Baptist\, 1023 Dutchtown Rd\, Savannah\, GA\, 31406\, United States
CATEGORIES:Educational Events
END:VEVENT
BEGIN:VEVENT
DTSTART;TZID=America/New_York:20281114T190000
DTEND;TZID=America/New_York:20281114T200000
DTSTAMP:20260425T211833
CREATED:20240318T020615Z
LAST-MODIFIED:20240516T164910Z
UID:10001501-1857841200-1857844800@christmemorialbaptist.com
SUMMARY:BIBLE STUDY
DESCRIPTION:
URL:https://christmemorialbaptist.com/event/bible-study/2028-11-14/
LOCATION:Christ Memorial Baptist\, 1023 Dutchtown Rd\, Savannah\, GA\, 31406\, United States
CATEGORIES:Educational Events
END:VEVENT
BEGIN:VEVENT
DTSTART;TZID=America/New_York:20281119T094500
DTEND;TZID=America/New_York:20281119T110000
DTSTAMP:20260425T211833
CREATED:20240318T015214Z
LAST-MODIFIED:20240516T162702Z
UID:10000314-1858239900-1858244400@christmemorialbaptist.com
SUMMARY:SUNDAY SCHOOL
DESCRIPTION:
URL:https://christmemorialbaptist.com/event/sunday-school/2028-11-19/
LOCATION:Christ Memorial Baptist\, 1023 Dutchtown Rd\, Savannah\, GA\, 31406\, United States
CATEGORIES:Educational Events
END:VEVENT
BEGIN:VEVENT
DTSTART;TZID=America/New_York:20281121T190000
DTEND;TZID=America/New_York:20281121T200000
DTSTAMP:20260425T211833
CREATED:20240318T020615Z
LAST-MODIFIED:20240516T164910Z
UID:10001502-1858446000-1858449600@christmemorialbaptist.com
SUMMARY:BIBLE STUDY
DESCRIPTION:
URL:https://christmemorialbaptist.com/event/bible-study/2028-11-21/
LOCATION:Christ Memorial Baptist\, 1023 Dutchtown Rd\, Savannah\, GA\, 31406\, United States
CATEGORIES:Educational Events
END:VEVENT
BEGIN:VEVENT
DTSTART;TZID=America/New_York:20281126T094500
DTEND;TZID=America/New_York:20281126T110000
DTSTAMP:20260425T211833
CREATED:20240318T015214Z
LAST-MODIFIED:20240516T162702Z
UID:10000315-1858844700-1858849200@christmemorialbaptist.com
SUMMARY:SUNDAY SCHOOL
DESCRIPTION:
URL:https://christmemorialbaptist.com/event/sunday-school/2028-11-26/
LOCATION:Christ Memorial Baptist\, 1023 Dutchtown Rd\, Savannah\, GA\, 31406\, United States
CATEGORIES:Educational Events
END:VEVENT
BEGIN:VEVENT
DTSTART;TZID=America/New_York:20281128T190000
DTEND;TZID=America/New_York:20281128T200000
DTSTAMP:20260425T211833
CREATED:20240318T020615Z
LAST-MODIFIED:20240516T164910Z
UID:10001503-1859050800-1859054400@christmemorialbaptist.com
SUMMARY:BIBLE STUDY
DESCRIPTION:
URL:https://christmemorialbaptist.com/event/bible-study/2028-11-28/
LOCATION:Christ Memorial Baptist\, 1023 Dutchtown Rd\, Savannah\, GA\, 31406\, United States
CATEGORIES:Educational Events
END:VEVENT
BEGIN:VEVENT
DTSTART;TZID=America/New_York:20281203T094500
DTEND;TZID=America/New_York:20281203T110000
DTSTAMP:20260425T211833
CREATED:20240318T015214Z
LAST-MODIFIED:20240516T162702Z
UID:10000316-1859449500-1859454000@christmemorialbaptist.com
SUMMARY:SUNDAY SCHOOL
DESCRIPTION:
URL:https://christmemorialbaptist.com/event/sunday-school/2028-12-03/
LOCATION:Christ Memorial Baptist\, 1023 Dutchtown Rd\, Savannah\, GA\, 31406\, United States
CATEGORIES:Educational Events
END:VEVENT
BEGIN:VEVENT
DTSTART;TZID=America/New_York:20281205T190000
DTEND;TZID=America/New_York:20281205T200000
DTSTAMP:20260425T211833
CREATED:20240318T020615Z
LAST-MODIFIED:20240516T164910Z
UID:10001504-1859655600-1859659200@christmemorialbaptist.com
SUMMARY:BIBLE STUDY
DESCRIPTION:
URL:https://christmemorialbaptist.com/event/bible-study/2028-12-05/
LOCATION:Christ Memorial Baptist\, 1023 Dutchtown Rd\, Savannah\, GA\, 31406\, United States
CATEGORIES:Educational Events
END:VEVENT
BEGIN:VEVENT
DTSTART;TZID=America/New_York:20281210T094500
DTEND;TZID=America/New_York:20281210T110000
DTSTAMP:20260425T211833
CREATED:20240318T015214Z
LAST-MODIFIED:20240516T162702Z
UID:10000317-1860054300-1860058800@christmemorialbaptist.com
SUMMARY:SUNDAY SCHOOL
DESCRIPTION:
URL:https://christmemorialbaptist.com/event/sunday-school/2028-12-10/
LOCATION:Christ Memorial Baptist\, 1023 Dutchtown Rd\, Savannah\, GA\, 31406\, United States
CATEGORIES:Educational Events
END:VEVENT
BEGIN:VEVENT
DTSTART;TZID=America/New_York:20281212T190000
DTEND;TZID=America/New_York:20281212T200000
DTSTAMP:20260425T211833
CREATED:20240318T020615Z
LAST-MODIFIED:20240516T164910Z
UID:10001505-1860260400-1860264000@christmemorialbaptist.com
SUMMARY:BIBLE STUDY
DESCRIPTION:
URL:https://christmemorialbaptist.com/event/bible-study/2028-12-12/
LOCATION:Christ Memorial Baptist\, 1023 Dutchtown Rd\, Savannah\, GA\, 31406\, United States
CATEGORIES:Educational Events
END:VEVENT
BEGIN:VEVENT
DTSTART;TZID=America/New_York:20281217T094500
DTEND;TZID=America/New_York:20281217T110000
DTSTAMP:20260425T211833
CREATED:20240318T015214Z
LAST-MODIFIED:20240516T162702Z
UID:10000318-1860659100-1860663600@christmemorialbaptist.com
SUMMARY:SUNDAY SCHOOL
DESCRIPTION:
URL:https://christmemorialbaptist.com/event/sunday-school/2028-12-17/
LOCATION:Christ Memorial Baptist\, 1023 Dutchtown Rd\, Savannah\, GA\, 31406\, United States
CATEGORIES:Educational Events
END:VEVENT
BEGIN:VEVENT
DTSTART;TZID=America/New_York:20281219T190000
DTEND;TZID=America/New_York:20281219T200000
DTSTAMP:20260425T211833
CREATED:20240318T020615Z
LAST-MODIFIED:20240516T164910Z
UID:10001506-1860865200-1860868800@christmemorialbaptist.com
SUMMARY:BIBLE STUDY
DESCRIPTION:
URL:https://christmemorialbaptist.com/event/bible-study/2028-12-19/
LOCATION:Christ Memorial Baptist\, 1023 Dutchtown Rd\, Savannah\, GA\, 31406\, United States
CATEGORIES:Educational Events
END:VEVENT
BEGIN:VEVENT
DTSTART;TZID=America/New_York:20281224T094500
DTEND;TZID=America/New_York:20281224T110000
DTSTAMP:20260425T211833
CREATED:20240318T015214Z
LAST-MODIFIED:20240516T162702Z
UID:10000319-1861263900-1861268400@christmemorialbaptist.com
SUMMARY:SUNDAY SCHOOL
DESCRIPTION:
URL:https://christmemorialbaptist.com/event/sunday-school/2028-12-24/
LOCATION:Christ Memorial Baptist\, 1023 Dutchtown Rd\, Savannah\, GA\, 31406\, United States
CATEGORIES:Educational Events
END:VEVENT
BEGIN:VEVENT
DTSTART;TZID=America/New_York:20281226T190000
DTEND;TZID=America/New_York:20281226T200000
DTSTAMP:20260425T211833
CREATED:20240318T020615Z
LAST-MODIFIED:20240516T164910Z
UID:10001507-1861470000-1861473600@christmemorialbaptist.com
SUMMARY:BIBLE STUDY
DESCRIPTION:
URL:https://christmemorialbaptist.com/event/bible-study/2028-12-26/
LOCATION:Christ Memorial Baptist\, 1023 Dutchtown Rd\, Savannah\, GA\, 31406\, United States
CATEGORIES:Educational Events
END:VEVENT
BEGIN:VEVENT
DTSTART;TZID=America/New_York:20281231T094500
DTEND;TZID=America/New_York:20281231T110000
DTSTAMP:20260425T211833
CREATED:20240318T015214Z
LAST-MODIFIED:20240516T162702Z
UID:10000320-1861868700-1861873200@christmemorialbaptist.com
SUMMARY:SUNDAY SCHOOL
DESCRIPTION:
URL:https://christmemorialbaptist.com/event/sunday-school/2028-12-31/
LOCATION:Christ Memorial Baptist\, 1023 Dutchtown Rd\, Savannah\, GA\, 31406\, United States
CATEGORIES:Educational Events
END:VEVENT
BEGIN:VEVENT
DTSTART;TZID=America/New_York:20290102T190000
DTEND;TZID=America/New_York:20290102T200000
DTSTAMP:20260425T211833
CREATED:20240318T020615Z
LAST-MODIFIED:20240516T164910Z
UID:10001508-1862074800-1862078400@christmemorialbaptist.com
SUMMARY:BIBLE STUDY
DESCRIPTION:
URL:https://christmemorialbaptist.com/event/bible-study/2029-01-02/
LOCATION:Christ Memorial Baptist\, 1023 Dutchtown Rd\, Savannah\, GA\, 31406\, United States
CATEGORIES:Educational Events
END:VEVENT
BEGIN:VEVENT
DTSTART;TZID=America/New_York:20290107T094500
DTEND;TZID=America/New_York:20290107T110000
DTSTAMP:20260425T211833
CREATED:20240318T015214Z
LAST-MODIFIED:20240516T162702Z
UID:10000321-1862473500-1862478000@christmemorialbaptist.com
SUMMARY:SUNDAY SCHOOL
DESCRIPTION:
URL:https://christmemorialbaptist.com/event/sunday-school/2029-01-07/
LOCATION:Christ Memorial Baptist\, 1023 Dutchtown Rd\, Savannah\, GA\, 31406\, United States
CATEGORIES:Educational Events
END:VEVENT
BEGIN:VEVENT
DTSTART;TZID=America/New_York:20290109T190000
DTEND;TZID=America/New_York:20290109T200000
DTSTAMP:20260425T211833
CREATED:20240318T020615Z
LAST-MODIFIED:20240516T164910Z
UID:10001509-1862679600-1862683200@christmemorialbaptist.com
SUMMARY:BIBLE STUDY
DESCRIPTION:
URL:https://christmemorialbaptist.com/event/bible-study/2029-01-09/
LOCATION:Christ Memorial Baptist\, 1023 Dutchtown Rd\, Savannah\, GA\, 31406\, United States
CATEGORIES:Educational Events
END:VEVENT
BEGIN:VEVENT
DTSTART;TZID=America/New_York:20290114T094500
DTEND;TZID=America/New_York:20290114T110000
DTSTAMP:20260425T211833
CREATED:20240318T015214Z
LAST-MODIFIED:20240516T162702Z
UID:10000322-1863078300-1863082800@christmemorialbaptist.com
SUMMARY:SUNDAY SCHOOL
DESCRIPTION:
URL:https://christmemorialbaptist.com/event/sunday-school/2029-01-14/
LOCATION:Christ Memorial Baptist\, 1023 Dutchtown Rd\, Savannah\, GA\, 31406\, United States
CATEGORIES:Educational Events
END:VEVENT
BEGIN:VEVENT
DTSTART;TZID=America/New_York:20290116T190000
DTEND;TZID=America/New_York:20290116T200000
DTSTAMP:20260425T211833
CREATED:20240318T020615Z
LAST-MODIFIED:20240516T164910Z
UID:10001510-1863284400-1863288000@christmemorialbaptist.com
SUMMARY:BIBLE STUDY
DESCRIPTION:
URL:https://christmemorialbaptist.com/event/bible-study/2029-01-16/
LOCATION:Christ Memorial Baptist\, 1023 Dutchtown Rd\, Savannah\, GA\, 31406\, United States
CATEGORIES:Educational Events
END:VEVENT
BEGIN:VEVENT
DTSTART;TZID=America/New_York:20290121T094500
DTEND;TZID=America/New_York:20290121T110000
DTSTAMP:20260425T211833
CREATED:20240318T015214Z
LAST-MODIFIED:20240516T162702Z
UID:10000323-1863683100-1863687600@christmemorialbaptist.com
SUMMARY:SUNDAY SCHOOL
DESCRIPTION:
URL:https://christmemorialbaptist.com/event/sunday-school/2029-01-21/
LOCATION:Christ Memorial Baptist\, 1023 Dutchtown Rd\, Savannah\, GA\, 31406\, United States
CATEGORIES:Educational Events
END:VEVENT
BEGIN:VEVENT
DTSTART;TZID=America/New_York:20290123T190000
DTEND;TZID=America/New_York:20290123T200000
DTSTAMP:20260425T211833
CREATED:20240318T020615Z
LAST-MODIFIED:20240516T164910Z
UID:10001511-1863889200-1863892800@christmemorialbaptist.com
SUMMARY:BIBLE STUDY
DESCRIPTION:
URL:https://christmemorialbaptist.com/event/bible-study/2029-01-23/
LOCATION:Christ Memorial Baptist\, 1023 Dutchtown Rd\, Savannah\, GA\, 31406\, United States
CATEGORIES:Educational Events
END:VEVENT
BEGIN:VEVENT
DTSTART;TZID=America/New_York:20290128T094500
DTEND;TZID=America/New_York:20290128T110000
DTSTAMP:20260425T211833
CREATED:20240318T015214Z
LAST-MODIFIED:20240516T162702Z
UID:10000324-1864287900-1864292400@christmemorialbaptist.com
SUMMARY:SUNDAY SCHOOL
DESCRIPTION:
URL:https://christmemorialbaptist.com/event/sunday-school/2029-01-28/
LOCATION:Christ Memorial Baptist\, 1023 Dutchtown Rd\, Savannah\, GA\, 31406\, United States
CATEGORIES:Educational Events
END:VEVENT
BEGIN:VEVENT
DTSTART;TZID=America/New_York:20290130T190000
DTEND;TZID=America/New_York:20290130T200000
DTSTAMP:20260425T211833
CREATED:20240318T020615Z
LAST-MODIFIED:20240516T164910Z
UID:10001512-1864494000-1864497600@christmemorialbaptist.com
SUMMARY:BIBLE STUDY
DESCRIPTION:
URL:https://christmemorialbaptist.com/event/bible-study/2029-01-30/
LOCATION:Christ Memorial Baptist\, 1023 Dutchtown Rd\, Savannah\, GA\, 31406\, United States
CATEGORIES:Educational Events
END:VEVENT
BEGIN:VEVENT
DTSTART;TZID=America/New_York:20290204T094500
DTEND;TZID=America/New_York:20290204T110000
DTSTAMP:20260425T211833
CREATED:20240318T015214Z
LAST-MODIFIED:20240516T162702Z
UID:10000325-1864892700-1864897200@christmemorialbaptist.com
SUMMARY:SUNDAY SCHOOL
DESCRIPTION:
URL:https://christmemorialbaptist.com/event/sunday-school/2029-02-04/
LOCATION:Christ Memorial Baptist\, 1023 Dutchtown Rd\, Savannah\, GA\, 31406\, United States
CATEGORIES:Educational Events
END:VEVENT
BEGIN:VEVENT
DTSTART;TZID=America/New_York:20290206T190000
DTEND;TZID=America/New_York:20290206T200000
DTSTAMP:20260425T211833
CREATED:20240318T020615Z
LAST-MODIFIED:20240516T164910Z
UID:10001513-1865098800-1865102400@christmemorialbaptist.com
SUMMARY:BIBLE STUDY
DESCRIPTION:
URL:https://christmemorialbaptist.com/event/bible-study/2029-02-06/
LOCATION:Christ Memorial Baptist\, 1023 Dutchtown Rd\, Savannah\, GA\, 31406\, United States
CATEGORIES:Educational Events
END:VEVENT
BEGIN:VEVENT
DTSTART;TZID=America/New_York:20290211T094500
DTEND;TZID=America/New_York:20290211T110000
DTSTAMP:20260425T211833
CREATED:20240318T015214Z
LAST-MODIFIED:20240516T162702Z
UID:10000326-1865497500-1865502000@christmemorialbaptist.com
SUMMARY:SUNDAY SCHOOL
DESCRIPTION:
URL:https://christmemorialbaptist.com/event/sunday-school/2029-02-11/
LOCATION:Christ Memorial Baptist\, 1023 Dutchtown Rd\, Savannah\, GA\, 31406\, United States
CATEGORIES:Educational Events
END:VEVENT
BEGIN:VEVENT
DTSTART;TZID=America/New_York:20290213T190000
DTEND;TZID=America/New_York:20290213T200000
DTSTAMP:20260425T211833
CREATED:20240318T020615Z
LAST-MODIFIED:20240516T164910Z
UID:10001514-1865703600-1865707200@christmemorialbaptist.com
SUMMARY:BIBLE STUDY
DESCRIPTION:
URL:https://christmemorialbaptist.com/event/bible-study/2029-02-13/
LOCATION:Christ Memorial Baptist\, 1023 Dutchtown Rd\, Savannah\, GA\, 31406\, United States
CATEGORIES:Educational Events
END:VEVENT
END:VCALENDAR