BEGIN:VCALENDAR
VERSION:2.0
PRODID:-//Christ Memorial Baptist Church - ECPv6.15.20//NONSGML v1.0//EN
CALSCALE:GREGORIAN
METHOD:PUBLISH
X-ORIGINAL-URL:https://christmemorialbaptist.com
X-WR-CALDESC:Events for Christ Memorial Baptist Church
REFRESH-INTERVAL;VALUE=DURATION:PT1H
X-Robots-Tag:noindex
X-PUBLISHED-TTL:PT1H
BEGIN:VTIMEZONE
TZID:America/New_York
BEGIN:DAYLIGHT
TZOFFSETFROM:-0500
TZOFFSETTO:-0400
TZNAME:EDT
DTSTART:20270314T070000
END:DAYLIGHT
BEGIN:STANDARD
TZOFFSETFROM:-0400
TZOFFSETTO:-0500
TZNAME:EST
DTSTART:20271107T060000
END:STANDARD
BEGIN:DAYLIGHT
TZOFFSETFROM:-0500
TZOFFSETTO:-0400
TZNAME:EDT
DTSTART:20280312T070000
END:DAYLIGHT
BEGIN:STANDARD
TZOFFSETFROM:-0400
TZOFFSETTO:-0500
TZNAME:EST
DTSTART:20281105T060000
END:STANDARD
BEGIN:DAYLIGHT
TZOFFSETFROM:-0500
TZOFFSETTO:-0400
TZNAME:EDT
DTSTART:20290311T070000
END:DAYLIGHT
BEGIN:STANDARD
TZOFFSETFROM:-0400
TZOFFSETTO:-0500
TZNAME:EST
DTSTART:20291104T060000
END:STANDARD
BEGIN:DAYLIGHT
TZOFFSETFROM:-0500
TZOFFSETTO:-0400
TZNAME:EDT
DTSTART:20300310T070000
END:DAYLIGHT
BEGIN:STANDARD
TZOFFSETFROM:-0400
TZOFFSETTO:-0500
TZNAME:EST
DTSTART:20301103T060000
END:STANDARD
END:VTIMEZONE
BEGIN:VEVENT
DTSTART;TZID=America/New_York:20281003T180000
DTEND;TZID=America/New_York:20281003T190000
DTSTAMP:20260425T174939
CREATED:20240318T020448Z
LAST-MODIFIED:20240516T165113Z
UID:10001824-1854208800-1854212400@christmemorialbaptist.com
SUMMARY:PRAYER MEETING
DESCRIPTION:
URL:https://christmemorialbaptist.com/event/prayer-meeting/2028-10-03/
LOCATION:Christ Memorial Baptist\, 1023 Dutchtown Rd\, Savannah\, GA\, 31406\, United States
CATEGORIES:Prayer and Spiritual Meetings
END:VEVENT
BEGIN:VEVENT
DTSTART;TZID=America/New_York:20281003T180000
DTEND;TZID=America/New_York:20281003T190000
DTSTAMP:20260425T174939
CREATED:20240318T022106Z
LAST-MODIFIED:20240516T163527Z
UID:10000577-1854208800-1854212400@christmemorialbaptist.com
SUMMARY:DEACONESS MEETING
DESCRIPTION:
URL:https://christmemorialbaptist.com/event/deaconess-meeting/2028-10-03/
LOCATION:Christ Memorial Baptist\, 1023 Dutchtown Rd\, Savannah\, GA\, 31406\, United States
CATEGORIES:Prayer and Spiritual Meetings
END:VEVENT
BEGIN:VEVENT
DTSTART;TZID=America/New_York:20281010T180000
DTEND;TZID=America/New_York:20281010T190000
DTSTAMP:20260425T174939
CREATED:20240318T020448Z
LAST-MODIFIED:20240516T165113Z
UID:10001825-1854813600-1854817200@christmemorialbaptist.com
SUMMARY:PRAYER MEETING
DESCRIPTION:
URL:https://christmemorialbaptist.com/event/prayer-meeting/2028-10-10/
LOCATION:Christ Memorial Baptist\, 1023 Dutchtown Rd\, Savannah\, GA\, 31406\, United States
CATEGORIES:Prayer and Spiritual Meetings
END:VEVENT
BEGIN:VEVENT
DTSTART;TZID=America/New_York:20281010T180000
DTEND;TZID=America/New_York:20281010T190000
DTSTAMP:20260425T174939
CREATED:20240318T021233Z
LAST-MODIFIED:20240516T162328Z
UID:10000393-1854813600-1854817200@christmemorialbaptist.com
SUMMARY:MISSION MEETING
DESCRIPTION:
URL:https://christmemorialbaptist.com/event/mission-meeting/2028-10-10/
LOCATION:Christ Memorial Baptist\, 1023 Dutchtown Rd\, Savannah\, GA\, 31406\, United States
CATEGORIES:Prayer and Spiritual Meetings
END:VEVENT
BEGIN:VEVENT
DTSTART;TZID=America/New_York:20281017T180000
DTEND;TZID=America/New_York:20281017T190000
DTSTAMP:20260425T174939
CREATED:20240318T020448Z
LAST-MODIFIED:20240516T165113Z
UID:10001826-1855418400-1855422000@christmemorialbaptist.com
SUMMARY:PRAYER MEETING
DESCRIPTION:
URL:https://christmemorialbaptist.com/event/prayer-meeting/2028-10-17/
LOCATION:Christ Memorial Baptist\, 1023 Dutchtown Rd\, Savannah\, GA\, 31406\, United States
CATEGORIES:Prayer and Spiritual Meetings
END:VEVENT
BEGIN:VEVENT
DTSTART;TZID=America/New_York:20281024T180000
DTEND;TZID=America/New_York:20281024T190000
DTSTAMP:20260425T174939
CREATED:20240318T020448Z
LAST-MODIFIED:20240516T165113Z
UID:10001827-1856023200-1856026800@christmemorialbaptist.com
SUMMARY:PRAYER MEETING
DESCRIPTION:
URL:https://christmemorialbaptist.com/event/prayer-meeting/2028-10-24/
LOCATION:Christ Memorial Baptist\, 1023 Dutchtown Rd\, Savannah\, GA\, 31406\, United States
CATEGORIES:Prayer and Spiritual Meetings
END:VEVENT
BEGIN:VEVENT
DTSTART;TZID=America/New_York:20281024T180000
DTEND;TZID=America/New_York:20281024T190000
DTSTAMP:20260425T174939
CREATED:20240318T021954Z
LAST-MODIFIED:20240516T165009Z
UID:10001582-1856023200-1856026800@christmemorialbaptist.com
SUMMARY:DEACON’S MEETING
DESCRIPTION:
URL:https://christmemorialbaptist.com/event/deacons-meeting/2028-10-24/
LOCATION:Christ Memorial Baptist\, 1023 Dutchtown Rd\, Savannah\, GA\, 31406\, United States
CATEGORIES:Prayer and Spiritual Meetings
END:VEVENT
BEGIN:VEVENT
DTSTART;TZID=America/New_York:20281031T180000
DTEND;TZID=America/New_York:20281031T190000
DTSTAMP:20260425T174939
CREATED:20240318T020448Z
LAST-MODIFIED:20240516T165113Z
UID:10001828-1856628000-1856631600@christmemorialbaptist.com
SUMMARY:PRAYER MEETING
DESCRIPTION:
URL:https://christmemorialbaptist.com/event/prayer-meeting/2028-10-31/
LOCATION:Christ Memorial Baptist\, 1023 Dutchtown Rd\, Savannah\, GA\, 31406\, United States
CATEGORIES:Prayer and Spiritual Meetings
END:VEVENT
BEGIN:VEVENT
DTSTART;TZID=America/New_York:20281107T180000
DTEND;TZID=America/New_York:20281107T190000
DTSTAMP:20260425T174939
CREATED:20240318T020448Z
LAST-MODIFIED:20240516T165113Z
UID:10001829-1857232800-1857236400@christmemorialbaptist.com
SUMMARY:PRAYER MEETING
DESCRIPTION:
URL:https://christmemorialbaptist.com/event/prayer-meeting/2028-11-07/
LOCATION:Christ Memorial Baptist\, 1023 Dutchtown Rd\, Savannah\, GA\, 31406\, United States
CATEGORIES:Prayer and Spiritual Meetings
END:VEVENT
BEGIN:VEVENT
DTSTART;TZID=America/New_York:20281107T180000
DTEND;TZID=America/New_York:20281107T190000
DTSTAMP:20260425T174939
CREATED:20240318T022106Z
LAST-MODIFIED:20240516T163527Z
UID:10000578-1857232800-1857236400@christmemorialbaptist.com
SUMMARY:DEACONESS MEETING
DESCRIPTION:
URL:https://christmemorialbaptist.com/event/deaconess-meeting/2028-11-07/
LOCATION:Christ Memorial Baptist\, 1023 Dutchtown Rd\, Savannah\, GA\, 31406\, United States
CATEGORIES:Prayer and Spiritual Meetings
END:VEVENT
BEGIN:VEVENT
DTSTART;TZID=America/New_York:20281114T180000
DTEND;TZID=America/New_York:20281114T190000
DTSTAMP:20260425T174939
CREATED:20240318T020448Z
LAST-MODIFIED:20240516T165113Z
UID:10001830-1857837600-1857841200@christmemorialbaptist.com
SUMMARY:PRAYER MEETING
DESCRIPTION:
URL:https://christmemorialbaptist.com/event/prayer-meeting/2028-11-14/
LOCATION:Christ Memorial Baptist\, 1023 Dutchtown Rd\, Savannah\, GA\, 31406\, United States
CATEGORIES:Prayer and Spiritual Meetings
END:VEVENT
BEGIN:VEVENT
DTSTART;TZID=America/New_York:20281114T180000
DTEND;TZID=America/New_York:20281114T190000
DTSTAMP:20260425T174939
CREATED:20240318T021233Z
LAST-MODIFIED:20240516T162328Z
UID:10000394-1857837600-1857841200@christmemorialbaptist.com
SUMMARY:MISSION MEETING
DESCRIPTION:
URL:https://christmemorialbaptist.com/event/mission-meeting/2028-11-14/
LOCATION:Christ Memorial Baptist\, 1023 Dutchtown Rd\, Savannah\, GA\, 31406\, United States
CATEGORIES:Prayer and Spiritual Meetings
END:VEVENT
BEGIN:VEVENT
DTSTART;TZID=America/New_York:20281121T180000
DTEND;TZID=America/New_York:20281121T190000
DTSTAMP:20260425T174939
CREATED:20240318T020448Z
LAST-MODIFIED:20240516T165113Z
UID:10001831-1858442400-1858446000@christmemorialbaptist.com
SUMMARY:PRAYER MEETING
DESCRIPTION:
URL:https://christmemorialbaptist.com/event/prayer-meeting/2028-11-21/
LOCATION:Christ Memorial Baptist\, 1023 Dutchtown Rd\, Savannah\, GA\, 31406\, United States
CATEGORIES:Prayer and Spiritual Meetings
END:VEVENT
BEGIN:VEVENT
DTSTART;TZID=America/New_York:20281128T180000
DTEND;TZID=America/New_York:20281128T190000
DTSTAMP:20260425T174939
CREATED:20240318T020448Z
LAST-MODIFIED:20240516T165113Z
UID:10001832-1859047200-1859050800@christmemorialbaptist.com
SUMMARY:PRAYER MEETING
DESCRIPTION:
URL:https://christmemorialbaptist.com/event/prayer-meeting/2028-11-28/
LOCATION:Christ Memorial Baptist\, 1023 Dutchtown Rd\, Savannah\, GA\, 31406\, United States
CATEGORIES:Prayer and Spiritual Meetings
END:VEVENT
BEGIN:VEVENT
DTSTART;TZID=America/New_York:20281128T180000
DTEND;TZID=America/New_York:20281128T190000
DTSTAMP:20260425T174939
CREATED:20240318T021954Z
LAST-MODIFIED:20240516T165009Z
UID:10001583-1859047200-1859050800@christmemorialbaptist.com
SUMMARY:DEACON’S MEETING
DESCRIPTION:
URL:https://christmemorialbaptist.com/event/deacons-meeting/2028-11-28/
LOCATION:Christ Memorial Baptist\, 1023 Dutchtown Rd\, Savannah\, GA\, 31406\, United States
CATEGORIES:Prayer and Spiritual Meetings
END:VEVENT
BEGIN:VEVENT
DTSTART;TZID=America/New_York:20281205T180000
DTEND;TZID=America/New_York:20281205T190000
DTSTAMP:20260425T174939
CREATED:20240318T020448Z
LAST-MODIFIED:20240516T165113Z
UID:10001833-1859652000-1859655600@christmemorialbaptist.com
SUMMARY:PRAYER MEETING
DESCRIPTION:
URL:https://christmemorialbaptist.com/event/prayer-meeting/2028-12-05/
LOCATION:Christ Memorial Baptist\, 1023 Dutchtown Rd\, Savannah\, GA\, 31406\, United States
CATEGORIES:Prayer and Spiritual Meetings
END:VEVENT
BEGIN:VEVENT
DTSTART;TZID=America/New_York:20281205T180000
DTEND;TZID=America/New_York:20281205T190000
DTSTAMP:20260425T174939
CREATED:20240318T022106Z
LAST-MODIFIED:20240516T163527Z
UID:10000579-1859652000-1859655600@christmemorialbaptist.com
SUMMARY:DEACONESS MEETING
DESCRIPTION:
URL:https://christmemorialbaptist.com/event/deaconess-meeting/2028-12-05/
LOCATION:Christ Memorial Baptist\, 1023 Dutchtown Rd\, Savannah\, GA\, 31406\, United States
CATEGORIES:Prayer and Spiritual Meetings
END:VEVENT
BEGIN:VEVENT
DTSTART;TZID=America/New_York:20281212T180000
DTEND;TZID=America/New_York:20281212T190000
DTSTAMP:20260425T174939
CREATED:20240318T020448Z
LAST-MODIFIED:20240516T165113Z
UID:10001834-1860256800-1860260400@christmemorialbaptist.com
SUMMARY:PRAYER MEETING
DESCRIPTION:
URL:https://christmemorialbaptist.com/event/prayer-meeting/2028-12-12/
LOCATION:Christ Memorial Baptist\, 1023 Dutchtown Rd\, Savannah\, GA\, 31406\, United States
CATEGORIES:Prayer and Spiritual Meetings
END:VEVENT
BEGIN:VEVENT
DTSTART;TZID=America/New_York:20281212T180000
DTEND;TZID=America/New_York:20281212T190000
DTSTAMP:20260425T174939
CREATED:20240318T021233Z
LAST-MODIFIED:20240516T162328Z
UID:10000395-1860256800-1860260400@christmemorialbaptist.com
SUMMARY:MISSION MEETING
DESCRIPTION:
URL:https://christmemorialbaptist.com/event/mission-meeting/2028-12-12/
LOCATION:Christ Memorial Baptist\, 1023 Dutchtown Rd\, Savannah\, GA\, 31406\, United States
CATEGORIES:Prayer and Spiritual Meetings
END:VEVENT
BEGIN:VEVENT
DTSTART;TZID=America/New_York:20281219T180000
DTEND;TZID=America/New_York:20281219T190000
DTSTAMP:20260425T174939
CREATED:20240318T020448Z
LAST-MODIFIED:20240516T165113Z
UID:10001835-1860861600-1860865200@christmemorialbaptist.com
SUMMARY:PRAYER MEETING
DESCRIPTION:
URL:https://christmemorialbaptist.com/event/prayer-meeting/2028-12-19/
LOCATION:Christ Memorial Baptist\, 1023 Dutchtown Rd\, Savannah\, GA\, 31406\, United States
CATEGORIES:Prayer and Spiritual Meetings
END:VEVENT
BEGIN:VEVENT
DTSTART;TZID=America/New_York:20281226T180000
DTEND;TZID=America/New_York:20281226T190000
DTSTAMP:20260425T174939
CREATED:20240318T020448Z
LAST-MODIFIED:20240516T165113Z
UID:10001836-1861466400-1861470000@christmemorialbaptist.com
SUMMARY:PRAYER MEETING
DESCRIPTION:
URL:https://christmemorialbaptist.com/event/prayer-meeting/2028-12-26/
LOCATION:Christ Memorial Baptist\, 1023 Dutchtown Rd\, Savannah\, GA\, 31406\, United States
CATEGORIES:Prayer and Spiritual Meetings
END:VEVENT
BEGIN:VEVENT
DTSTART;TZID=America/New_York:20281226T180000
DTEND;TZID=America/New_York:20281226T190000
DTSTAMP:20260425T174939
CREATED:20240318T021954Z
LAST-MODIFIED:20240516T165009Z
UID:10001584-1861466400-1861470000@christmemorialbaptist.com
SUMMARY:DEACON’S MEETING
DESCRIPTION:
URL:https://christmemorialbaptist.com/event/deacons-meeting/2028-12-26/
LOCATION:Christ Memorial Baptist\, 1023 Dutchtown Rd\, Savannah\, GA\, 31406\, United States
CATEGORIES:Prayer and Spiritual Meetings
END:VEVENT
BEGIN:VEVENT
DTSTART;TZID=America/New_York:20290102T180000
DTEND;TZID=America/New_York:20290102T190000
DTSTAMP:20260425T174939
CREATED:20240318T020448Z
LAST-MODIFIED:20240516T165113Z
UID:10001837-1862071200-1862074800@christmemorialbaptist.com
SUMMARY:PRAYER MEETING
DESCRIPTION:
URL:https://christmemorialbaptist.com/event/prayer-meeting/2029-01-02/
LOCATION:Christ Memorial Baptist\, 1023 Dutchtown Rd\, Savannah\, GA\, 31406\, United States
CATEGORIES:Prayer and Spiritual Meetings
END:VEVENT
BEGIN:VEVENT
DTSTART;TZID=America/New_York:20290102T180000
DTEND;TZID=America/New_York:20290102T190000
DTSTAMP:20260425T174939
CREATED:20240318T022106Z
LAST-MODIFIED:20240516T163527Z
UID:10000580-1862071200-1862074800@christmemorialbaptist.com
SUMMARY:DEACONESS MEETING
DESCRIPTION:
URL:https://christmemorialbaptist.com/event/deaconess-meeting/2029-01-02/
LOCATION:Christ Memorial Baptist\, 1023 Dutchtown Rd\, Savannah\, GA\, 31406\, United States
CATEGORIES:Prayer and Spiritual Meetings
END:VEVENT
BEGIN:VEVENT
DTSTART;TZID=America/New_York:20290109T180000
DTEND;TZID=America/New_York:20290109T190000
DTSTAMP:20260425T174939
CREATED:20240318T020448Z
LAST-MODIFIED:20240516T165113Z
UID:10001838-1862676000-1862679600@christmemorialbaptist.com
SUMMARY:PRAYER MEETING
DESCRIPTION:
URL:https://christmemorialbaptist.com/event/prayer-meeting/2029-01-09/
LOCATION:Christ Memorial Baptist\, 1023 Dutchtown Rd\, Savannah\, GA\, 31406\, United States
CATEGORIES:Prayer and Spiritual Meetings
END:VEVENT
BEGIN:VEVENT
DTSTART;TZID=America/New_York:20290109T180000
DTEND;TZID=America/New_York:20290109T190000
DTSTAMP:20260425T174939
CREATED:20240318T021233Z
LAST-MODIFIED:20240516T162328Z
UID:10000396-1862676000-1862679600@christmemorialbaptist.com
SUMMARY:MISSION MEETING
DESCRIPTION:
URL:https://christmemorialbaptist.com/event/mission-meeting/2029-01-09/
LOCATION:Christ Memorial Baptist\, 1023 Dutchtown Rd\, Savannah\, GA\, 31406\, United States
CATEGORIES:Prayer and Spiritual Meetings
END:VEVENT
BEGIN:VEVENT
DTSTART;TZID=America/New_York:20290116T180000
DTEND;TZID=America/New_York:20290116T190000
DTSTAMP:20260425T174939
CREATED:20240318T020448Z
LAST-MODIFIED:20240516T165113Z
UID:10001839-1863280800-1863284400@christmemorialbaptist.com
SUMMARY:PRAYER MEETING
DESCRIPTION:
URL:https://christmemorialbaptist.com/event/prayer-meeting/2029-01-16/
LOCATION:Christ Memorial Baptist\, 1023 Dutchtown Rd\, Savannah\, GA\, 31406\, United States
CATEGORIES:Prayer and Spiritual Meetings
END:VEVENT
BEGIN:VEVENT
DTSTART;TZID=America/New_York:20290123T180000
DTEND;TZID=America/New_York:20290123T190000
DTSTAMP:20260425T174939
CREATED:20240318T020448Z
LAST-MODIFIED:20240516T165113Z
UID:10001840-1863885600-1863889200@christmemorialbaptist.com
SUMMARY:PRAYER MEETING
DESCRIPTION:
URL:https://christmemorialbaptist.com/event/prayer-meeting/2029-01-23/
LOCATION:Christ Memorial Baptist\, 1023 Dutchtown Rd\, Savannah\, GA\, 31406\, United States
CATEGORIES:Prayer and Spiritual Meetings
END:VEVENT
BEGIN:VEVENT
DTSTART;TZID=America/New_York:20290123T180000
DTEND;TZID=America/New_York:20290123T190000
DTSTAMP:20260425T174939
CREATED:20240318T021954Z
LAST-MODIFIED:20240516T165009Z
UID:10001585-1863885600-1863889200@christmemorialbaptist.com
SUMMARY:DEACON’S MEETING
DESCRIPTION:
URL:https://christmemorialbaptist.com/event/deacons-meeting/2029-01-23/
LOCATION:Christ Memorial Baptist\, 1023 Dutchtown Rd\, Savannah\, GA\, 31406\, United States
CATEGORIES:Prayer and Spiritual Meetings
END:VEVENT
BEGIN:VEVENT
DTSTART;TZID=America/New_York:20290130T180000
DTEND;TZID=America/New_York:20290130T190000
DTSTAMP:20260425T174939
CREATED:20240318T020448Z
LAST-MODIFIED:20240516T165113Z
UID:10001841-1864490400-1864494000@christmemorialbaptist.com
SUMMARY:PRAYER MEETING
DESCRIPTION:
URL:https://christmemorialbaptist.com/event/prayer-meeting/2029-01-30/
LOCATION:Christ Memorial Baptist\, 1023 Dutchtown Rd\, Savannah\, GA\, 31406\, United States
CATEGORIES:Prayer and Spiritual Meetings
END:VEVENT
END:VCALENDAR