BEGIN:VCALENDAR
VERSION:2.0
PRODID:-//Christ Memorial Baptist Church - ECPv6.15.20//NONSGML v1.0//EN
CALSCALE:GREGORIAN
METHOD:PUBLISH
X-WR-CALNAME:Christ Memorial Baptist Church
X-ORIGINAL-URL:https://christmemorialbaptist.com
X-WR-CALDESC:Events for Christ Memorial Baptist Church
REFRESH-INTERVAL;VALUE=DURATION:PT1H
X-Robots-Tag:noindex
X-PUBLISHED-TTL:PT1H
BEGIN:VTIMEZONE
TZID:America/New_York
BEGIN:DAYLIGHT
TZOFFSETFROM:-0500
TZOFFSETTO:-0400
TZNAME:EDT
DTSTART:20270314T070000
END:DAYLIGHT
BEGIN:STANDARD
TZOFFSETFROM:-0400
TZOFFSETTO:-0500
TZNAME:EST
DTSTART:20271107T060000
END:STANDARD
BEGIN:DAYLIGHT
TZOFFSETFROM:-0500
TZOFFSETTO:-0400
TZNAME:EDT
DTSTART:20280312T070000
END:DAYLIGHT
BEGIN:STANDARD
TZOFFSETFROM:-0400
TZOFFSETTO:-0500
TZNAME:EST
DTSTART:20281105T060000
END:STANDARD
BEGIN:DAYLIGHT
TZOFFSETFROM:-0500
TZOFFSETTO:-0400
TZNAME:EDT
DTSTART:20290311T070000
END:DAYLIGHT
BEGIN:STANDARD
TZOFFSETFROM:-0400
TZOFFSETTO:-0500
TZNAME:EST
DTSTART:20291104T060000
END:STANDARD
BEGIN:DAYLIGHT
TZOFFSETFROM:-0500
TZOFFSETTO:-0400
TZNAME:EDT
DTSTART:20300310T070000
END:DAYLIGHT
BEGIN:STANDARD
TZOFFSETFROM:-0400
TZOFFSETTO:-0500
TZNAME:EST
DTSTART:20301103T060000
END:STANDARD
END:VTIMEZONE
BEGIN:VEVENT
DTSTART;TZID=America/New_York:20280528T110000
DTEND;TZID=America/New_York:20280528T130000
DTSTAMP:20260424T064028
CREATED:20240318T015424Z
LAST-MODIFIED:20240525T140422Z
UID:10000954-1843124400-1843131600@christmemorialbaptist.com
SUMMARY:SUNDAY MORNING SERVICE
DESCRIPTION:
URL:https://christmemorialbaptist.com/event/sunday-morning-service/2028-05-28/
LOCATION:Christ Memorial Baptist\, 1023 Dutchtown Rd\, Savannah\, GA\, 31406\, United States
CATEGORIES:Regular Worship Service
ATTACH;FMTTYPE=image/jpeg:https://christmemorialbaptist.com/wp-content/uploads/2024/03/sunday-service.jpg
END:VEVENT
BEGIN:VEVENT
DTSTART;TZID=America/New_York:20280611T110000
DTEND;TZID=America/New_York:20280611T130000
DTSTAMP:20260424T064028
CREATED:20240318T015424Z
LAST-MODIFIED:20240525T140422Z
UID:10000955-1844334000-1844341200@christmemorialbaptist.com
SUMMARY:SUNDAY MORNING SERVICE
DESCRIPTION:
URL:https://christmemorialbaptist.com/event/sunday-morning-service/2028-06-11/
LOCATION:Christ Memorial Baptist\, 1023 Dutchtown Rd\, Savannah\, GA\, 31406\, United States
CATEGORIES:Regular Worship Service
ATTACH;FMTTYPE=image/jpeg:https://christmemorialbaptist.com/wp-content/uploads/2024/03/sunday-service.jpg
END:VEVENT
BEGIN:VEVENT
DTSTART;TZID=America/New_York:20280618T110000
DTEND;TZID=America/New_York:20280618T130000
DTSTAMP:20260424T064028
CREATED:20240318T015424Z
LAST-MODIFIED:20240525T140422Z
UID:10000956-1844938800-1844946000@christmemorialbaptist.com
SUMMARY:SUNDAY MORNING SERVICE
DESCRIPTION:
URL:https://christmemorialbaptist.com/event/sunday-morning-service/2028-06-18/
LOCATION:Christ Memorial Baptist\, 1023 Dutchtown Rd\, Savannah\, GA\, 31406\, United States
CATEGORIES:Regular Worship Service
ATTACH;FMTTYPE=image/jpeg:https://christmemorialbaptist.com/wp-content/uploads/2024/03/sunday-service.jpg
END:VEVENT
BEGIN:VEVENT
DTSTART;TZID=America/New_York:20280625T110000
DTEND;TZID=America/New_York:20280625T130000
DTSTAMP:20260424T064028
CREATED:20240318T015424Z
LAST-MODIFIED:20240525T140422Z
UID:10000957-1845543600-1845550800@christmemorialbaptist.com
SUMMARY:SUNDAY MORNING SERVICE
DESCRIPTION:
URL:https://christmemorialbaptist.com/event/sunday-morning-service/2028-06-25/
LOCATION:Christ Memorial Baptist\, 1023 Dutchtown Rd\, Savannah\, GA\, 31406\, United States
CATEGORIES:Regular Worship Service
ATTACH;FMTTYPE=image/jpeg:https://christmemorialbaptist.com/wp-content/uploads/2024/03/sunday-service.jpg
END:VEVENT
BEGIN:VEVENT
DTSTART;TZID=America/New_York:20280709T110000
DTEND;TZID=America/New_York:20280709T130000
DTSTAMP:20260424T064028
CREATED:20240318T015424Z
LAST-MODIFIED:20240525T140422Z
UID:10000958-1846753200-1846760400@christmemorialbaptist.com
SUMMARY:SUNDAY MORNING SERVICE
DESCRIPTION:
URL:https://christmemorialbaptist.com/event/sunday-morning-service/2028-07-09/
LOCATION:Christ Memorial Baptist\, 1023 Dutchtown Rd\, Savannah\, GA\, 31406\, United States
CATEGORIES:Regular Worship Service
ATTACH;FMTTYPE=image/jpeg:https://christmemorialbaptist.com/wp-content/uploads/2024/03/sunday-service.jpg
END:VEVENT
BEGIN:VEVENT
DTSTART;TZID=America/New_York:20280716T110000
DTEND;TZID=America/New_York:20280716T130000
DTSTAMP:20260424T064028
CREATED:20240318T015424Z
LAST-MODIFIED:20240525T140422Z
UID:10000959-1847358000-1847365200@christmemorialbaptist.com
SUMMARY:SUNDAY MORNING SERVICE
DESCRIPTION:
URL:https://christmemorialbaptist.com/event/sunday-morning-service/2028-07-16/
LOCATION:Christ Memorial Baptist\, 1023 Dutchtown Rd\, Savannah\, GA\, 31406\, United States
CATEGORIES:Regular Worship Service
ATTACH;FMTTYPE=image/jpeg:https://christmemorialbaptist.com/wp-content/uploads/2024/03/sunday-service.jpg
END:VEVENT
BEGIN:VEVENT
DTSTART;TZID=America/New_York:20280723T110000
DTEND;TZID=America/New_York:20280723T130000
DTSTAMP:20260424T064028
CREATED:20240318T015424Z
LAST-MODIFIED:20240525T140422Z
UID:10000960-1847962800-1847970000@christmemorialbaptist.com
SUMMARY:SUNDAY MORNING SERVICE
DESCRIPTION:
URL:https://christmemorialbaptist.com/event/sunday-morning-service/2028-07-23/
LOCATION:Christ Memorial Baptist\, 1023 Dutchtown Rd\, Savannah\, GA\, 31406\, United States
CATEGORIES:Regular Worship Service
ATTACH;FMTTYPE=image/jpeg:https://christmemorialbaptist.com/wp-content/uploads/2024/03/sunday-service.jpg
END:VEVENT
BEGIN:VEVENT
DTSTART;TZID=America/New_York:20280730T110000
DTEND;TZID=America/New_York:20280730T130000
DTSTAMP:20260424T064028
CREATED:20240318T015424Z
LAST-MODIFIED:20240525T140422Z
UID:10000961-1848567600-1848574800@christmemorialbaptist.com
SUMMARY:SUNDAY MORNING SERVICE
DESCRIPTION:
URL:https://christmemorialbaptist.com/event/sunday-morning-service/2028-07-30/
LOCATION:Christ Memorial Baptist\, 1023 Dutchtown Rd\, Savannah\, GA\, 31406\, United States
CATEGORIES:Regular Worship Service
ATTACH;FMTTYPE=image/jpeg:https://christmemorialbaptist.com/wp-content/uploads/2024/03/sunday-service.jpg
END:VEVENT
BEGIN:VEVENT
DTSTART;TZID=America/New_York:20280813T110000
DTEND;TZID=America/New_York:20280813T130000
DTSTAMP:20260424T064028
CREATED:20240318T015424Z
LAST-MODIFIED:20240525T140422Z
UID:10000962-1849777200-1849784400@christmemorialbaptist.com
SUMMARY:SUNDAY MORNING SERVICE
DESCRIPTION:
URL:https://christmemorialbaptist.com/event/sunday-morning-service/2028-08-13/
LOCATION:Christ Memorial Baptist\, 1023 Dutchtown Rd\, Savannah\, GA\, 31406\, United States
CATEGORIES:Regular Worship Service
ATTACH;FMTTYPE=image/jpeg:https://christmemorialbaptist.com/wp-content/uploads/2024/03/sunday-service.jpg
END:VEVENT
BEGIN:VEVENT
DTSTART;TZID=America/New_York:20280820T110000
DTEND;TZID=America/New_York:20280820T130000
DTSTAMP:20260424T064028
CREATED:20240318T015424Z
LAST-MODIFIED:20240525T140422Z
UID:10000963-1850382000-1850389200@christmemorialbaptist.com
SUMMARY:SUNDAY MORNING SERVICE
DESCRIPTION:
URL:https://christmemorialbaptist.com/event/sunday-morning-service/2028-08-20/
LOCATION:Christ Memorial Baptist\, 1023 Dutchtown Rd\, Savannah\, GA\, 31406\, United States
CATEGORIES:Regular Worship Service
ATTACH;FMTTYPE=image/jpeg:https://christmemorialbaptist.com/wp-content/uploads/2024/03/sunday-service.jpg
END:VEVENT
BEGIN:VEVENT
DTSTART;TZID=America/New_York:20280827T110000
DTEND;TZID=America/New_York:20280827T130000
DTSTAMP:20260424T064028
CREATED:20240318T015424Z
LAST-MODIFIED:20240525T140422Z
UID:10000964-1850986800-1850994000@christmemorialbaptist.com
SUMMARY:SUNDAY MORNING SERVICE
DESCRIPTION:
URL:https://christmemorialbaptist.com/event/sunday-morning-service/2028-08-27/
LOCATION:Christ Memorial Baptist\, 1023 Dutchtown Rd\, Savannah\, GA\, 31406\, United States
CATEGORIES:Regular Worship Service
ATTACH;FMTTYPE=image/jpeg:https://christmemorialbaptist.com/wp-content/uploads/2024/03/sunday-service.jpg
END:VEVENT
BEGIN:VEVENT
DTSTART;TZID=America/New_York:20280910T110000
DTEND;TZID=America/New_York:20280910T130000
DTSTAMP:20260424T064028
CREATED:20240318T015424Z
LAST-MODIFIED:20240525T140422Z
UID:10000965-1852196400-1852203600@christmemorialbaptist.com
SUMMARY:SUNDAY MORNING SERVICE
DESCRIPTION:
URL:https://christmemorialbaptist.com/event/sunday-morning-service/2028-09-10/
LOCATION:Christ Memorial Baptist\, 1023 Dutchtown Rd\, Savannah\, GA\, 31406\, United States
CATEGORIES:Regular Worship Service
ATTACH;FMTTYPE=image/jpeg:https://christmemorialbaptist.com/wp-content/uploads/2024/03/sunday-service.jpg
END:VEVENT
BEGIN:VEVENT
DTSTART;TZID=America/New_York:20280917T110000
DTEND;TZID=America/New_York:20280917T130000
DTSTAMP:20260424T064028
CREATED:20240318T015424Z
LAST-MODIFIED:20240525T140422Z
UID:10000966-1852801200-1852808400@christmemorialbaptist.com
SUMMARY:SUNDAY MORNING SERVICE
DESCRIPTION:
URL:https://christmemorialbaptist.com/event/sunday-morning-service/2028-09-17/
LOCATION:Christ Memorial Baptist\, 1023 Dutchtown Rd\, Savannah\, GA\, 31406\, United States
CATEGORIES:Regular Worship Service
ATTACH;FMTTYPE=image/jpeg:https://christmemorialbaptist.com/wp-content/uploads/2024/03/sunday-service.jpg
END:VEVENT
BEGIN:VEVENT
DTSTART;TZID=America/New_York:20280924T110000
DTEND;TZID=America/New_York:20280924T130000
DTSTAMP:20260424T064028
CREATED:20240318T015424Z
LAST-MODIFIED:20240525T140422Z
UID:10000967-1853406000-1853413200@christmemorialbaptist.com
SUMMARY:SUNDAY MORNING SERVICE
DESCRIPTION:
URL:https://christmemorialbaptist.com/event/sunday-morning-service/2028-09-24/
LOCATION:Christ Memorial Baptist\, 1023 Dutchtown Rd\, Savannah\, GA\, 31406\, United States
CATEGORIES:Regular Worship Service
ATTACH;FMTTYPE=image/jpeg:https://christmemorialbaptist.com/wp-content/uploads/2024/03/sunday-service.jpg
END:VEVENT
BEGIN:VEVENT
DTSTART;TZID=America/New_York:20281008T110000
DTEND;TZID=America/New_York:20281008T130000
DTSTAMP:20260424T064028
CREATED:20240318T015424Z
LAST-MODIFIED:20240525T140422Z
UID:10000968-1854615600-1854622800@christmemorialbaptist.com
SUMMARY:SUNDAY MORNING SERVICE
DESCRIPTION:
URL:https://christmemorialbaptist.com/event/sunday-morning-service/2028-10-08/
LOCATION:Christ Memorial Baptist\, 1023 Dutchtown Rd\, Savannah\, GA\, 31406\, United States
CATEGORIES:Regular Worship Service
ATTACH;FMTTYPE=image/jpeg:https://christmemorialbaptist.com/wp-content/uploads/2024/03/sunday-service.jpg
END:VEVENT
BEGIN:VEVENT
DTSTART;TZID=America/New_York:20281015T110000
DTEND;TZID=America/New_York:20281015T130000
DTSTAMP:20260424T064028
CREATED:20240318T015424Z
LAST-MODIFIED:20240525T140422Z
UID:10000969-1855220400-1855227600@christmemorialbaptist.com
SUMMARY:SUNDAY MORNING SERVICE
DESCRIPTION:
URL:https://christmemorialbaptist.com/event/sunday-morning-service/2028-10-15/
LOCATION:Christ Memorial Baptist\, 1023 Dutchtown Rd\, Savannah\, GA\, 31406\, United States
CATEGORIES:Regular Worship Service
ATTACH;FMTTYPE=image/jpeg:https://christmemorialbaptist.com/wp-content/uploads/2024/03/sunday-service.jpg
END:VEVENT
BEGIN:VEVENT
DTSTART;TZID=America/New_York:20281022T110000
DTEND;TZID=America/New_York:20281022T130000
DTSTAMP:20260424T064028
CREATED:20240318T015424Z
LAST-MODIFIED:20240525T140422Z
UID:10000970-1855825200-1855832400@christmemorialbaptist.com
SUMMARY:SUNDAY MORNING SERVICE
DESCRIPTION:
URL:https://christmemorialbaptist.com/event/sunday-morning-service/2028-10-22/
LOCATION:Christ Memorial Baptist\, 1023 Dutchtown Rd\, Savannah\, GA\, 31406\, United States
CATEGORIES:Regular Worship Service
ATTACH;FMTTYPE=image/jpeg:https://christmemorialbaptist.com/wp-content/uploads/2024/03/sunday-service.jpg
END:VEVENT
BEGIN:VEVENT
DTSTART;TZID=America/New_York:20281029T110000
DTEND;TZID=America/New_York:20281029T130000
DTSTAMP:20260424T064028
CREATED:20240318T015424Z
LAST-MODIFIED:20240525T140422Z
UID:10000971-1856430000-1856437200@christmemorialbaptist.com
SUMMARY:SUNDAY MORNING SERVICE
DESCRIPTION:
URL:https://christmemorialbaptist.com/event/sunday-morning-service/2028-10-29/
LOCATION:Christ Memorial Baptist\, 1023 Dutchtown Rd\, Savannah\, GA\, 31406\, United States
CATEGORIES:Regular Worship Service
ATTACH;FMTTYPE=image/jpeg:https://christmemorialbaptist.com/wp-content/uploads/2024/03/sunday-service.jpg
END:VEVENT
BEGIN:VEVENT
DTSTART;TZID=America/New_York:20281112T110000
DTEND;TZID=America/New_York:20281112T130000
DTSTAMP:20260424T064028
CREATED:20240318T015424Z
LAST-MODIFIED:20240525T140422Z
UID:10000972-1857639600-1857646800@christmemorialbaptist.com
SUMMARY:SUNDAY MORNING SERVICE
DESCRIPTION:
URL:https://christmemorialbaptist.com/event/sunday-morning-service/2028-11-12/
LOCATION:Christ Memorial Baptist\, 1023 Dutchtown Rd\, Savannah\, GA\, 31406\, United States
CATEGORIES:Regular Worship Service
ATTACH;FMTTYPE=image/jpeg:https://christmemorialbaptist.com/wp-content/uploads/2024/03/sunday-service.jpg
END:VEVENT
BEGIN:VEVENT
DTSTART;TZID=America/New_York:20281119T110000
DTEND;TZID=America/New_York:20281119T130000
DTSTAMP:20260424T064028
CREATED:20240318T015424Z
LAST-MODIFIED:20240525T140422Z
UID:10000973-1858244400-1858251600@christmemorialbaptist.com
SUMMARY:SUNDAY MORNING SERVICE
DESCRIPTION:
URL:https://christmemorialbaptist.com/event/sunday-morning-service/2028-11-19/
LOCATION:Christ Memorial Baptist\, 1023 Dutchtown Rd\, Savannah\, GA\, 31406\, United States
CATEGORIES:Regular Worship Service
ATTACH;FMTTYPE=image/jpeg:https://christmemorialbaptist.com/wp-content/uploads/2024/03/sunday-service.jpg
END:VEVENT
BEGIN:VEVENT
DTSTART;TZID=America/New_York:20281126T110000
DTEND;TZID=America/New_York:20281126T130000
DTSTAMP:20260424T064028
CREATED:20240318T015424Z
LAST-MODIFIED:20240525T140422Z
UID:10000974-1858849200-1858856400@christmemorialbaptist.com
SUMMARY:SUNDAY MORNING SERVICE
DESCRIPTION:
URL:https://christmemorialbaptist.com/event/sunday-morning-service/2028-11-26/
LOCATION:Christ Memorial Baptist\, 1023 Dutchtown Rd\, Savannah\, GA\, 31406\, United States
CATEGORIES:Regular Worship Service
ATTACH;FMTTYPE=image/jpeg:https://christmemorialbaptist.com/wp-content/uploads/2024/03/sunday-service.jpg
END:VEVENT
BEGIN:VEVENT
DTSTART;TZID=America/New_York:20281210T110000
DTEND;TZID=America/New_York:20281210T130000
DTSTAMP:20260424T064028
CREATED:20240318T015424Z
LAST-MODIFIED:20240525T140422Z
UID:10000975-1860058800-1860066000@christmemorialbaptist.com
SUMMARY:SUNDAY MORNING SERVICE
DESCRIPTION:
URL:https://christmemorialbaptist.com/event/sunday-morning-service/2028-12-10/
LOCATION:Christ Memorial Baptist\, 1023 Dutchtown Rd\, Savannah\, GA\, 31406\, United States
CATEGORIES:Regular Worship Service
ATTACH;FMTTYPE=image/jpeg:https://christmemorialbaptist.com/wp-content/uploads/2024/03/sunday-service.jpg
END:VEVENT
BEGIN:VEVENT
DTSTART;TZID=America/New_York:20281217T110000
DTEND;TZID=America/New_York:20281217T130000
DTSTAMP:20260424T064028
CREATED:20240318T015424Z
LAST-MODIFIED:20240525T140422Z
UID:10000976-1860663600-1860670800@christmemorialbaptist.com
SUMMARY:SUNDAY MORNING SERVICE
DESCRIPTION:
URL:https://christmemorialbaptist.com/event/sunday-morning-service/2028-12-17/
LOCATION:Christ Memorial Baptist\, 1023 Dutchtown Rd\, Savannah\, GA\, 31406\, United States
CATEGORIES:Regular Worship Service
ATTACH;FMTTYPE=image/jpeg:https://christmemorialbaptist.com/wp-content/uploads/2024/03/sunday-service.jpg
END:VEVENT
BEGIN:VEVENT
DTSTART;TZID=America/New_York:20281224T110000
DTEND;TZID=America/New_York:20281224T130000
DTSTAMP:20260424T064028
CREATED:20240318T015424Z
LAST-MODIFIED:20240525T140422Z
UID:10000977-1861268400-1861275600@christmemorialbaptist.com
SUMMARY:SUNDAY MORNING SERVICE
DESCRIPTION:
URL:https://christmemorialbaptist.com/event/sunday-morning-service/2028-12-24/
LOCATION:Christ Memorial Baptist\, 1023 Dutchtown Rd\, Savannah\, GA\, 31406\, United States
CATEGORIES:Regular Worship Service
ATTACH;FMTTYPE=image/jpeg:https://christmemorialbaptist.com/wp-content/uploads/2024/03/sunday-service.jpg
END:VEVENT
BEGIN:VEVENT
DTSTART;TZID=America/New_York:20281231T110000
DTEND;TZID=America/New_York:20281231T130000
DTSTAMP:20260424T064028
CREATED:20240318T015424Z
LAST-MODIFIED:20240525T140422Z
UID:10000978-1861873200-1861880400@christmemorialbaptist.com
SUMMARY:SUNDAY MORNING SERVICE
DESCRIPTION:
URL:https://christmemorialbaptist.com/event/sunday-morning-service/2028-12-31/
LOCATION:Christ Memorial Baptist\, 1023 Dutchtown Rd\, Savannah\, GA\, 31406\, United States
CATEGORIES:Regular Worship Service
ATTACH;FMTTYPE=image/jpeg:https://christmemorialbaptist.com/wp-content/uploads/2024/03/sunday-service.jpg
END:VEVENT
BEGIN:VEVENT
DTSTART;TZID=America/New_York:20290114T110000
DTEND;TZID=America/New_York:20290114T130000
DTSTAMP:20260424T064028
CREATED:20240318T015424Z
LAST-MODIFIED:20240525T140422Z
UID:10000979-1863082800-1863090000@christmemorialbaptist.com
SUMMARY:SUNDAY MORNING SERVICE
DESCRIPTION:
URL:https://christmemorialbaptist.com/event/sunday-morning-service/2029-01-14/
LOCATION:Christ Memorial Baptist\, 1023 Dutchtown Rd\, Savannah\, GA\, 31406\, United States
CATEGORIES:Regular Worship Service
ATTACH;FMTTYPE=image/jpeg:https://christmemorialbaptist.com/wp-content/uploads/2024/03/sunday-service.jpg
END:VEVENT
BEGIN:VEVENT
DTSTART;TZID=America/New_York:20290121T110000
DTEND;TZID=America/New_York:20290121T130000
DTSTAMP:20260424T064028
CREATED:20240318T015424Z
LAST-MODIFIED:20240525T140422Z
UID:10000980-1863687600-1863694800@christmemorialbaptist.com
SUMMARY:SUNDAY MORNING SERVICE
DESCRIPTION:
URL:https://christmemorialbaptist.com/event/sunday-morning-service/2029-01-21/
LOCATION:Christ Memorial Baptist\, 1023 Dutchtown Rd\, Savannah\, GA\, 31406\, United States
CATEGORIES:Regular Worship Service
ATTACH;FMTTYPE=image/jpeg:https://christmemorialbaptist.com/wp-content/uploads/2024/03/sunday-service.jpg
END:VEVENT
BEGIN:VEVENT
DTSTART;TZID=America/New_York:20290128T110000
DTEND;TZID=America/New_York:20290128T130000
DTSTAMP:20260424T064028
CREATED:20240318T015424Z
LAST-MODIFIED:20240525T140422Z
UID:10000981-1864292400-1864299600@christmemorialbaptist.com
SUMMARY:SUNDAY MORNING SERVICE
DESCRIPTION:
URL:https://christmemorialbaptist.com/event/sunday-morning-service/2029-01-28/
LOCATION:Christ Memorial Baptist\, 1023 Dutchtown Rd\, Savannah\, GA\, 31406\, United States
CATEGORIES:Regular Worship Service
ATTACH;FMTTYPE=image/jpeg:https://christmemorialbaptist.com/wp-content/uploads/2024/03/sunday-service.jpg
END:VEVENT
BEGIN:VEVENT
DTSTART;TZID=America/New_York:20290211T110000
DTEND;TZID=America/New_York:20290211T130000
DTSTAMP:20260424T064028
CREATED:20240318T015424Z
LAST-MODIFIED:20240525T140422Z
UID:10000982-1865502000-1865509200@christmemorialbaptist.com
SUMMARY:SUNDAY MORNING SERVICE
DESCRIPTION:
URL:https://christmemorialbaptist.com/event/sunday-morning-service/2029-02-11/
LOCATION:Christ Memorial Baptist\, 1023 Dutchtown Rd\, Savannah\, GA\, 31406\, United States
CATEGORIES:Regular Worship Service
ATTACH;FMTTYPE=image/jpeg:https://christmemorialbaptist.com/wp-content/uploads/2024/03/sunday-service.jpg
END:VEVENT
BEGIN:VEVENT
DTSTART;TZID=America/New_York:20290218T110000
DTEND;TZID=America/New_York:20290218T130000
DTSTAMP:20260424T064028
CREATED:20240318T015424Z
LAST-MODIFIED:20240525T140422Z
UID:10000983-1866106800-1866114000@christmemorialbaptist.com
SUMMARY:SUNDAY MORNING SERVICE
DESCRIPTION:
URL:https://christmemorialbaptist.com/event/sunday-morning-service/2029-02-18/
LOCATION:Christ Memorial Baptist\, 1023 Dutchtown Rd\, Savannah\, GA\, 31406\, United States
CATEGORIES:Regular Worship Service
ATTACH;FMTTYPE=image/jpeg:https://christmemorialbaptist.com/wp-content/uploads/2024/03/sunday-service.jpg
END:VEVENT
END:VCALENDAR