BEGIN:VCALENDAR
VERSION:2.0
PRODID:-//Christ Memorial Baptist Church - ECPv6.15.20//NONSGML v1.0//EN
CALSCALE:GREGORIAN
METHOD:PUBLISH
X-WR-CALNAME:Christ Memorial Baptist Church
X-ORIGINAL-URL:https://christmemorialbaptist.com
X-WR-CALDESC:Events for Christ Memorial Baptist Church
REFRESH-INTERVAL;VALUE=DURATION:PT1H
X-Robots-Tag:noindex
X-PUBLISHED-TTL:PT1H
BEGIN:VTIMEZONE
TZID:America/New_York
BEGIN:DAYLIGHT
TZOFFSETFROM:-0500
TZOFFSETTO:-0400
TZNAME:EDT
DTSTART:20260308T070000
END:DAYLIGHT
BEGIN:STANDARD
TZOFFSETFROM:-0400
TZOFFSETTO:-0500
TZNAME:EST
DTSTART:20261101T060000
END:STANDARD
BEGIN:DAYLIGHT
TZOFFSETFROM:-0500
TZOFFSETTO:-0400
TZNAME:EDT
DTSTART:20270314T070000
END:DAYLIGHT
BEGIN:STANDARD
TZOFFSETFROM:-0400
TZOFFSETTO:-0500
TZNAME:EST
DTSTART:20271107T060000
END:STANDARD
BEGIN:DAYLIGHT
TZOFFSETFROM:-0500
TZOFFSETTO:-0400
TZNAME:EDT
DTSTART:20280312T070000
END:DAYLIGHT
BEGIN:STANDARD
TZOFFSETFROM:-0400
TZOFFSETTO:-0500
TZNAME:EST
DTSTART:20281105T060000
END:STANDARD
BEGIN:DAYLIGHT
TZOFFSETFROM:-0500
TZOFFSETTO:-0400
TZNAME:EDT
DTSTART:20290311T070000
END:DAYLIGHT
BEGIN:STANDARD
TZOFFSETFROM:-0400
TZOFFSETTO:-0500
TZNAME:EST
DTSTART:20291104T060000
END:STANDARD
END:VTIMEZONE
BEGIN:VEVENT
DTSTART;TZID=America/New_York:20270414T173000
DTEND;TZID=America/New_York:20270414T183000
DTSTAMP:20260424T091055
CREATED:20240318T021129Z
LAST-MODIFIED:20240402T221910Z
UID:10000055-1807723800-1807727400@christmemorialbaptist.com
SUMMARY:YOUTH USHER’S MEETING
DESCRIPTION:
URL:https://christmemorialbaptist.com/event/youth-ushers-meeting/2027-04-14/
LOCATION:Christ Memorial Baptist\, 1023 Dutchtown Rd\, Savannah\, GA\, 31406\, United States
CATEGORIES:Youth Events
END:VEVENT
BEGIN:VEVENT
DTSTART;TZID=America/New_York:20270418T110000
DTEND;TZID=America/New_York:20270418T130000
DTSTAMP:20260424T091055
CREATED:20240516T164132Z
LAST-MODIFIED:20240525T134808Z
UID:10000703-1808046000-1808053200@christmemorialbaptist.com
SUMMARY:CHILDREN'S CHURCH
DESCRIPTION:
URL:https://christmemorialbaptist.com/event/childrens-church-3/2027-04-18/
LOCATION:Christ Memorial Baptist\, 1023 Dutchtown Rd\, Savannah\, GA\, 31406\, United States
CATEGORIES:Youth Events
ATTACH;FMTTYPE=image/jpeg:https://christmemorialbaptist.com/wp-content/uploads/2024/05/childrens-church.jpg
END:VEVENT
BEGIN:VEVENT
DTSTART;TZID=America/New_York:20270502T110000
DTEND;TZID=America/New_York:20270519T130000
DTSTAMP:20260424T091055
CREATED:20240516T164327Z
LAST-MODIFIED:20240525T134730Z
UID:10000763-1809255600-1810731600@christmemorialbaptist.com
SUMMARY:CHILDREN'S CHURCH
DESCRIPTION:
URL:https://christmemorialbaptist.com/event/childrens-church/2027-05-02/
LOCATION:Christ Memorial Baptist\, 1023 Dutchtown Rd\, Savannah\, GA\, 31406\, United States
CATEGORIES:Youth Events
ATTACH;FMTTYPE=image/jpeg:https://christmemorialbaptist.com/wp-content/uploads/2024/05/childrens-church.jpg
END:VEVENT
BEGIN:VEVENT
DTSTART;TZID=America/New_York:20270512T173000
DTEND;TZID=America/New_York:20270512T183000
DTSTAMP:20260424T091055
CREATED:20240318T021129Z
LAST-MODIFIED:20240402T221910Z
UID:10000056-1810143000-1810146600@christmemorialbaptist.com
SUMMARY:YOUTH USHER’S MEETING
DESCRIPTION:
URL:https://christmemorialbaptist.com/event/youth-ushers-meeting/2027-05-12/
LOCATION:Christ Memorial Baptist\, 1023 Dutchtown Rd\, Savannah\, GA\, 31406\, United States
CATEGORIES:Youth Events
END:VEVENT
BEGIN:VEVENT
DTSTART;TZID=America/New_York:20270516T110000
DTEND;TZID=America/New_York:20270516T130000
DTSTAMP:20260424T091055
CREATED:20240516T164132Z
LAST-MODIFIED:20240525T134808Z
UID:10000704-1810465200-1810472400@christmemorialbaptist.com
SUMMARY:CHILDREN'S CHURCH
DESCRIPTION:
URL:https://christmemorialbaptist.com/event/childrens-church-3/2027-05-16/
LOCATION:Christ Memorial Baptist\, 1023 Dutchtown Rd\, Savannah\, GA\, 31406\, United States
CATEGORIES:Youth Events
ATTACH;FMTTYPE=image/jpeg:https://christmemorialbaptist.com/wp-content/uploads/2024/05/childrens-church.jpg
END:VEVENT
BEGIN:VEVENT
DTSTART;TZID=America/New_York:20270530T110000
DTEND;TZID=America/New_York:20270530T130000
DTSTAMP:20260424T091055
CREATED:20240318T015615Z
LAST-MODIFIED:20240516T163925Z
UID:10000659-1811674800-1811682000@christmemorialbaptist.com
SUMMARY:CHILDREN’S CHURCH
DESCRIPTION:
URL:https://christmemorialbaptist.com/event/childrens-church-5/2027-05-30/
LOCATION:Christ Memorial Baptist\, 1023 Dutchtown Rd\, Savannah\, GA\, 31406\, United States
CATEGORIES:Youth Events
END:VEVENT
BEGIN:VEVENT
DTSTART;TZID=America/New_York:20270606T110000
DTEND;TZID=America/New_York:20270623T130000
DTSTAMP:20260424T091055
CREATED:20240516T164327Z
LAST-MODIFIED:20240525T134730Z
UID:10000764-1812279600-1813755600@christmemorialbaptist.com
SUMMARY:CHILDREN'S CHURCH
DESCRIPTION:
URL:https://christmemorialbaptist.com/event/childrens-church/2027-06-06/
LOCATION:Christ Memorial Baptist\, 1023 Dutchtown Rd\, Savannah\, GA\, 31406\, United States
CATEGORIES:Youth Events
ATTACH;FMTTYPE=image/jpeg:https://christmemorialbaptist.com/wp-content/uploads/2024/05/childrens-church.jpg
END:VEVENT
BEGIN:VEVENT
DTSTART;TZID=America/New_York:20270609T173000
DTEND;TZID=America/New_York:20270609T183000
DTSTAMP:20260424T091055
CREATED:20240318T021129Z
LAST-MODIFIED:20240402T221910Z
UID:10000057-1812562200-1812565800@christmemorialbaptist.com
SUMMARY:YOUTH USHER’S MEETING
DESCRIPTION:
URL:https://christmemorialbaptist.com/event/youth-ushers-meeting/2027-06-09/
LOCATION:Christ Memorial Baptist\, 1023 Dutchtown Rd\, Savannah\, GA\, 31406\, United States
CATEGORIES:Youth Events
END:VEVENT
BEGIN:VEVENT
DTSTART;TZID=America/New_York:20270620T110000
DTEND;TZID=America/New_York:20270620T130000
DTSTAMP:20260424T091055
CREATED:20240516T164132Z
LAST-MODIFIED:20240525T134808Z
UID:10000705-1813489200-1813496400@christmemorialbaptist.com
SUMMARY:CHILDREN'S CHURCH
DESCRIPTION:
URL:https://christmemorialbaptist.com/event/childrens-church-3/2027-06-20/
LOCATION:Christ Memorial Baptist\, 1023 Dutchtown Rd\, Savannah\, GA\, 31406\, United States
CATEGORIES:Youth Events
ATTACH;FMTTYPE=image/jpeg:https://christmemorialbaptist.com/wp-content/uploads/2024/05/childrens-church.jpg
END:VEVENT
BEGIN:VEVENT
DTSTART;TZID=America/New_York:20270704T110000
DTEND;TZID=America/New_York:20270721T130000
DTSTAMP:20260424T091055
CREATED:20240516T164327Z
LAST-MODIFIED:20240525T134730Z
UID:10000765-1814698800-1816174800@christmemorialbaptist.com
SUMMARY:CHILDREN'S CHURCH
DESCRIPTION:
URL:https://christmemorialbaptist.com/event/childrens-church/2027-07-04/
LOCATION:Christ Memorial Baptist\, 1023 Dutchtown Rd\, Savannah\, GA\, 31406\, United States
CATEGORIES:Youth Events
ATTACH;FMTTYPE=image/jpeg:https://christmemorialbaptist.com/wp-content/uploads/2024/05/childrens-church.jpg
END:VEVENT
BEGIN:VEVENT
DTSTART;TZID=America/New_York:20270714T173000
DTEND;TZID=America/New_York:20270714T183000
DTSTAMP:20260424T091055
CREATED:20240318T021129Z
LAST-MODIFIED:20240402T221910Z
UID:10000058-1815586200-1815589800@christmemorialbaptist.com
SUMMARY:YOUTH USHER’S MEETING
DESCRIPTION:
URL:https://christmemorialbaptist.com/event/youth-ushers-meeting/2027-07-14/
LOCATION:Christ Memorial Baptist\, 1023 Dutchtown Rd\, Savannah\, GA\, 31406\, United States
CATEGORIES:Youth Events
END:VEVENT
BEGIN:VEVENT
DTSTART;TZID=America/New_York:20270718T110000
DTEND;TZID=America/New_York:20270718T130000
DTSTAMP:20260424T091055
CREATED:20240516T164132Z
LAST-MODIFIED:20240525T134808Z
UID:10000706-1815908400-1815915600@christmemorialbaptist.com
SUMMARY:CHILDREN'S CHURCH
DESCRIPTION:
URL:https://christmemorialbaptist.com/event/childrens-church-3/2027-07-18/
LOCATION:Christ Memorial Baptist\, 1023 Dutchtown Rd\, Savannah\, GA\, 31406\, United States
CATEGORIES:Youth Events
ATTACH;FMTTYPE=image/jpeg:https://christmemorialbaptist.com/wp-content/uploads/2024/05/childrens-church.jpg
END:VEVENT
BEGIN:VEVENT
DTSTART;TZID=America/New_York:20270801T110000
DTEND;TZID=America/New_York:20270818T130000
DTSTAMP:20260424T091055
CREATED:20240516T164327Z
LAST-MODIFIED:20240525T134730Z
UID:10000766-1817118000-1818594000@christmemorialbaptist.com
SUMMARY:CHILDREN'S CHURCH
DESCRIPTION:
URL:https://christmemorialbaptist.com/event/childrens-church/2027-08-01/
LOCATION:Christ Memorial Baptist\, 1023 Dutchtown Rd\, Savannah\, GA\, 31406\, United States
CATEGORIES:Youth Events
ATTACH;FMTTYPE=image/jpeg:https://christmemorialbaptist.com/wp-content/uploads/2024/05/childrens-church.jpg
END:VEVENT
BEGIN:VEVENT
DTSTART;TZID=America/New_York:20270811T173000
DTEND;TZID=America/New_York:20270811T183000
DTSTAMP:20260424T091055
CREATED:20240318T021129Z
LAST-MODIFIED:20240402T221910Z
UID:10000059-1818005400-1818009000@christmemorialbaptist.com
SUMMARY:YOUTH USHER’S MEETING
DESCRIPTION:
URL:https://christmemorialbaptist.com/event/youth-ushers-meeting/2027-08-11/
LOCATION:Christ Memorial Baptist\, 1023 Dutchtown Rd\, Savannah\, GA\, 31406\, United States
CATEGORIES:Youth Events
END:VEVENT
BEGIN:VEVENT
DTSTART;TZID=America/New_York:20270815T110000
DTEND;TZID=America/New_York:20270815T130000
DTSTAMP:20260424T091055
CREATED:20240516T164132Z
LAST-MODIFIED:20240525T134808Z
UID:10000707-1818327600-1818334800@christmemorialbaptist.com
SUMMARY:CHILDREN'S CHURCH
DESCRIPTION:
URL:https://christmemorialbaptist.com/event/childrens-church-3/2027-08-15/
LOCATION:Christ Memorial Baptist\, 1023 Dutchtown Rd\, Savannah\, GA\, 31406\, United States
CATEGORIES:Youth Events
ATTACH;FMTTYPE=image/jpeg:https://christmemorialbaptist.com/wp-content/uploads/2024/05/childrens-church.jpg
END:VEVENT
BEGIN:VEVENT
DTSTART;TZID=America/New_York:20270829T110000
DTEND;TZID=America/New_York:20270829T130000
DTSTAMP:20260424T091055
CREATED:20240318T015615Z
LAST-MODIFIED:20240516T163925Z
UID:10000660-1819537200-1819544400@christmemorialbaptist.com
SUMMARY:CHILDREN’S CHURCH
DESCRIPTION:
URL:https://christmemorialbaptist.com/event/childrens-church-5/2027-08-29/
LOCATION:Christ Memorial Baptist\, 1023 Dutchtown Rd\, Savannah\, GA\, 31406\, United States
CATEGORIES:Youth Events
END:VEVENT
BEGIN:VEVENT
DTSTART;TZID=America/New_York:20270905T110000
DTEND;TZID=America/New_York:20270922T130000
DTSTAMP:20260424T091055
CREATED:20240516T164327Z
LAST-MODIFIED:20240525T134730Z
UID:10000767-1820142000-1821618000@christmemorialbaptist.com
SUMMARY:CHILDREN'S CHURCH
DESCRIPTION:
URL:https://christmemorialbaptist.com/event/childrens-church/2027-09-05/
LOCATION:Christ Memorial Baptist\, 1023 Dutchtown Rd\, Savannah\, GA\, 31406\, United States
CATEGORIES:Youth Events
ATTACH;FMTTYPE=image/jpeg:https://christmemorialbaptist.com/wp-content/uploads/2024/05/childrens-church.jpg
END:VEVENT
BEGIN:VEVENT
DTSTART;TZID=America/New_York:20270908T173000
DTEND;TZID=America/New_York:20270908T183000
DTSTAMP:20260424T091055
CREATED:20240318T021129Z
LAST-MODIFIED:20240402T221910Z
UID:10000060-1820424600-1820428200@christmemorialbaptist.com
SUMMARY:YOUTH USHER’S MEETING
DESCRIPTION:
URL:https://christmemorialbaptist.com/event/youth-ushers-meeting/2027-09-08/
LOCATION:Christ Memorial Baptist\, 1023 Dutchtown Rd\, Savannah\, GA\, 31406\, United States
CATEGORIES:Youth Events
END:VEVENT
BEGIN:VEVENT
DTSTART;TZID=America/New_York:20270919T110000
DTEND;TZID=America/New_York:20270919T130000
DTSTAMP:20260424T091055
CREATED:20240516T164132Z
LAST-MODIFIED:20240525T134808Z
UID:10000708-1821351600-1821358800@christmemorialbaptist.com
SUMMARY:CHILDREN'S CHURCH
DESCRIPTION:
URL:https://christmemorialbaptist.com/event/childrens-church-3/2027-09-19/
LOCATION:Christ Memorial Baptist\, 1023 Dutchtown Rd\, Savannah\, GA\, 31406\, United States
CATEGORIES:Youth Events
ATTACH;FMTTYPE=image/jpeg:https://christmemorialbaptist.com/wp-content/uploads/2024/05/childrens-church.jpg
END:VEVENT
BEGIN:VEVENT
DTSTART;TZID=America/New_York:20271003T110000
DTEND;TZID=America/New_York:20271020T130000
DTSTAMP:20260424T091055
CREATED:20240516T164327Z
LAST-MODIFIED:20240525T134730Z
UID:10000768-1822561200-1824037200@christmemorialbaptist.com
SUMMARY:CHILDREN'S CHURCH
DESCRIPTION:
URL:https://christmemorialbaptist.com/event/childrens-church/2027-10-03/
LOCATION:Christ Memorial Baptist\, 1023 Dutchtown Rd\, Savannah\, GA\, 31406\, United States
CATEGORIES:Youth Events
ATTACH;FMTTYPE=image/jpeg:https://christmemorialbaptist.com/wp-content/uploads/2024/05/childrens-church.jpg
END:VEVENT
BEGIN:VEVENT
DTSTART;TZID=America/New_York:20271013T173000
DTEND;TZID=America/New_York:20271013T183000
DTSTAMP:20260424T091055
CREATED:20240318T021129Z
LAST-MODIFIED:20240402T221910Z
UID:10000061-1823448600-1823452200@christmemorialbaptist.com
SUMMARY:YOUTH USHER’S MEETING
DESCRIPTION:
URL:https://christmemorialbaptist.com/event/youth-ushers-meeting/2027-10-13/
LOCATION:Christ Memorial Baptist\, 1023 Dutchtown Rd\, Savannah\, GA\, 31406\, United States
CATEGORIES:Youth Events
END:VEVENT
BEGIN:VEVENT
DTSTART;TZID=America/New_York:20271017T110000
DTEND;TZID=America/New_York:20271017T130000
DTSTAMP:20260424T091055
CREATED:20240516T164132Z
LAST-MODIFIED:20240525T134808Z
UID:10000709-1823770800-1823778000@christmemorialbaptist.com
SUMMARY:CHILDREN'S CHURCH
DESCRIPTION:
URL:https://christmemorialbaptist.com/event/childrens-church-3/2027-10-17/
LOCATION:Christ Memorial Baptist\, 1023 Dutchtown Rd\, Savannah\, GA\, 31406\, United States
CATEGORIES:Youth Events
ATTACH;FMTTYPE=image/jpeg:https://christmemorialbaptist.com/wp-content/uploads/2024/05/childrens-church.jpg
END:VEVENT
BEGIN:VEVENT
DTSTART;TZID=America/New_York:20271031T110000
DTEND;TZID=America/New_York:20271031T130000
DTSTAMP:20260424T091055
CREATED:20240318T015615Z
LAST-MODIFIED:20240516T163925Z
UID:10000661-1824980400-1824987600@christmemorialbaptist.com
SUMMARY:CHILDREN’S CHURCH
DESCRIPTION:
URL:https://christmemorialbaptist.com/event/childrens-church-5/2027-10-31/
LOCATION:Christ Memorial Baptist\, 1023 Dutchtown Rd\, Savannah\, GA\, 31406\, United States
CATEGORIES:Youth Events
END:VEVENT
BEGIN:VEVENT
DTSTART;TZID=America/New_York:20271107T110000
DTEND;TZID=America/New_York:20271124T130000
DTSTAMP:20260424T091055
CREATED:20240516T164327Z
LAST-MODIFIED:20240525T134730Z
UID:10000769-1825585200-1827061200@christmemorialbaptist.com
SUMMARY:CHILDREN'S CHURCH
DESCRIPTION:
URL:https://christmemorialbaptist.com/event/childrens-church/2027-11-07/
LOCATION:Christ Memorial Baptist\, 1023 Dutchtown Rd\, Savannah\, GA\, 31406\, United States
CATEGORIES:Youth Events
ATTACH;FMTTYPE=image/jpeg:https://christmemorialbaptist.com/wp-content/uploads/2024/05/childrens-church.jpg
END:VEVENT
BEGIN:VEVENT
DTSTART;TZID=America/New_York:20271110T173000
DTEND;TZID=America/New_York:20271110T183000
DTSTAMP:20260424T091055
CREATED:20240318T021129Z
LAST-MODIFIED:20240402T221910Z
UID:10000062-1825867800-1825871400@christmemorialbaptist.com
SUMMARY:YOUTH USHER’S MEETING
DESCRIPTION:
URL:https://christmemorialbaptist.com/event/youth-ushers-meeting/2027-11-10/
LOCATION:Christ Memorial Baptist\, 1023 Dutchtown Rd\, Savannah\, GA\, 31406\, United States
CATEGORIES:Youth Events
END:VEVENT
BEGIN:VEVENT
DTSTART;TZID=America/New_York:20271121T110000
DTEND;TZID=America/New_York:20271121T130000
DTSTAMP:20260424T091055
CREATED:20240516T164132Z
LAST-MODIFIED:20240525T134808Z
UID:10000710-1826794800-1826802000@christmemorialbaptist.com
SUMMARY:CHILDREN'S CHURCH
DESCRIPTION:
URL:https://christmemorialbaptist.com/event/childrens-church-3/2027-11-21/
LOCATION:Christ Memorial Baptist\, 1023 Dutchtown Rd\, Savannah\, GA\, 31406\, United States
CATEGORIES:Youth Events
ATTACH;FMTTYPE=image/jpeg:https://christmemorialbaptist.com/wp-content/uploads/2024/05/childrens-church.jpg
END:VEVENT
BEGIN:VEVENT
DTSTART;TZID=America/New_York:20271205T110000
DTEND;TZID=America/New_York:20271222T130000
DTSTAMP:20260424T091055
CREATED:20240516T164327Z
LAST-MODIFIED:20240525T134730Z
UID:10000770-1828004400-1829480400@christmemorialbaptist.com
SUMMARY:CHILDREN'S CHURCH
DESCRIPTION:
URL:https://christmemorialbaptist.com/event/childrens-church/2027-12-05/
LOCATION:Christ Memorial Baptist\, 1023 Dutchtown Rd\, Savannah\, GA\, 31406\, United States
CATEGORIES:Youth Events
ATTACH;FMTTYPE=image/jpeg:https://christmemorialbaptist.com/wp-content/uploads/2024/05/childrens-church.jpg
END:VEVENT
BEGIN:VEVENT
DTSTART;TZID=America/New_York:20271208T173000
DTEND;TZID=America/New_York:20271208T183000
DTSTAMP:20260424T091055
CREATED:20240318T021129Z
LAST-MODIFIED:20240402T221910Z
UID:10000063-1828287000-1828290600@christmemorialbaptist.com
SUMMARY:YOUTH USHER’S MEETING
DESCRIPTION:
URL:https://christmemorialbaptist.com/event/youth-ushers-meeting/2027-12-08/
LOCATION:Christ Memorial Baptist\, 1023 Dutchtown Rd\, Savannah\, GA\, 31406\, United States
CATEGORIES:Youth Events
END:VEVENT
BEGIN:VEVENT
DTSTART;TZID=America/New_York:20271219T110000
DTEND;TZID=America/New_York:20271219T130000
DTSTAMP:20260424T091055
CREATED:20240516T164132Z
LAST-MODIFIED:20240525T134808Z
UID:10000711-1829214000-1829221200@christmemorialbaptist.com
SUMMARY:CHILDREN'S CHURCH
DESCRIPTION:
URL:https://christmemorialbaptist.com/event/childrens-church-3/2027-12-19/
LOCATION:Christ Memorial Baptist\, 1023 Dutchtown Rd\, Savannah\, GA\, 31406\, United States
CATEGORIES:Youth Events
ATTACH;FMTTYPE=image/jpeg:https://christmemorialbaptist.com/wp-content/uploads/2024/05/childrens-church.jpg
END:VEVENT
BEGIN:VEVENT
DTSTART;TZID=America/New_York:20280102T110000
DTEND;TZID=America/New_York:20280119T130000
DTSTAMP:20260424T091055
CREATED:20240516T164327Z
LAST-MODIFIED:20240525T134730Z
UID:10000771-1830423600-1831899600@christmemorialbaptist.com
SUMMARY:CHILDREN'S CHURCH
DESCRIPTION:
URL:https://christmemorialbaptist.com/event/childrens-church/2028-01-02/
LOCATION:Christ Memorial Baptist\, 1023 Dutchtown Rd\, Savannah\, GA\, 31406\, United States
CATEGORIES:Youth Events
ATTACH;FMTTYPE=image/jpeg:https://christmemorialbaptist.com/wp-content/uploads/2024/05/childrens-church.jpg
END:VEVENT
END:VCALENDAR