BEGIN:VCALENDAR
VERSION:2.0
PRODID:-//Christ Memorial Baptist Church - ECPv6.15.20//NONSGML v1.0//EN
CALSCALE:GREGORIAN
METHOD:PUBLISH
X-WR-CALNAME:Christ Memorial Baptist Church
X-ORIGINAL-URL:https://christmemorialbaptist.com
X-WR-CALDESC:Events for Christ Memorial Baptist Church
REFRESH-INTERVAL;VALUE=DURATION:PT1H
X-Robots-Tag:noindex
X-PUBLISHED-TTL:PT1H
BEGIN:VTIMEZONE
TZID:America/New_York
BEGIN:DAYLIGHT
TZOFFSETFROM:-0500
TZOFFSETTO:-0400
TZNAME:EDT
DTSTART:20260308T070000
END:DAYLIGHT
BEGIN:STANDARD
TZOFFSETFROM:-0400
TZOFFSETTO:-0500
TZNAME:EST
DTSTART:20261101T060000
END:STANDARD
BEGIN:DAYLIGHT
TZOFFSETFROM:-0500
TZOFFSETTO:-0400
TZNAME:EDT
DTSTART:20270314T070000
END:DAYLIGHT
BEGIN:STANDARD
TZOFFSETFROM:-0400
TZOFFSETTO:-0500
TZNAME:EST
DTSTART:20271107T060000
END:STANDARD
BEGIN:DAYLIGHT
TZOFFSETFROM:-0500
TZOFFSETTO:-0400
TZNAME:EDT
DTSTART:20280312T070000
END:DAYLIGHT
BEGIN:STANDARD
TZOFFSETFROM:-0400
TZOFFSETTO:-0500
TZNAME:EST
DTSTART:20281105T060000
END:STANDARD
END:VTIMEZONE
BEGIN:VEVENT
DTSTART;TZID=America/New_York:20270926T110000
DTEND;TZID=America/New_York:20270926T130000
DTSTAMP:20260425T214220
CREATED:20240318T015424Z
LAST-MODIFIED:20240525T140422Z
UID:10000927-1821956400-1821963600@christmemorialbaptist.com
SUMMARY:SUNDAY MORNING SERVICE
DESCRIPTION:
URL:https://christmemorialbaptist.com/event/sunday-morning-service/2027-09-26/
LOCATION:Christ Memorial Baptist\, 1023 Dutchtown Rd\, Savannah\, GA\, 31406\, United States
CATEGORIES:Regular Worship Service
ATTACH;FMTTYPE=image/jpeg:https://christmemorialbaptist.com/wp-content/uploads/2024/03/sunday-service.jpg
END:VEVENT
BEGIN:VEVENT
DTSTART;TZID=America/New_York:20270928T180000
DTEND;TZID=America/New_York:20270928T190000
DTSTAMP:20260425T214220
CREATED:20240318T020448Z
LAST-MODIFIED:20240516T165113Z
UID:10001771-1822154400-1822158000@christmemorialbaptist.com
SUMMARY:PRAYER MEETING
DESCRIPTION:
URL:https://christmemorialbaptist.com/event/prayer-meeting/2027-09-28/
LOCATION:Christ Memorial Baptist\, 1023 Dutchtown Rd\, Savannah\, GA\, 31406\, United States
CATEGORIES:Prayer and Spiritual Meetings
END:VEVENT
BEGIN:VEVENT
DTSTART;TZID=America/New_York:20270928T180000
DTEND;TZID=America/New_York:20270928T190000
DTSTAMP:20260425T214220
CREATED:20240318T021954Z
LAST-MODIFIED:20240516T165009Z
UID:10001569-1822154400-1822158000@christmemorialbaptist.com
SUMMARY:DEACON’S MEETING
DESCRIPTION:
URL:https://christmemorialbaptist.com/event/deacons-meeting/2027-09-28/
LOCATION:Christ Memorial Baptist\, 1023 Dutchtown Rd\, Savannah\, GA\, 31406\, United States
CATEGORIES:Prayer and Spiritual Meetings
END:VEVENT
BEGIN:VEVENT
DTSTART;TZID=America/New_York:20270928T190000
DTEND;TZID=America/New_York:20270928T200000
DTSTAMP:20260425T214220
CREATED:20240318T020615Z
LAST-MODIFIED:20240516T164910Z
UID:10001442-1822158000-1822161600@christmemorialbaptist.com
SUMMARY:BIBLE STUDY
DESCRIPTION:
URL:https://christmemorialbaptist.com/event/bible-study/2027-09-28/
LOCATION:Christ Memorial Baptist\, 1023 Dutchtown Rd\, Savannah\, GA\, 31406\, United States
CATEGORIES:Educational Events
END:VEVENT
BEGIN:VEVENT
DTSTART;TZID=America/New_York:20270930T193000
DTEND;TZID=America/New_York:20270930T203000
DTSTAMP:20260425T214220
CREATED:20240318T021700Z
LAST-MODIFIED:20240516T164813Z
UID:10001175-1822332600-1822336200@christmemorialbaptist.com
SUMMARY:SOLID ROCK MINISTRY
DESCRIPTION:
URL:https://christmemorialbaptist.com/event/solid-rock-ministry/2027-09-30/
LOCATION:GA
CATEGORIES:Ministry and Organizational Meetings
END:VEVENT
BEGIN:VEVENT
DTSTART;TZID=America/New_York:20271002T170000
DTEND;TZID=America/New_York:20271002T183000
DTSTAMP:20260425T214220
CREATED:20240318T021822Z
LAST-MODIFIED:20240516T163315Z
UID:10000504-1822496400-1822501800@christmemorialbaptist.com
SUMMARY:BAPTISM
DESCRIPTION:
URL:https://christmemorialbaptist.com/event/baptism/2027-10-02/
LOCATION:Christ Memorial Baptist\, 1023 Dutchtown Rd\, Savannah\, GA\, 31406\, United States
CATEGORIES:Special Worship Services
END:VEVENT
BEGIN:VEVENT
DTSTART;TZID=America/New_York:20271003T094500
DTEND;TZID=America/New_York:20271003T110000
DTSTAMP:20260425T214220
CREATED:20240318T015214Z
LAST-MODIFIED:20240516T162702Z
UID:10000255-1822556700-1822561200@christmemorialbaptist.com
SUMMARY:SUNDAY SCHOOL
DESCRIPTION:
URL:https://christmemorialbaptist.com/event/sunday-school/2027-10-03/
LOCATION:Christ Memorial Baptist\, 1023 Dutchtown Rd\, Savannah\, GA\, 31406\, United States
CATEGORIES:Educational Events
END:VEVENT
BEGIN:VEVENT
DTSTART;TZID=America/New_York:20271003T110000
DTEND;TZID=America/New_York:20271003T130000
DTSTAMP:20260425T214220
CREATED:20240318T015749Z
LAST-MODIFIED:20240516T163135Z
UID:10000443-1822561200-1822568400@christmemorialbaptist.com
SUMMARY:HOLY COMMUNION
DESCRIPTION:
URL:https://christmemorialbaptist.com/event/holy-communion/2027-10-03/
LOCATION:Christ Memorial Baptist\, 1023 Dutchtown Rd\, Savannah\, GA\, 31406\, United States
CATEGORIES:Special Worship Services
END:VEVENT
BEGIN:VEVENT
DTSTART;TZID=America/New_York:20271003T110000
DTEND;TZID=America/New_York:20271020T130000
DTSTAMP:20260425T214220
CREATED:20240516T164327Z
LAST-MODIFIED:20240525T134730Z
UID:10000768-1822561200-1824037200@christmemorialbaptist.com
SUMMARY:CHILDREN'S CHURCH
DESCRIPTION:
URL:https://christmemorialbaptist.com/event/childrens-church/2027-10-03/
LOCATION:Christ Memorial Baptist\, 1023 Dutchtown Rd\, Savannah\, GA\, 31406\, United States
CATEGORIES:Youth Events
ATTACH;FMTTYPE=image/jpeg:https://christmemorialbaptist.com/wp-content/uploads/2024/05/childrens-church.jpg
END:VEVENT
BEGIN:VEVENT
DTSTART;TZID=America/New_York:20271005T180000
DTEND;TZID=America/New_York:20271005T190000
DTSTAMP:20260425T214220
CREATED:20240318T020448Z
LAST-MODIFIED:20240516T165113Z
UID:10001772-1822759200-1822762800@christmemorialbaptist.com
SUMMARY:PRAYER MEETING
DESCRIPTION:
URL:https://christmemorialbaptist.com/event/prayer-meeting/2027-10-05/
LOCATION:Christ Memorial Baptist\, 1023 Dutchtown Rd\, Savannah\, GA\, 31406\, United States
CATEGORIES:Prayer and Spiritual Meetings
END:VEVENT
BEGIN:VEVENT
DTSTART;TZID=America/New_York:20271005T180000
DTEND;TZID=America/New_York:20271005T190000
DTSTAMP:20260425T214220
CREATED:20240318T020806Z
LAST-MODIFIED:20240516T163637Z
UID:10000626-1822759200-1822762800@christmemorialbaptist.com
SUMMARY:ADULT USHER’S MEETING
DESCRIPTION:
URL:https://christmemorialbaptist.com/event/adult-ushers-meeting/2027-10-05/
LOCATION:Christ Memorial Baptist\, 1023 Dutchtown Rd\, Savannah\, GA\, 31406\, United States
CATEGORIES:Ministry and Organizational Meetings
END:VEVENT
BEGIN:VEVENT
DTSTART;TZID=America/New_York:20271005T180000
DTEND;TZID=America/New_York:20271005T190000
DTSTAMP:20260425T214220
CREATED:20240318T022106Z
LAST-MODIFIED:20240516T163527Z
UID:10000565-1822759200-1822762800@christmemorialbaptist.com
SUMMARY:DEACONESS MEETING
DESCRIPTION:
URL:https://christmemorialbaptist.com/event/deaconess-meeting/2027-10-05/
LOCATION:Christ Memorial Baptist\, 1023 Dutchtown Rd\, Savannah\, GA\, 31406\, United States
CATEGORIES:Prayer and Spiritual Meetings
END:VEVENT
BEGIN:VEVENT
DTSTART;TZID=America/New_York:20271005T190000
DTEND;TZID=America/New_York:20271005T200000
DTSTAMP:20260425T214220
CREATED:20240318T020615Z
LAST-MODIFIED:20240516T164910Z
UID:10001443-1822762800-1822766400@christmemorialbaptist.com
SUMMARY:BIBLE STUDY
DESCRIPTION:
URL:https://christmemorialbaptist.com/event/bible-study/2027-10-05/
LOCATION:Christ Memorial Baptist\, 1023 Dutchtown Rd\, Savannah\, GA\, 31406\, United States
CATEGORIES:Educational Events
END:VEVENT
BEGIN:VEVENT
DTSTART;TZID=America/New_York:20271007T193000
DTEND;TZID=America/New_York:20271007T203000
DTSTAMP:20260425T214220
CREATED:20240318T021700Z
LAST-MODIFIED:20240516T164813Z
UID:10001176-1822937400-1822941000@christmemorialbaptist.com
SUMMARY:SOLID ROCK MINISTRY
DESCRIPTION:
URL:https://christmemorialbaptist.com/event/solid-rock-ministry/2027-10-07/
LOCATION:GA
CATEGORIES:Ministry and Organizational Meetings
END:VEVENT
BEGIN:VEVENT
DTSTART;TZID=America/New_York:20271010T094500
DTEND;TZID=America/New_York:20271010T110000
DTSTAMP:20260425T214220
CREATED:20240318T015214Z
LAST-MODIFIED:20240516T162702Z
UID:10000256-1823161500-1823166000@christmemorialbaptist.com
SUMMARY:SUNDAY SCHOOL
DESCRIPTION:
URL:https://christmemorialbaptist.com/event/sunday-school/2027-10-10/
LOCATION:Christ Memorial Baptist\, 1023 Dutchtown Rd\, Savannah\, GA\, 31406\, United States
CATEGORIES:Educational Events
END:VEVENT
BEGIN:VEVENT
DTSTART;TZID=America/New_York:20271010T110000
DTEND;TZID=America/New_York:20271010T130000
DTSTAMP:20260425T214220
CREATED:20240318T015424Z
LAST-MODIFIED:20240525T140422Z
UID:10000928-1823166000-1823173200@christmemorialbaptist.com
SUMMARY:SUNDAY MORNING SERVICE
DESCRIPTION:
URL:https://christmemorialbaptist.com/event/sunday-morning-service/2027-10-10/
LOCATION:Christ Memorial Baptist\, 1023 Dutchtown Rd\, Savannah\, GA\, 31406\, United States
CATEGORIES:Regular Worship Service
ATTACH;FMTTYPE=image/jpeg:https://christmemorialbaptist.com/wp-content/uploads/2024/03/sunday-service.jpg
END:VEVENT
BEGIN:VEVENT
DTSTART;TZID=America/New_York:20271012T180000
DTEND;TZID=America/New_York:20271012T190000
DTSTAMP:20260425T214220
CREATED:20240318T020448Z
LAST-MODIFIED:20240516T165113Z
UID:10001773-1823364000-1823367600@christmemorialbaptist.com
SUMMARY:PRAYER MEETING
DESCRIPTION:
URL:https://christmemorialbaptist.com/event/prayer-meeting/2027-10-12/
LOCATION:Christ Memorial Baptist\, 1023 Dutchtown Rd\, Savannah\, GA\, 31406\, United States
CATEGORIES:Prayer and Spiritual Meetings
END:VEVENT
BEGIN:VEVENT
DTSTART;TZID=America/New_York:20271012T180000
DTEND;TZID=America/New_York:20271012T190000
DTSTAMP:20260425T214220
CREATED:20240318T021233Z
LAST-MODIFIED:20240516T162328Z
UID:10000381-1823364000-1823367600@christmemorialbaptist.com
SUMMARY:MISSION MEETING
DESCRIPTION:
URL:https://christmemorialbaptist.com/event/mission-meeting/2027-10-12/
LOCATION:Christ Memorial Baptist\, 1023 Dutchtown Rd\, Savannah\, GA\, 31406\, United States
CATEGORIES:Prayer and Spiritual Meetings
END:VEVENT
BEGIN:VEVENT
DTSTART;TZID=America/New_York:20271012T190000
DTEND;TZID=America/New_York:20271012T200000
DTSTAMP:20260425T214220
CREATED:20240318T020615Z
LAST-MODIFIED:20240516T164910Z
UID:10001444-1823367600-1823371200@christmemorialbaptist.com
SUMMARY:BIBLE STUDY
DESCRIPTION:
URL:https://christmemorialbaptist.com/event/bible-study/2027-10-12/
LOCATION:Christ Memorial Baptist\, 1023 Dutchtown Rd\, Savannah\, GA\, 31406\, United States
CATEGORIES:Educational Events
END:VEVENT
BEGIN:VEVENT
DTSTART;TZID=America/New_York:20271013T173000
DTEND;TZID=America/New_York:20271013T183000
DTSTAMP:20260425T214220
CREATED:20240318T021129Z
LAST-MODIFIED:20240402T221910Z
UID:10000061-1823448600-1823452200@christmemorialbaptist.com
SUMMARY:YOUTH USHER’S MEETING
DESCRIPTION:
URL:https://christmemorialbaptist.com/event/youth-ushers-meeting/2027-10-13/
LOCATION:Christ Memorial Baptist\, 1023 Dutchtown Rd\, Savannah\, GA\, 31406\, United States
CATEGORIES:Youth Events
END:VEVENT
BEGIN:VEVENT
DTSTART;TZID=America/New_York:20271014T193000
DTEND;TZID=America/New_York:20271014T203000
DTSTAMP:20260425T214220
CREATED:20240318T021700Z
LAST-MODIFIED:20240516T164813Z
UID:10001177-1823542200-1823545800@christmemorialbaptist.com
SUMMARY:SOLID ROCK MINISTRY
DESCRIPTION:
URL:https://christmemorialbaptist.com/event/solid-rock-ministry/2027-10-14/
LOCATION:GA
CATEGORIES:Ministry and Organizational Meetings
END:VEVENT
BEGIN:VEVENT
DTSTART;TZID=America/New_York:20271017T094500
DTEND;TZID=America/New_York:20271017T110000
DTSTAMP:20260425T214220
CREATED:20240318T015214Z
LAST-MODIFIED:20240516T162702Z
UID:10000257-1823766300-1823770800@christmemorialbaptist.com
SUMMARY:SUNDAY SCHOOL
DESCRIPTION:
URL:https://christmemorialbaptist.com/event/sunday-school/2027-10-17/
LOCATION:Christ Memorial Baptist\, 1023 Dutchtown Rd\, Savannah\, GA\, 31406\, United States
CATEGORIES:Educational Events
END:VEVENT
BEGIN:VEVENT
DTSTART;TZID=America/New_York:20271017T110000
DTEND;TZID=America/New_York:20271017T130000
DTSTAMP:20260425T214220
CREATED:20240318T015424Z
LAST-MODIFIED:20240525T140422Z
UID:10000929-1823770800-1823778000@christmemorialbaptist.com
SUMMARY:SUNDAY MORNING SERVICE
DESCRIPTION:
URL:https://christmemorialbaptist.com/event/sunday-morning-service/2027-10-17/
LOCATION:Christ Memorial Baptist\, 1023 Dutchtown Rd\, Savannah\, GA\, 31406\, United States
CATEGORIES:Regular Worship Service
ATTACH;FMTTYPE=image/jpeg:https://christmemorialbaptist.com/wp-content/uploads/2024/03/sunday-service.jpg
END:VEVENT
BEGIN:VEVENT
DTSTART;TZID=America/New_York:20271017T110000
DTEND;TZID=America/New_York:20271017T130000
DTSTAMP:20260425T214220
CREATED:20240516T164132Z
LAST-MODIFIED:20240525T134808Z
UID:10000709-1823770800-1823778000@christmemorialbaptist.com
SUMMARY:CHILDREN'S CHURCH
DESCRIPTION:
URL:https://christmemorialbaptist.com/event/childrens-church-3/2027-10-17/
LOCATION:Christ Memorial Baptist\, 1023 Dutchtown Rd\, Savannah\, GA\, 31406\, United States
CATEGORIES:Youth Events
ATTACH;FMTTYPE=image/jpeg:https://christmemorialbaptist.com/wp-content/uploads/2024/05/childrens-church.jpg
END:VEVENT
BEGIN:VEVENT
DTSTART;TZID=America/New_York:20271019T180000
DTEND;TZID=America/New_York:20271019T190000
DTSTAMP:20260425T214220
CREATED:20240318T020448Z
LAST-MODIFIED:20240516T165113Z
UID:10001774-1823968800-1823972400@christmemorialbaptist.com
SUMMARY:PRAYER MEETING
DESCRIPTION:
URL:https://christmemorialbaptist.com/event/prayer-meeting/2027-10-19/
LOCATION:Christ Memorial Baptist\, 1023 Dutchtown Rd\, Savannah\, GA\, 31406\, United States
CATEGORIES:Prayer and Spiritual Meetings
END:VEVENT
BEGIN:VEVENT
DTSTART;TZID=America/New_York:20271019T190000
DTEND;TZID=America/New_York:20271019T200000
DTSTAMP:20260425T214220
CREATED:20240318T020615Z
LAST-MODIFIED:20240516T164910Z
UID:10001445-1823972400-1823976000@christmemorialbaptist.com
SUMMARY:BIBLE STUDY
DESCRIPTION:
URL:https://christmemorialbaptist.com/event/bible-study/2027-10-19/
LOCATION:Christ Memorial Baptist\, 1023 Dutchtown Rd\, Savannah\, GA\, 31406\, United States
CATEGORIES:Educational Events
END:VEVENT
BEGIN:VEVENT
DTSTART;TZID=America/New_York:20271021T193000
DTEND;TZID=America/New_York:20271021T203000
DTSTAMP:20260425T214220
CREATED:20240318T021700Z
LAST-MODIFIED:20240516T164813Z
UID:10001178-1824147000-1824150600@christmemorialbaptist.com
SUMMARY:SOLID ROCK MINISTRY
DESCRIPTION:
URL:https://christmemorialbaptist.com/event/solid-rock-ministry/2027-10-21/
LOCATION:GA
CATEGORIES:Ministry and Organizational Meetings
END:VEVENT
BEGIN:VEVENT
DTSTART;TZID=America/New_York:20271024T094500
DTEND;TZID=America/New_York:20271024T110000
DTSTAMP:20260425T214220
CREATED:20240318T015214Z
LAST-MODIFIED:20240516T162702Z
UID:10000258-1824371100-1824375600@christmemorialbaptist.com
SUMMARY:SUNDAY SCHOOL
DESCRIPTION:
URL:https://christmemorialbaptist.com/event/sunday-school/2027-10-24/
LOCATION:Christ Memorial Baptist\, 1023 Dutchtown Rd\, Savannah\, GA\, 31406\, United States
CATEGORIES:Educational Events
END:VEVENT
BEGIN:VEVENT
DTSTART;TZID=America/New_York:20271024T110000
DTEND;TZID=America/New_York:20271024T130000
DTSTAMP:20260425T214220
CREATED:20240318T015424Z
LAST-MODIFIED:20240525T140422Z
UID:10000930-1824375600-1824382800@christmemorialbaptist.com
SUMMARY:SUNDAY MORNING SERVICE
DESCRIPTION:
URL:https://christmemorialbaptist.com/event/sunday-morning-service/2027-10-24/
LOCATION:Christ Memorial Baptist\, 1023 Dutchtown Rd\, Savannah\, GA\, 31406\, United States
CATEGORIES:Regular Worship Service
ATTACH;FMTTYPE=image/jpeg:https://christmemorialbaptist.com/wp-content/uploads/2024/03/sunday-service.jpg
END:VEVENT
BEGIN:VEVENT
DTSTART;TZID=America/New_York:20271026T180000
DTEND;TZID=America/New_York:20271026T190000
DTSTAMP:20260425T214220
CREATED:20240318T020448Z
LAST-MODIFIED:20240516T165113Z
UID:10001775-1824573600-1824577200@christmemorialbaptist.com
SUMMARY:PRAYER MEETING
DESCRIPTION:
URL:https://christmemorialbaptist.com/event/prayer-meeting/2027-10-26/
LOCATION:Christ Memorial Baptist\, 1023 Dutchtown Rd\, Savannah\, GA\, 31406\, United States
CATEGORIES:Prayer and Spiritual Meetings
END:VEVENT
END:VCALENDAR