BEGIN:VCALENDAR
VERSION:2.0
PRODID:-//Christ Memorial Baptist Church - ECPv6.15.20//NONSGML v1.0//EN
CALSCALE:GREGORIAN
METHOD:PUBLISH
X-ORIGINAL-URL:https://christmemorialbaptist.com
X-WR-CALDESC:Events for Christ Memorial Baptist Church
REFRESH-INTERVAL;VALUE=DURATION:PT1H
X-Robots-Tag:noindex
X-PUBLISHED-TTL:PT1H
BEGIN:VTIMEZONE
TZID:America/New_York
BEGIN:DAYLIGHT
TZOFFSETFROM:-0500
TZOFFSETTO:-0400
TZNAME:EDT
DTSTART:20260308T070000
END:DAYLIGHT
BEGIN:STANDARD
TZOFFSETFROM:-0400
TZOFFSETTO:-0500
TZNAME:EST
DTSTART:20261101T060000
END:STANDARD
BEGIN:DAYLIGHT
TZOFFSETFROM:-0500
TZOFFSETTO:-0400
TZNAME:EDT
DTSTART:20270314T070000
END:DAYLIGHT
BEGIN:STANDARD
TZOFFSETFROM:-0400
TZOFFSETTO:-0500
TZNAME:EST
DTSTART:20271107T060000
END:STANDARD
BEGIN:DAYLIGHT
TZOFFSETFROM:-0500
TZOFFSETTO:-0400
TZNAME:EDT
DTSTART:20280312T070000
END:DAYLIGHT
BEGIN:STANDARD
TZOFFSETFROM:-0400
TZOFFSETTO:-0500
TZNAME:EST
DTSTART:20281105T060000
END:STANDARD
END:VTIMEZONE
BEGIN:VEVENT
DTSTART;TZID=America/New_York:20270204T193000
DTEND;TZID=America/New_York:20270204T203000
DTSTAMP:20260425T072319
CREATED:20240318T021700Z
LAST-MODIFIED:20240516T164813Z
UID:10001141-1801769400-1801773000@christmemorialbaptist.com
SUMMARY:SOLID ROCK MINISTRY
DESCRIPTION:
URL:https://christmemorialbaptist.com/event/solid-rock-ministry/2027-02-04/
LOCATION:GA
CATEGORIES:Ministry and Organizational Meetings
END:VEVENT
BEGIN:VEVENT
DTSTART;TZID=America/New_York:20270206T170000
DTEND;TZID=America/New_York:20270206T183000
DTSTAMP:20260425T072319
CREATED:20240318T021822Z
LAST-MODIFIED:20240516T163315Z
UID:10000496-1801933200-1801938600@christmemorialbaptist.com
SUMMARY:BAPTISM
DESCRIPTION:
URL:https://christmemorialbaptist.com/event/baptism/2027-02-06/
LOCATION:Christ Memorial Baptist\, 1023 Dutchtown Rd\, Savannah\, GA\, 31406\, United States
CATEGORIES:Special Worship Services
END:VEVENT
BEGIN:VEVENT
DTSTART;TZID=America/New_York:20270207T094500
DTEND;TZID=America/New_York:20270207T110000
DTSTAMP:20260425T072319
CREATED:20240318T015214Z
LAST-MODIFIED:20240516T162702Z
UID:10000221-1801993500-1801998000@christmemorialbaptist.com
SUMMARY:SUNDAY SCHOOL
DESCRIPTION:
URL:https://christmemorialbaptist.com/event/sunday-school/2027-02-07/
LOCATION:Christ Memorial Baptist\, 1023 Dutchtown Rd\, Savannah\, GA\, 31406\, United States
CATEGORIES:Educational Events
END:VEVENT
BEGIN:VEVENT
DTSTART;TZID=America/New_York:20270207T110000
DTEND;TZID=America/New_York:20270207T130000
DTSTAMP:20260425T072319
CREATED:20240318T015749Z
LAST-MODIFIED:20240516T163135Z
UID:10000435-1801998000-1802005200@christmemorialbaptist.com
SUMMARY:HOLY COMMUNION
DESCRIPTION:
URL:https://christmemorialbaptist.com/event/holy-communion/2027-02-07/
LOCATION:Christ Memorial Baptist\, 1023 Dutchtown Rd\, Savannah\, GA\, 31406\, United States
CATEGORIES:Special Worship Services
END:VEVENT
BEGIN:VEVENT
DTSTART;TZID=America/New_York:20270207T110000
DTEND;TZID=America/New_York:20270224T130000
DTSTAMP:20260425T072319
CREATED:20240516T164327Z
LAST-MODIFIED:20240525T134730Z
UID:10000760-1801998000-1803474000@christmemorialbaptist.com
SUMMARY:CHILDREN'S CHURCH
DESCRIPTION:
URL:https://christmemorialbaptist.com/event/childrens-church/2027-02-07/
LOCATION:Christ Memorial Baptist\, 1023 Dutchtown Rd\, Savannah\, GA\, 31406\, United States
CATEGORIES:Youth Events
ATTACH;FMTTYPE=image/jpeg:https://christmemorialbaptist.com/wp-content/uploads/2024/05/childrens-church.jpg
END:VEVENT
BEGIN:VEVENT
DTSTART;TZID=America/New_York:20270209T180000
DTEND;TZID=America/New_York:20270209T190000
DTSTAMP:20260425T072319
CREATED:20240318T020448Z
LAST-MODIFIED:20240516T165113Z
UID:10001738-1802196000-1802199600@christmemorialbaptist.com
SUMMARY:PRAYER MEETING
DESCRIPTION:
URL:https://christmemorialbaptist.com/event/prayer-meeting/2027-02-09/
LOCATION:Christ Memorial Baptist\, 1023 Dutchtown Rd\, Savannah\, GA\, 31406\, United States
CATEGORIES:Prayer and Spiritual Meetings
END:VEVENT
BEGIN:VEVENT
DTSTART;TZID=America/New_York:20270209T180000
DTEND;TZID=America/New_York:20270209T190000
DTSTAMP:20260425T072319
CREATED:20240318T021233Z
LAST-MODIFIED:20240516T162328Z
UID:10000373-1802196000-1802199600@christmemorialbaptist.com
SUMMARY:MISSION MEETING
DESCRIPTION:
URL:https://christmemorialbaptist.com/event/mission-meeting/2027-02-09/
LOCATION:Christ Memorial Baptist\, 1023 Dutchtown Rd\, Savannah\, GA\, 31406\, United States
CATEGORIES:Prayer and Spiritual Meetings
END:VEVENT
BEGIN:VEVENT
DTSTART;TZID=America/New_York:20270209T190000
DTEND;TZID=America/New_York:20270209T200000
DTSTAMP:20260425T072319
CREATED:20240318T020615Z
LAST-MODIFIED:20240516T164910Z
UID:10001409-1802199600-1802203200@christmemorialbaptist.com
SUMMARY:BIBLE STUDY
DESCRIPTION:
URL:https://christmemorialbaptist.com/event/bible-study/2027-02-09/
LOCATION:Christ Memorial Baptist\, 1023 Dutchtown Rd\, Savannah\, GA\, 31406\, United States
CATEGORIES:Educational Events
END:VEVENT
BEGIN:VEVENT
DTSTART;TZID=America/New_York:20270210T173000
DTEND;TZID=America/New_York:20270210T183000
DTSTAMP:20260425T072319
CREATED:20240318T021129Z
LAST-MODIFIED:20240402T221910Z
UID:10000053-1802280600-1802284200@christmemorialbaptist.com
SUMMARY:YOUTH USHER’S MEETING
DESCRIPTION:
URL:https://christmemorialbaptist.com/event/youth-ushers-meeting/2027-02-10/
LOCATION:Christ Memorial Baptist\, 1023 Dutchtown Rd\, Savannah\, GA\, 31406\, United States
CATEGORIES:Youth Events
END:VEVENT
BEGIN:VEVENT
DTSTART;TZID=America/New_York:20270211T193000
DTEND;TZID=America/New_York:20270211T203000
DTSTAMP:20260425T072319
CREATED:20240318T021700Z
LAST-MODIFIED:20240516T164813Z
UID:10001142-1802374200-1802377800@christmemorialbaptist.com
SUMMARY:SOLID ROCK MINISTRY
DESCRIPTION:
URL:https://christmemorialbaptist.com/event/solid-rock-ministry/2027-02-11/
LOCATION:GA
CATEGORIES:Ministry and Organizational Meetings
END:VEVENT
BEGIN:VEVENT
DTSTART;TZID=America/New_York:20270214T094500
DTEND;TZID=America/New_York:20270214T110000
DTSTAMP:20260425T072319
CREATED:20240318T015214Z
LAST-MODIFIED:20240516T162702Z
UID:10000222-1802598300-1802602800@christmemorialbaptist.com
SUMMARY:SUNDAY SCHOOL
DESCRIPTION:
URL:https://christmemorialbaptist.com/event/sunday-school/2027-02-14/
LOCATION:Christ Memorial Baptist\, 1023 Dutchtown Rd\, Savannah\, GA\, 31406\, United States
CATEGORIES:Educational Events
END:VEVENT
BEGIN:VEVENT
DTSTART;TZID=America/New_York:20270214T110000
DTEND;TZID=America/New_York:20270214T130000
DTSTAMP:20260425T072319
CREATED:20240318T015424Z
LAST-MODIFIED:20240525T140422Z
UID:10000902-1802602800-1802610000@christmemorialbaptist.com
SUMMARY:SUNDAY MORNING SERVICE
DESCRIPTION:
URL:https://christmemorialbaptist.com/event/sunday-morning-service/2027-02-14/
LOCATION:Christ Memorial Baptist\, 1023 Dutchtown Rd\, Savannah\, GA\, 31406\, United States
CATEGORIES:Regular Worship Service
ATTACH;FMTTYPE=image/jpeg:https://christmemorialbaptist.com/wp-content/uploads/2024/03/sunday-service.jpg
END:VEVENT
BEGIN:VEVENT
DTSTART;TZID=America/New_York:20270216T180000
DTEND;TZID=America/New_York:20270216T190000
DTSTAMP:20260425T072319
CREATED:20240318T020448Z
LAST-MODIFIED:20240516T165113Z
UID:10001739-1802800800-1802804400@christmemorialbaptist.com
SUMMARY:PRAYER MEETING
DESCRIPTION:
URL:https://christmemorialbaptist.com/event/prayer-meeting/2027-02-16/
LOCATION:Christ Memorial Baptist\, 1023 Dutchtown Rd\, Savannah\, GA\, 31406\, United States
CATEGORIES:Prayer and Spiritual Meetings
END:VEVENT
BEGIN:VEVENT
DTSTART;TZID=America/New_York:20270216T190000
DTEND;TZID=America/New_York:20270216T200000
DTSTAMP:20260425T072319
CREATED:20240318T020615Z
LAST-MODIFIED:20240516T164910Z
UID:10001410-1802804400-1802808000@christmemorialbaptist.com
SUMMARY:BIBLE STUDY
DESCRIPTION:
URL:https://christmemorialbaptist.com/event/bible-study/2027-02-16/
LOCATION:Christ Memorial Baptist\, 1023 Dutchtown Rd\, Savannah\, GA\, 31406\, United States
CATEGORIES:Educational Events
END:VEVENT
BEGIN:VEVENT
DTSTART;TZID=America/New_York:20270218T193000
DTEND;TZID=America/New_York:20270218T203000
DTSTAMP:20260425T072319
CREATED:20240318T021700Z
LAST-MODIFIED:20240516T164813Z
UID:10001143-1802979000-1802982600@christmemorialbaptist.com
SUMMARY:SOLID ROCK MINISTRY
DESCRIPTION:
URL:https://christmemorialbaptist.com/event/solid-rock-ministry/2027-02-18/
LOCATION:GA
CATEGORIES:Ministry and Organizational Meetings
END:VEVENT
BEGIN:VEVENT
DTSTART;TZID=America/New_York:20270221T094500
DTEND;TZID=America/New_York:20270221T110000
DTSTAMP:20260425T072319
CREATED:20240318T015214Z
LAST-MODIFIED:20240516T162702Z
UID:10000223-1803203100-1803207600@christmemorialbaptist.com
SUMMARY:SUNDAY SCHOOL
DESCRIPTION:
URL:https://christmemorialbaptist.com/event/sunday-school/2027-02-21/
LOCATION:Christ Memorial Baptist\, 1023 Dutchtown Rd\, Savannah\, GA\, 31406\, United States
CATEGORIES:Educational Events
END:VEVENT
BEGIN:VEVENT
DTSTART;TZID=America/New_York:20270221T110000
DTEND;TZID=America/New_York:20270221T130000
DTSTAMP:20260425T072319
CREATED:20240318T015424Z
LAST-MODIFIED:20240525T140422Z
UID:10000903-1803207600-1803214800@christmemorialbaptist.com
SUMMARY:SUNDAY MORNING SERVICE
DESCRIPTION:
URL:https://christmemorialbaptist.com/event/sunday-morning-service/2027-02-21/
LOCATION:Christ Memorial Baptist\, 1023 Dutchtown Rd\, Savannah\, GA\, 31406\, United States
CATEGORIES:Regular Worship Service
ATTACH;FMTTYPE=image/jpeg:https://christmemorialbaptist.com/wp-content/uploads/2024/03/sunday-service.jpg
END:VEVENT
BEGIN:VEVENT
DTSTART;TZID=America/New_York:20270221T110000
DTEND;TZID=America/New_York:20270221T130000
DTSTAMP:20260425T072319
CREATED:20240516T164132Z
LAST-MODIFIED:20240525T134808Z
UID:10000701-1803207600-1803214800@christmemorialbaptist.com
SUMMARY:CHILDREN'S CHURCH
DESCRIPTION:
URL:https://christmemorialbaptist.com/event/childrens-church-3/2027-02-21/
LOCATION:Christ Memorial Baptist\, 1023 Dutchtown Rd\, Savannah\, GA\, 31406\, United States
CATEGORIES:Youth Events
ATTACH;FMTTYPE=image/jpeg:https://christmemorialbaptist.com/wp-content/uploads/2024/05/childrens-church.jpg
END:VEVENT
BEGIN:VEVENT
DTSTART;TZID=America/New_York:20270223T180000
DTEND;TZID=America/New_York:20270223T190000
DTSTAMP:20260425T072319
CREATED:20240318T020448Z
LAST-MODIFIED:20240516T165113Z
UID:10001740-1803405600-1803409200@christmemorialbaptist.com
SUMMARY:PRAYER MEETING
DESCRIPTION:
URL:https://christmemorialbaptist.com/event/prayer-meeting/2027-02-23/
LOCATION:Christ Memorial Baptist\, 1023 Dutchtown Rd\, Savannah\, GA\, 31406\, United States
CATEGORIES:Prayer and Spiritual Meetings
END:VEVENT
BEGIN:VEVENT
DTSTART;TZID=America/New_York:20270223T180000
DTEND;TZID=America/New_York:20270223T190000
DTSTAMP:20260425T072319
CREATED:20240318T021954Z
LAST-MODIFIED:20240516T165009Z
UID:10001562-1803405600-1803409200@christmemorialbaptist.com
SUMMARY:DEACON’S MEETING
DESCRIPTION:
URL:https://christmemorialbaptist.com/event/deacons-meeting/2027-02-23/
LOCATION:Christ Memorial Baptist\, 1023 Dutchtown Rd\, Savannah\, GA\, 31406\, United States
CATEGORIES:Prayer and Spiritual Meetings
END:VEVENT
BEGIN:VEVENT
DTSTART;TZID=America/New_York:20270223T190000
DTEND;TZID=America/New_York:20270223T200000
DTSTAMP:20260425T072319
CREATED:20240318T020615Z
LAST-MODIFIED:20240516T164910Z
UID:10001411-1803409200-1803412800@christmemorialbaptist.com
SUMMARY:BIBLE STUDY
DESCRIPTION:
URL:https://christmemorialbaptist.com/event/bible-study/2027-02-23/
LOCATION:Christ Memorial Baptist\, 1023 Dutchtown Rd\, Savannah\, GA\, 31406\, United States
CATEGORIES:Educational Events
END:VEVENT
BEGIN:VEVENT
DTSTART;TZID=America/New_York:20270225T193000
DTEND;TZID=America/New_York:20270225T203000
DTSTAMP:20260425T072319
CREATED:20240318T021700Z
LAST-MODIFIED:20240516T164813Z
UID:10001144-1803583800-1803587400@christmemorialbaptist.com
SUMMARY:SOLID ROCK MINISTRY
DESCRIPTION:
URL:https://christmemorialbaptist.com/event/solid-rock-ministry/2027-02-25/
LOCATION:GA
CATEGORIES:Ministry and Organizational Meetings
END:VEVENT
BEGIN:VEVENT
DTSTART;TZID=America/New_York:20270228T094500
DTEND;TZID=America/New_York:20270228T110000
DTSTAMP:20260425T072319
CREATED:20240318T015214Z
LAST-MODIFIED:20240516T162702Z
UID:10000224-1803807900-1803812400@christmemorialbaptist.com
SUMMARY:SUNDAY SCHOOL
DESCRIPTION:
URL:https://christmemorialbaptist.com/event/sunday-school/2027-02-28/
LOCATION:Christ Memorial Baptist\, 1023 Dutchtown Rd\, Savannah\, GA\, 31406\, United States
CATEGORIES:Educational Events
END:VEVENT
BEGIN:VEVENT
DTSTART;TZID=America/New_York:20270228T110000
DTEND;TZID=America/New_York:20270228T130000
DTSTAMP:20260425T072319
CREATED:20240318T015424Z
LAST-MODIFIED:20240525T140422Z
UID:10000904-1803812400-1803819600@christmemorialbaptist.com
SUMMARY:SUNDAY MORNING SERVICE
DESCRIPTION:
URL:https://christmemorialbaptist.com/event/sunday-morning-service/2027-02-28/
LOCATION:Christ Memorial Baptist\, 1023 Dutchtown Rd\, Savannah\, GA\, 31406\, United States
CATEGORIES:Regular Worship Service
ATTACH;FMTTYPE=image/jpeg:https://christmemorialbaptist.com/wp-content/uploads/2024/03/sunday-service.jpg
END:VEVENT
BEGIN:VEVENT
DTSTART;TZID=America/New_York:20270302T180000
DTEND;TZID=America/New_York:20270302T190000
DTSTAMP:20260425T072319
CREATED:20240318T020448Z
LAST-MODIFIED:20240516T165113Z
UID:10001741-1804010400-1804014000@christmemorialbaptist.com
SUMMARY:PRAYER MEETING
DESCRIPTION:
URL:https://christmemorialbaptist.com/event/prayer-meeting/2027-03-02/
LOCATION:Christ Memorial Baptist\, 1023 Dutchtown Rd\, Savannah\, GA\, 31406\, United States
CATEGORIES:Prayer and Spiritual Meetings
END:VEVENT
BEGIN:VEVENT
DTSTART;TZID=America/New_York:20270302T180000
DTEND;TZID=America/New_York:20270302T190000
DTSTAMP:20260425T072319
CREATED:20240318T020806Z
LAST-MODIFIED:20240516T163637Z
UID:10000619-1804010400-1804014000@christmemorialbaptist.com
SUMMARY:ADULT USHER’S MEETING
DESCRIPTION:
URL:https://christmemorialbaptist.com/event/adult-ushers-meeting/2027-03-02/
LOCATION:Christ Memorial Baptist\, 1023 Dutchtown Rd\, Savannah\, GA\, 31406\, United States
CATEGORIES:Ministry and Organizational Meetings
END:VEVENT
BEGIN:VEVENT
DTSTART;TZID=America/New_York:20270302T180000
DTEND;TZID=America/New_York:20270302T190000
DTSTAMP:20260425T072319
CREATED:20240318T022106Z
LAST-MODIFIED:20240516T163527Z
UID:10000558-1804010400-1804014000@christmemorialbaptist.com
SUMMARY:DEACONESS MEETING
DESCRIPTION:
URL:https://christmemorialbaptist.com/event/deaconess-meeting/2027-03-02/
LOCATION:Christ Memorial Baptist\, 1023 Dutchtown Rd\, Savannah\, GA\, 31406\, United States
CATEGORIES:Prayer and Spiritual Meetings
END:VEVENT
BEGIN:VEVENT
DTSTART;TZID=America/New_York:20270302T190000
DTEND;TZID=America/New_York:20270302T200000
DTSTAMP:20260425T072319
CREATED:20240318T020615Z
LAST-MODIFIED:20240516T164910Z
UID:10001412-1804014000-1804017600@christmemorialbaptist.com
SUMMARY:BIBLE STUDY
DESCRIPTION:
URL:https://christmemorialbaptist.com/event/bible-study/2027-03-02/
LOCATION:Christ Memorial Baptist\, 1023 Dutchtown Rd\, Savannah\, GA\, 31406\, United States
CATEGORIES:Educational Events
END:VEVENT
BEGIN:VEVENT
DTSTART;TZID=America/New_York:20270304T193000
DTEND;TZID=America/New_York:20270304T203000
DTSTAMP:20260425T072319
CREATED:20240318T021700Z
LAST-MODIFIED:20240516T164813Z
UID:10001145-1804188600-1804192200@christmemorialbaptist.com
SUMMARY:SOLID ROCK MINISTRY
DESCRIPTION:
URL:https://christmemorialbaptist.com/event/solid-rock-ministry/2027-03-04/
LOCATION:GA
CATEGORIES:Ministry and Organizational Meetings
END:VEVENT
BEGIN:VEVENT
DTSTART;TZID=America/New_York:20270306T170000
DTEND;TZID=America/New_York:20270306T183000
DTSTAMP:20260425T072319
CREATED:20240318T021822Z
LAST-MODIFIED:20240516T163315Z
UID:10000497-1804352400-1804357800@christmemorialbaptist.com
SUMMARY:BAPTISM
DESCRIPTION:
URL:https://christmemorialbaptist.com/event/baptism/2027-03-06/
LOCATION:Christ Memorial Baptist\, 1023 Dutchtown Rd\, Savannah\, GA\, 31406\, United States
CATEGORIES:Special Worship Services
END:VEVENT
END:VCALENDAR