BEGIN:VCALENDAR
VERSION:2.0
PRODID:-//Christ Memorial Baptist Church - ECPv6.15.20//NONSGML v1.0//EN
CALSCALE:GREGORIAN
METHOD:PUBLISH
X-WR-CALNAME:Christ Memorial Baptist Church
X-ORIGINAL-URL:https://christmemorialbaptist.com
X-WR-CALDESC:Events for Christ Memorial Baptist Church
REFRESH-INTERVAL;VALUE=DURATION:PT1H
X-Robots-Tag:noindex
X-PUBLISHED-TTL:PT1H
BEGIN:VTIMEZONE
TZID:America/New_York
BEGIN:DAYLIGHT
TZOFFSETFROM:-0500
TZOFFSETTO:-0400
TZNAME:EDT
DTSTART:20240310T070000
END:DAYLIGHT
BEGIN:STANDARD
TZOFFSETFROM:-0400
TZOFFSETTO:-0500
TZNAME:EST
DTSTART:20241103T060000
END:STANDARD
BEGIN:DAYLIGHT
TZOFFSETFROM:-0500
TZOFFSETTO:-0400
TZNAME:EDT
DTSTART:20250309T070000
END:DAYLIGHT
BEGIN:STANDARD
TZOFFSETFROM:-0400
TZOFFSETTO:-0500
TZNAME:EST
DTSTART:20251102T060000
END:STANDARD
BEGIN:DAYLIGHT
TZOFFSETFROM:-0500
TZOFFSETTO:-0400
TZNAME:EDT
DTSTART:20260308T070000
END:DAYLIGHT
BEGIN:STANDARD
TZOFFSETFROM:-0400
TZOFFSETTO:-0500
TZNAME:EST
DTSTART:20261101T060000
END:STANDARD
END:VTIMEZONE
BEGIN:VEVENT
DTSTART;TZID=America/New_York:20251214T110000
DTEND;TZID=America/New_York:20251214T130000
DTSTAMP:20260424T053128
CREATED:20240318T015424Z
LAST-MODIFIED:20240525T140422Z
UID:10000855-1765710000-1765717200@christmemorialbaptist.com
SUMMARY:SUNDAY MORNING SERVICE
DESCRIPTION:
URL:https://christmemorialbaptist.com/event/sunday-morning-service/2025-12-14/
LOCATION:Christ Memorial Baptist\, 1023 Dutchtown Rd\, Savannah\, GA\, 31406\, United States
CATEGORIES:Regular Worship Service
ATTACH;FMTTYPE=image/jpeg:https://christmemorialbaptist.com/wp-content/uploads/2024/03/sunday-service.jpg
END:VEVENT
BEGIN:VEVENT
DTSTART;TZID=America/New_York:20251214T094500
DTEND;TZID=America/New_York:20251214T110000
DTSTAMP:20260424T053128
CREATED:20240318T015214Z
LAST-MODIFIED:20240516T162702Z
UID:10000161-1765705500-1765710000@christmemorialbaptist.com
SUMMARY:SUNDAY SCHOOL
DESCRIPTION:
URL:https://christmemorialbaptist.com/event/sunday-school/2025-12-14/
LOCATION:Christ Memorial Baptist\, 1023 Dutchtown Rd\, Savannah\, GA\, 31406\, United States
CATEGORIES:Educational Events
END:VEVENT
BEGIN:VEVENT
DTSTART;TZID=America/New_York:20251211T193000
DTEND;TZID=America/New_York:20251211T203000
DTSTAMP:20260424T053128
CREATED:20240318T021700Z
LAST-MODIFIED:20240516T164813Z
UID:10001081-1765481400-1765485000@christmemorialbaptist.com
SUMMARY:SOLID ROCK MINISTRY
DESCRIPTION:
URL:https://christmemorialbaptist.com/event/solid-rock-ministry/2025-12-11/
LOCATION:GA
CATEGORIES:Ministry and Organizational Meetings
END:VEVENT
BEGIN:VEVENT
DTSTART;TZID=America/New_York:20251210T173000
DTEND;TZID=America/New_York:20251210T183000
DTSTAMP:20260424T053128
CREATED:20240318T021129Z
LAST-MODIFIED:20240402T221910Z
UID:10000039-1765387800-1765391400@christmemorialbaptist.com
SUMMARY:YOUTH USHER’S MEETING
DESCRIPTION:
URL:https://christmemorialbaptist.com/event/youth-ushers-meeting/2025-12-10/
LOCATION:Christ Memorial Baptist\, 1023 Dutchtown Rd\, Savannah\, GA\, 31406\, United States
CATEGORIES:Youth Events
END:VEVENT
BEGIN:VEVENT
DTSTART;TZID=America/New_York:20251209T190000
DTEND;TZID=America/New_York:20251209T200000
DTSTAMP:20260424T053128
CREATED:20240318T020615Z
LAST-MODIFIED:20240516T164910Z
UID:10001348-1765306800-1765310400@christmemorialbaptist.com
SUMMARY:BIBLE STUDY
DESCRIPTION:
URL:https://christmemorialbaptist.com/event/bible-study/2025-12-09/
LOCATION:Christ Memorial Baptist\, 1023 Dutchtown Rd\, Savannah\, GA\, 31406\, United States
CATEGORIES:Educational Events
END:VEVENT
BEGIN:VEVENT
DTSTART;TZID=America/New_York:20251209T180000
DTEND;TZID=America/New_York:20251209T190000
DTSTAMP:20260424T053128
CREATED:20240318T021233Z
LAST-MODIFIED:20240516T162328Z
UID:10000359-1765303200-1765306800@christmemorialbaptist.com
SUMMARY:MISSION MEETING
DESCRIPTION:
URL:https://christmemorialbaptist.com/event/mission-meeting/2025-12-09/
LOCATION:Christ Memorial Baptist\, 1023 Dutchtown Rd\, Savannah\, GA\, 31406\, United States
CATEGORIES:Prayer and Spiritual Meetings
END:VEVENT
BEGIN:VEVENT
DTSTART;TZID=America/New_York:20251209T180000
DTEND;TZID=America/New_York:20251209T190000
DTSTAMP:20260424T053128
CREATED:20240318T020448Z
LAST-MODIFIED:20240516T165113Z
UID:10001677-1765303200-1765306800@christmemorialbaptist.com
SUMMARY:PRAYER MEETING
DESCRIPTION:
URL:https://christmemorialbaptist.com/event/prayer-meeting/2025-12-09/
LOCATION:Christ Memorial Baptist\, 1023 Dutchtown Rd\, Savannah\, GA\, 31406\, United States
CATEGORIES:Prayer and Spiritual Meetings
END:VEVENT
BEGIN:VEVENT
DTSTART;TZID=America/New_York:20251207T110000
DTEND;TZID=America/New_York:20251224T130000
DTSTAMP:20260424T053128
CREATED:20240516T164327Z
LAST-MODIFIED:20240525T134730Z
UID:10000746-1765105200-1766581200@christmemorialbaptist.com
SUMMARY:CHILDREN'S CHURCH
DESCRIPTION:
URL:https://christmemorialbaptist.com/event/childrens-church/2025-12-07/
LOCATION:Christ Memorial Baptist\, 1023 Dutchtown Rd\, Savannah\, GA\, 31406\, United States
CATEGORIES:Youth Events
ATTACH;FMTTYPE=image/jpeg:https://christmemorialbaptist.com/wp-content/uploads/2024/05/childrens-church.jpg
END:VEVENT
BEGIN:VEVENT
DTSTART;TZID=America/New_York:20251207T110000
DTEND;TZID=America/New_York:20251207T130000
DTSTAMP:20260424T053128
CREATED:20240318T015749Z
LAST-MODIFIED:20240516T163135Z
UID:10000421-1765105200-1765112400@christmemorialbaptist.com
SUMMARY:HOLY COMMUNION
DESCRIPTION:
URL:https://christmemorialbaptist.com/event/holy-communion/2025-12-07/
LOCATION:Christ Memorial Baptist\, 1023 Dutchtown Rd\, Savannah\, GA\, 31406\, United States
CATEGORIES:Special Worship Services
END:VEVENT
BEGIN:VEVENT
DTSTART;TZID=America/New_York:20251207T094500
DTEND;TZID=America/New_York:20251207T110000
DTSTAMP:20260424T053128
CREATED:20240318T015214Z
LAST-MODIFIED:20240516T162702Z
UID:10000160-1765100700-1765105200@christmemorialbaptist.com
SUMMARY:SUNDAY SCHOOL
DESCRIPTION:
URL:https://christmemorialbaptist.com/event/sunday-school/2025-12-07/
LOCATION:Christ Memorial Baptist\, 1023 Dutchtown Rd\, Savannah\, GA\, 31406\, United States
CATEGORIES:Educational Events
END:VEVENT
BEGIN:VEVENT
DTSTART;TZID=America/New_York:20251206T170000
DTEND;TZID=America/New_York:20251206T183000
DTSTAMP:20260424T053128
CREATED:20240318T021822Z
LAST-MODIFIED:20240516T163315Z
UID:10000482-1765040400-1765045800@christmemorialbaptist.com
SUMMARY:BAPTISM
DESCRIPTION:
URL:https://christmemorialbaptist.com/event/baptism/2025-12-06/
LOCATION:Christ Memorial Baptist\, 1023 Dutchtown Rd\, Savannah\, GA\, 31406\, United States
CATEGORIES:Special Worship Services
END:VEVENT
BEGIN:VEVENT
DTSTART;TZID=America/New_York:20251204T193000
DTEND;TZID=America/New_York:20251204T203000
DTSTAMP:20260424T053128
CREATED:20240318T021700Z
LAST-MODIFIED:20240516T164813Z
UID:10001080-1764876600-1764880200@christmemorialbaptist.com
SUMMARY:SOLID ROCK MINISTRY
DESCRIPTION:
URL:https://christmemorialbaptist.com/event/solid-rock-ministry/2025-12-04/
LOCATION:GA
CATEGORIES:Ministry and Organizational Meetings
END:VEVENT
BEGIN:VEVENT
DTSTART;TZID=America/New_York:20251202T190000
DTEND;TZID=America/New_York:20251202T200000
DTSTAMP:20260424T053128
CREATED:20240318T020615Z
LAST-MODIFIED:20240516T164910Z
UID:10001347-1764702000-1764705600@christmemorialbaptist.com
SUMMARY:BIBLE STUDY
DESCRIPTION:
URL:https://christmemorialbaptist.com/event/bible-study/2025-12-02/
LOCATION:Christ Memorial Baptist\, 1023 Dutchtown Rd\, Savannah\, GA\, 31406\, United States
CATEGORIES:Educational Events
END:VEVENT
BEGIN:VEVENT
DTSTART;TZID=America/New_York:20251202T180000
DTEND;TZID=America/New_York:20251202T190000
DTSTAMP:20260424T053128
CREATED:20240318T022106Z
LAST-MODIFIED:20240516T163527Z
UID:10000543-1764698400-1764702000@christmemorialbaptist.com
SUMMARY:DEACONESS MEETING
DESCRIPTION:
URL:https://christmemorialbaptist.com/event/deaconess-meeting/2025-12-02/
LOCATION:Christ Memorial Baptist\, 1023 Dutchtown Rd\, Savannah\, GA\, 31406\, United States
CATEGORIES:Prayer and Spiritual Meetings
END:VEVENT
BEGIN:VEVENT
DTSTART;TZID=America/New_York:20251202T180000
DTEND;TZID=America/New_York:20251202T190000
DTSTAMP:20260424T053128
CREATED:20240318T020806Z
LAST-MODIFIED:20240516T163637Z
UID:10000604-1764698400-1764702000@christmemorialbaptist.com
SUMMARY:ADULT USHER’S MEETING
DESCRIPTION:
URL:https://christmemorialbaptist.com/event/adult-ushers-meeting/2025-12-02/
LOCATION:Christ Memorial Baptist\, 1023 Dutchtown Rd\, Savannah\, GA\, 31406\, United States
CATEGORIES:Ministry and Organizational Meetings
END:VEVENT
BEGIN:VEVENT
DTSTART;TZID=America/New_York:20251202T180000
DTEND;TZID=America/New_York:20251202T190000
DTSTAMP:20260424T053128
CREATED:20240318T020448Z
LAST-MODIFIED:20240516T165113Z
UID:10001676-1764698400-1764702000@christmemorialbaptist.com
SUMMARY:PRAYER MEETING
DESCRIPTION:
URL:https://christmemorialbaptist.com/event/prayer-meeting/2025-12-02/
LOCATION:Christ Memorial Baptist\, 1023 Dutchtown Rd\, Savannah\, GA\, 31406\, United States
CATEGORIES:Prayer and Spiritual Meetings
END:VEVENT
BEGIN:VEVENT
DTSTART;TZID=America/New_York:20251130T110000
DTEND;TZID=America/New_York:20251130T130000
DTSTAMP:20260424T053128
CREATED:20240318T015615Z
LAST-MODIFIED:20240516T163925Z
UID:10000653-1764500400-1764507600@christmemorialbaptist.com
SUMMARY:CHILDREN’S CHURCH
DESCRIPTION:
URL:https://christmemorialbaptist.com/event/childrens-church-5/2025-11-30/
LOCATION:Christ Memorial Baptist\, 1023 Dutchtown Rd\, Savannah\, GA\, 31406\, United States
CATEGORIES:Youth Events
END:VEVENT
BEGIN:VEVENT
DTSTART;TZID=America/New_York:20251130T110000
DTEND;TZID=America/New_York:20251130T130000
DTSTAMP:20260424T053128
CREATED:20240318T015424Z
LAST-MODIFIED:20240525T140422Z
UID:10000854-1764500400-1764507600@christmemorialbaptist.com
SUMMARY:SUNDAY MORNING SERVICE
DESCRIPTION:
URL:https://christmemorialbaptist.com/event/sunday-morning-service/2025-11-30/
LOCATION:Christ Memorial Baptist\, 1023 Dutchtown Rd\, Savannah\, GA\, 31406\, United States
CATEGORIES:Regular Worship Service
ATTACH;FMTTYPE=image/jpeg:https://christmemorialbaptist.com/wp-content/uploads/2024/03/sunday-service.jpg
END:VEVENT
BEGIN:VEVENT
DTSTART;TZID=America/New_York:20251130T094500
DTEND;TZID=America/New_York:20251130T110000
DTSTAMP:20260424T053128
CREATED:20240318T015214Z
LAST-MODIFIED:20240516T162702Z
UID:10000159-1764495900-1764500400@christmemorialbaptist.com
SUMMARY:SUNDAY SCHOOL
DESCRIPTION:
URL:https://christmemorialbaptist.com/event/sunday-school/2025-11-30/
LOCATION:Christ Memorial Baptist\, 1023 Dutchtown Rd\, Savannah\, GA\, 31406\, United States
CATEGORIES:Educational Events
END:VEVENT
BEGIN:VEVENT
DTSTART;TZID=America/New_York:20251127T193000
DTEND;TZID=America/New_York:20251127T203000
DTSTAMP:20260424T053128
CREATED:20240318T021700Z
LAST-MODIFIED:20240516T164813Z
UID:10001079-1764271800-1764275400@christmemorialbaptist.com
SUMMARY:SOLID ROCK MINISTRY
DESCRIPTION:
URL:https://christmemorialbaptist.com/event/solid-rock-ministry/2025-11-27/
LOCATION:GA
CATEGORIES:Ministry and Organizational Meetings
END:VEVENT
BEGIN:VEVENT
DTSTART;TZID=America/New_York:20251125T190000
DTEND;TZID=America/New_York:20251125T200000
DTSTAMP:20260424T053128
CREATED:20240318T020615Z
LAST-MODIFIED:20240516T164910Z
UID:10001346-1764097200-1764100800@christmemorialbaptist.com
SUMMARY:BIBLE STUDY
DESCRIPTION:
URL:https://christmemorialbaptist.com/event/bible-study/2025-11-25/
LOCATION:Christ Memorial Baptist\, 1023 Dutchtown Rd\, Savannah\, GA\, 31406\, United States
CATEGORIES:Educational Events
END:VEVENT
BEGIN:VEVENT
DTSTART;TZID=America/New_York:20251125T180000
DTEND;TZID=America/New_York:20251125T190000
DTSTAMP:20260424T053128
CREATED:20240318T021954Z
LAST-MODIFIED:20240516T165009Z
UID:10001547-1764093600-1764097200@christmemorialbaptist.com
SUMMARY:DEACON’S MEETING
DESCRIPTION:
URL:https://christmemorialbaptist.com/event/deacons-meeting/2025-11-25/
LOCATION:Christ Memorial Baptist\, 1023 Dutchtown Rd\, Savannah\, GA\, 31406\, United States
CATEGORIES:Prayer and Spiritual Meetings
END:VEVENT
BEGIN:VEVENT
DTSTART;TZID=America/New_York:20251125T180000
DTEND;TZID=America/New_York:20251125T190000
DTSTAMP:20260424T053128
CREATED:20240318T020448Z
LAST-MODIFIED:20240516T165113Z
UID:10001675-1764093600-1764097200@christmemorialbaptist.com
SUMMARY:PRAYER MEETING
DESCRIPTION:
URL:https://christmemorialbaptist.com/event/prayer-meeting/2025-11-25/
LOCATION:Christ Memorial Baptist\, 1023 Dutchtown Rd\, Savannah\, GA\, 31406\, United States
CATEGORIES:Prayer and Spiritual Meetings
END:VEVENT
BEGIN:VEVENT
DTSTART;TZID=America/New_York:20251123T110000
DTEND;TZID=America/New_York:20251123T130000
DTSTAMP:20260424T053128
CREATED:20240318T015424Z
LAST-MODIFIED:20240525T140422Z
UID:10000853-1763895600-1763902800@christmemorialbaptist.com
SUMMARY:SUNDAY MORNING SERVICE
DESCRIPTION:
URL:https://christmemorialbaptist.com/event/sunday-morning-service/2025-11-23/
LOCATION:Christ Memorial Baptist\, 1023 Dutchtown Rd\, Savannah\, GA\, 31406\, United States
CATEGORIES:Regular Worship Service
ATTACH;FMTTYPE=image/jpeg:https://christmemorialbaptist.com/wp-content/uploads/2024/03/sunday-service.jpg
END:VEVENT
BEGIN:VEVENT
DTSTART;TZID=America/New_York:20251123T094500
DTEND;TZID=America/New_York:20251123T110000
DTSTAMP:20260424T053128
CREATED:20240318T015214Z
LAST-MODIFIED:20240516T162702Z
UID:10000158-1763891100-1763895600@christmemorialbaptist.com
SUMMARY:SUNDAY SCHOOL
DESCRIPTION:
URL:https://christmemorialbaptist.com/event/sunday-school/2025-11-23/
LOCATION:Christ Memorial Baptist\, 1023 Dutchtown Rd\, Savannah\, GA\, 31406\, United States
CATEGORIES:Educational Events
END:VEVENT
BEGIN:VEVENT
DTSTART;TZID=America/New_York:20251120T193000
DTEND;TZID=America/New_York:20251120T203000
DTSTAMP:20260424T053128
CREATED:20240318T021700Z
LAST-MODIFIED:20240516T164813Z
UID:10001078-1763667000-1763670600@christmemorialbaptist.com
SUMMARY:SOLID ROCK MINISTRY
DESCRIPTION:
URL:https://christmemorialbaptist.com/event/solid-rock-ministry/2025-11-20/
LOCATION:GA
CATEGORIES:Ministry and Organizational Meetings
END:VEVENT
BEGIN:VEVENT
DTSTART;TZID=America/New_York:20251118T190000
DTEND;TZID=America/New_York:20251118T200000
DTSTAMP:20260424T053128
CREATED:20240318T020615Z
LAST-MODIFIED:20240516T164910Z
UID:10001345-1763492400-1763496000@christmemorialbaptist.com
SUMMARY:BIBLE STUDY
DESCRIPTION:
URL:https://christmemorialbaptist.com/event/bible-study/2025-11-18/
LOCATION:Christ Memorial Baptist\, 1023 Dutchtown Rd\, Savannah\, GA\, 31406\, United States
CATEGORIES:Educational Events
END:VEVENT
BEGIN:VEVENT
DTSTART;TZID=America/New_York:20251118T180000
DTEND;TZID=America/New_York:20251118T190000
DTSTAMP:20260424T053128
CREATED:20240318T020448Z
LAST-MODIFIED:20240516T165113Z
UID:10001674-1763488800-1763492400@christmemorialbaptist.com
SUMMARY:PRAYER MEETING
DESCRIPTION:
URL:https://christmemorialbaptist.com/event/prayer-meeting/2025-11-18/
LOCATION:Christ Memorial Baptist\, 1023 Dutchtown Rd\, Savannah\, GA\, 31406\, United States
CATEGORIES:Prayer and Spiritual Meetings
END:VEVENT
BEGIN:VEVENT
DTSTART;TZID=America/New_York:20251116T110000
DTEND;TZID=America/New_York:20251116T130000
DTSTAMP:20260424T053128
CREATED:20240516T164132Z
LAST-MODIFIED:20240525T134808Z
UID:10000686-1763290800-1763298000@christmemorialbaptist.com
SUMMARY:CHILDREN'S CHURCH
DESCRIPTION:
URL:https://christmemorialbaptist.com/event/childrens-church-3/2025-11-16/
LOCATION:Christ Memorial Baptist\, 1023 Dutchtown Rd\, Savannah\, GA\, 31406\, United States
CATEGORIES:Youth Events
ATTACH;FMTTYPE=image/jpeg:https://christmemorialbaptist.com/wp-content/uploads/2024/05/childrens-church.jpg
END:VEVENT
BEGIN:VEVENT
DTSTART;TZID=America/New_York:20251116T110000
DTEND;TZID=America/New_York:20251116T130000
DTSTAMP:20260424T053128
CREATED:20240318T015424Z
LAST-MODIFIED:20240525T140422Z
UID:10000852-1763290800-1763298000@christmemorialbaptist.com
SUMMARY:SUNDAY MORNING SERVICE
DESCRIPTION:
URL:https://christmemorialbaptist.com/event/sunday-morning-service/2025-11-16/
LOCATION:Christ Memorial Baptist\, 1023 Dutchtown Rd\, Savannah\, GA\, 31406\, United States
CATEGORIES:Regular Worship Service
ATTACH;FMTTYPE=image/jpeg:https://christmemorialbaptist.com/wp-content/uploads/2024/03/sunday-service.jpg
END:VEVENT
END:VCALENDAR