BEGIN:VCALENDAR
VERSION:2.0
PRODID:-//Christ Memorial Baptist Church - ECPv6.15.20//NONSGML v1.0//EN
CALSCALE:GREGORIAN
METHOD:PUBLISH
X-WR-CALNAME:Christ Memorial Baptist Church
X-ORIGINAL-URL:https://christmemorialbaptist.com
X-WR-CALDESC:Events for Christ Memorial Baptist Church
REFRESH-INTERVAL;VALUE=DURATION:PT1H
X-Robots-Tag:noindex
X-PUBLISHED-TTL:PT1H
BEGIN:VTIMEZONE
TZID:America/New_York
BEGIN:DAYLIGHT
TZOFFSETFROM:-0500
TZOFFSETTO:-0400
TZNAME:EDT
DTSTART:20240310T070000
END:DAYLIGHT
BEGIN:STANDARD
TZOFFSETFROM:-0400
TZOFFSETTO:-0500
TZNAME:EST
DTSTART:20241103T060000
END:STANDARD
BEGIN:DAYLIGHT
TZOFFSETFROM:-0500
TZOFFSETTO:-0400
TZNAME:EDT
DTSTART:20250309T070000
END:DAYLIGHT
BEGIN:STANDARD
TZOFFSETFROM:-0400
TZOFFSETTO:-0500
TZNAME:EST
DTSTART:20251102T060000
END:STANDARD
BEGIN:DAYLIGHT
TZOFFSETFROM:-0500
TZOFFSETTO:-0400
TZNAME:EDT
DTSTART:20260308T070000
END:DAYLIGHT
BEGIN:STANDARD
TZOFFSETFROM:-0400
TZOFFSETTO:-0500
TZNAME:EST
DTSTART:20261101T060000
END:STANDARD
END:VTIMEZONE
BEGIN:VEVENT
DTSTART;TZID=America/New_York:20250225T180000
DTEND;TZID=America/New_York:20250225T190000
DTSTAMP:20260425T103336
CREATED:20240318T021954Z
LAST-MODIFIED:20240516T165009Z
UID:10001538-1740506400-1740510000@christmemorialbaptist.com
SUMMARY:DEACON’S MEETING
DESCRIPTION:
URL:https://christmemorialbaptist.com/event/deacons-meeting/2025-02-25/
LOCATION:Christ Memorial Baptist\, 1023 Dutchtown Rd\, Savannah\, GA\, 31406\, United States
CATEGORIES:Prayer and Spiritual Meetings
END:VEVENT
BEGIN:VEVENT
DTSTART;TZID=America/New_York:20250225T190000
DTEND;TZID=America/New_York:20250225T200000
DTSTAMP:20260425T103336
CREATED:20240318T020615Z
LAST-MODIFIED:20240516T164910Z
UID:10001307-1740510000-1740513600@christmemorialbaptist.com
SUMMARY:BIBLE STUDY
DESCRIPTION:
URL:https://christmemorialbaptist.com/event/bible-study/2025-02-25/
LOCATION:Christ Memorial Baptist\, 1023 Dutchtown Rd\, Savannah\, GA\, 31406\, United States
CATEGORIES:Educational Events
END:VEVENT
BEGIN:VEVENT
DTSTART;TZID=America/New_York:20250227T193000
DTEND;TZID=America/New_York:20250227T203000
DTSTAMP:20260425T103336
CREATED:20240318T021700Z
LAST-MODIFIED:20240516T164813Z
UID:10001040-1740684600-1740688200@christmemorialbaptist.com
SUMMARY:SOLID ROCK MINISTRY
DESCRIPTION:
URL:https://christmemorialbaptist.com/event/solid-rock-ministry/2025-02-27/
LOCATION:GA
CATEGORIES:Ministry and Organizational Meetings
END:VEVENT
BEGIN:VEVENT
DTSTART;TZID=America/New_York:20250301T170000
DTEND;TZID=America/New_York:20250301T183000
DTSTAMP:20260425T103336
CREATED:20240318T021822Z
LAST-MODIFIED:20240516T163315Z
UID:10000473-1740848400-1740853800@christmemorialbaptist.com
SUMMARY:BAPTISM
DESCRIPTION:
URL:https://christmemorialbaptist.com/event/baptism/2025-03-01/
LOCATION:Christ Memorial Baptist\, 1023 Dutchtown Rd\, Savannah\, GA\, 31406\, United States
CATEGORIES:Special Worship Services
END:VEVENT
BEGIN:VEVENT
DTSTART;TZID=America/New_York:20250302T094500
DTEND;TZID=America/New_York:20250302T110000
DTSTAMP:20260425T103336
CREATED:20240318T015214Z
LAST-MODIFIED:20240516T162702Z
UID:10000120-1740908700-1740913200@christmemorialbaptist.com
SUMMARY:SUNDAY SCHOOL
DESCRIPTION:
URL:https://christmemorialbaptist.com/event/sunday-school/2025-03-02/
LOCATION:Christ Memorial Baptist\, 1023 Dutchtown Rd\, Savannah\, GA\, 31406\, United States
CATEGORIES:Educational Events
END:VEVENT
BEGIN:VEVENT
DTSTART;TZID=America/New_York:20250302T110000
DTEND;TZID=America/New_York:20250302T130000
DTSTAMP:20260425T103336
CREATED:20240318T015749Z
LAST-MODIFIED:20240516T163135Z
UID:10000412-1740913200-1740920400@christmemorialbaptist.com
SUMMARY:HOLY COMMUNION
DESCRIPTION:
URL:https://christmemorialbaptist.com/event/holy-communion/2025-03-02/
LOCATION:Christ Memorial Baptist\, 1023 Dutchtown Rd\, Savannah\, GA\, 31406\, United States
CATEGORIES:Special Worship Services
END:VEVENT
BEGIN:VEVENT
DTSTART;TZID=America/New_York:20250302T110000
DTEND;TZID=America/New_York:20250319T130000
DTSTAMP:20260425T103336
CREATED:20240516T164327Z
LAST-MODIFIED:20240525T134730Z
UID:10000737-1740913200-1742389200@christmemorialbaptist.com
SUMMARY:CHILDREN'S CHURCH
DESCRIPTION:
URL:https://christmemorialbaptist.com/event/childrens-church/2025-03-02/
LOCATION:Christ Memorial Baptist\, 1023 Dutchtown Rd\, Savannah\, GA\, 31406\, United States
CATEGORIES:Youth Events
ATTACH;FMTTYPE=image/jpeg:https://christmemorialbaptist.com/wp-content/uploads/2024/05/childrens-church.jpg
END:VEVENT
BEGIN:VEVENT
DTSTART;TZID=America/New_York:20250304T180000
DTEND;TZID=America/New_York:20250304T190000
DTSTAMP:20260425T103336
CREATED:20240318T020448Z
LAST-MODIFIED:20240516T165113Z
UID:10001637-1741111200-1741114800@christmemorialbaptist.com
SUMMARY:PRAYER MEETING
DESCRIPTION:
URL:https://christmemorialbaptist.com/event/prayer-meeting/2025-03-04/
LOCATION:Christ Memorial Baptist\, 1023 Dutchtown Rd\, Savannah\, GA\, 31406\, United States
CATEGORIES:Prayer and Spiritual Meetings
END:VEVENT
BEGIN:VEVENT
DTSTART;TZID=America/New_York:20250304T180000
DTEND;TZID=America/New_York:20250304T190000
DTSTAMP:20260425T103336
CREATED:20240318T020806Z
LAST-MODIFIED:20240516T163637Z
UID:10000595-1741111200-1741114800@christmemorialbaptist.com
SUMMARY:ADULT USHER’S MEETING
DESCRIPTION:
URL:https://christmemorialbaptist.com/event/adult-ushers-meeting/2025-03-04/
LOCATION:Christ Memorial Baptist\, 1023 Dutchtown Rd\, Savannah\, GA\, 31406\, United States
CATEGORIES:Ministry and Organizational Meetings
END:VEVENT
BEGIN:VEVENT
DTSTART;TZID=America/New_York:20250304T180000
DTEND;TZID=America/New_York:20250304T190000
DTSTAMP:20260425T103336
CREATED:20240318T022106Z
LAST-MODIFIED:20240516T163527Z
UID:10000534-1741111200-1741114800@christmemorialbaptist.com
SUMMARY:DEACONESS MEETING
DESCRIPTION:
URL:https://christmemorialbaptist.com/event/deaconess-meeting/2025-03-04/
LOCATION:Christ Memorial Baptist\, 1023 Dutchtown Rd\, Savannah\, GA\, 31406\, United States
CATEGORIES:Prayer and Spiritual Meetings
END:VEVENT
BEGIN:VEVENT
DTSTART;TZID=America/New_York:20250304T190000
DTEND;TZID=America/New_York:20250304T200000
DTSTAMP:20260425T103336
CREATED:20240318T020615Z
LAST-MODIFIED:20240516T164910Z
UID:10001308-1741114800-1741118400@christmemorialbaptist.com
SUMMARY:BIBLE STUDY
DESCRIPTION:
URL:https://christmemorialbaptist.com/event/bible-study/2025-03-04/
LOCATION:Christ Memorial Baptist\, 1023 Dutchtown Rd\, Savannah\, GA\, 31406\, United States
CATEGORIES:Educational Events
END:VEVENT
BEGIN:VEVENT
DTSTART;TZID=America/New_York:20250306T193000
DTEND;TZID=America/New_York:20250306T203000
DTSTAMP:20260425T103336
CREATED:20240318T021700Z
LAST-MODIFIED:20240516T164813Z
UID:10001041-1741289400-1741293000@christmemorialbaptist.com
SUMMARY:SOLID ROCK MINISTRY
DESCRIPTION:
URL:https://christmemorialbaptist.com/event/solid-rock-ministry/2025-03-06/
LOCATION:GA
CATEGORIES:Ministry and Organizational Meetings
END:VEVENT
BEGIN:VEVENT
DTSTART;TZID=America/New_York:20250309T094500
DTEND;TZID=America/New_York:20250309T110000
DTSTAMP:20260425T103336
CREATED:20240318T015214Z
LAST-MODIFIED:20240516T162702Z
UID:10000121-1741513500-1741518000@christmemorialbaptist.com
SUMMARY:SUNDAY SCHOOL
DESCRIPTION:
URL:https://christmemorialbaptist.com/event/sunday-school/2025-03-09/
LOCATION:Christ Memorial Baptist\, 1023 Dutchtown Rd\, Savannah\, GA\, 31406\, United States
CATEGORIES:Educational Events
END:VEVENT
BEGIN:VEVENT
DTSTART;TZID=America/New_York:20250309T110000
DTEND;TZID=America/New_York:20250309T130000
DTSTAMP:20260425T103336
CREATED:20240318T015424Z
LAST-MODIFIED:20240525T140422Z
UID:10000824-1741518000-1741525200@christmemorialbaptist.com
SUMMARY:SUNDAY MORNING SERVICE
DESCRIPTION:
URL:https://christmemorialbaptist.com/event/sunday-morning-service/2025-03-09/
LOCATION:Christ Memorial Baptist\, 1023 Dutchtown Rd\, Savannah\, GA\, 31406\, United States
CATEGORIES:Regular Worship Service
ATTACH;FMTTYPE=image/jpeg:https://christmemorialbaptist.com/wp-content/uploads/2024/03/sunday-service.jpg
END:VEVENT
BEGIN:VEVENT
DTSTART;TZID=America/New_York:20250311T180000
DTEND;TZID=America/New_York:20250311T190000
DTSTAMP:20260425T103336
CREATED:20240318T020448Z
LAST-MODIFIED:20240516T165113Z
UID:10001638-1741716000-1741719600@christmemorialbaptist.com
SUMMARY:PRAYER MEETING
DESCRIPTION:
URL:https://christmemorialbaptist.com/event/prayer-meeting/2025-03-11/
LOCATION:Christ Memorial Baptist\, 1023 Dutchtown Rd\, Savannah\, GA\, 31406\, United States
CATEGORIES:Prayer and Spiritual Meetings
END:VEVENT
BEGIN:VEVENT
DTSTART;TZID=America/New_York:20250311T180000
DTEND;TZID=America/New_York:20250311T190000
DTSTAMP:20260425T103336
CREATED:20240318T021233Z
LAST-MODIFIED:20240516T162328Z
UID:10000350-1741716000-1741719600@christmemorialbaptist.com
SUMMARY:MISSION MEETING
DESCRIPTION:
URL:https://christmemorialbaptist.com/event/mission-meeting/2025-03-11/
LOCATION:Christ Memorial Baptist\, 1023 Dutchtown Rd\, Savannah\, GA\, 31406\, United States
CATEGORIES:Prayer and Spiritual Meetings
END:VEVENT
BEGIN:VEVENT
DTSTART;TZID=America/New_York:20250311T190000
DTEND;TZID=America/New_York:20250311T200000
DTSTAMP:20260425T103336
CREATED:20240318T020615Z
LAST-MODIFIED:20240516T164910Z
UID:10001309-1741719600-1741723200@christmemorialbaptist.com
SUMMARY:BIBLE STUDY
DESCRIPTION:
URL:https://christmemorialbaptist.com/event/bible-study/2025-03-11/
LOCATION:Christ Memorial Baptist\, 1023 Dutchtown Rd\, Savannah\, GA\, 31406\, United States
CATEGORIES:Educational Events
END:VEVENT
BEGIN:VEVENT
DTSTART;TZID=America/New_York:20250312T173000
DTEND;TZID=America/New_York:20250312T183000
DTSTAMP:20260425T103336
CREATED:20240318T021129Z
LAST-MODIFIED:20240402T221910Z
UID:10000030-1741800600-1741804200@christmemorialbaptist.com
SUMMARY:YOUTH USHER’S MEETING
DESCRIPTION:
URL:https://christmemorialbaptist.com/event/youth-ushers-meeting/2025-03-12/
LOCATION:Christ Memorial Baptist\, 1023 Dutchtown Rd\, Savannah\, GA\, 31406\, United States
CATEGORIES:Youth Events
END:VEVENT
BEGIN:VEVENT
DTSTART;TZID=America/New_York:20250313T193000
DTEND;TZID=America/New_York:20250313T203000
DTSTAMP:20260425T103336
CREATED:20240318T021700Z
LAST-MODIFIED:20240516T164813Z
UID:10001042-1741894200-1741897800@christmemorialbaptist.com
SUMMARY:SOLID ROCK MINISTRY
DESCRIPTION:
URL:https://christmemorialbaptist.com/event/solid-rock-ministry/2025-03-13/
LOCATION:GA
CATEGORIES:Ministry and Organizational Meetings
END:VEVENT
BEGIN:VEVENT
DTSTART;TZID=America/New_York:20250316T094500
DTEND;TZID=America/New_York:20250316T110000
DTSTAMP:20260425T103336
CREATED:20240318T015214Z
LAST-MODIFIED:20240516T162702Z
UID:10000122-1742118300-1742122800@christmemorialbaptist.com
SUMMARY:SUNDAY SCHOOL
DESCRIPTION:
URL:https://christmemorialbaptist.com/event/sunday-school/2025-03-16/
LOCATION:Christ Memorial Baptist\, 1023 Dutchtown Rd\, Savannah\, GA\, 31406\, United States
CATEGORIES:Educational Events
END:VEVENT
BEGIN:VEVENT
DTSTART;TZID=America/New_York:20250316T110000
DTEND;TZID=America/New_York:20250316T130000
DTSTAMP:20260425T103336
CREATED:20240318T015424Z
LAST-MODIFIED:20240525T140422Z
UID:10000825-1742122800-1742130000@christmemorialbaptist.com
SUMMARY:SUNDAY MORNING SERVICE
DESCRIPTION:
URL:https://christmemorialbaptist.com/event/sunday-morning-service/2025-03-16/
LOCATION:Christ Memorial Baptist\, 1023 Dutchtown Rd\, Savannah\, GA\, 31406\, United States
CATEGORIES:Regular Worship Service
ATTACH;FMTTYPE=image/jpeg:https://christmemorialbaptist.com/wp-content/uploads/2024/03/sunday-service.jpg
END:VEVENT
BEGIN:VEVENT
DTSTART;TZID=America/New_York:20250316T110000
DTEND;TZID=America/New_York:20250316T130000
DTSTAMP:20260425T103336
CREATED:20240516T164132Z
LAST-MODIFIED:20240525T134808Z
UID:10000678-1742122800-1742130000@christmemorialbaptist.com
SUMMARY:CHILDREN'S CHURCH
DESCRIPTION:
URL:https://christmemorialbaptist.com/event/childrens-church-3/2025-03-16/
LOCATION:Christ Memorial Baptist\, 1023 Dutchtown Rd\, Savannah\, GA\, 31406\, United States
CATEGORIES:Youth Events
ATTACH;FMTTYPE=image/jpeg:https://christmemorialbaptist.com/wp-content/uploads/2024/05/childrens-church.jpg
END:VEVENT
BEGIN:VEVENT
DTSTART;TZID=America/New_York:20250318T180000
DTEND;TZID=America/New_York:20250318T190000
DTSTAMP:20260425T103336
CREATED:20240318T020448Z
LAST-MODIFIED:20240516T165113Z
UID:10001639-1742320800-1742324400@christmemorialbaptist.com
SUMMARY:PRAYER MEETING
DESCRIPTION:
URL:https://christmemorialbaptist.com/event/prayer-meeting/2025-03-18/
LOCATION:Christ Memorial Baptist\, 1023 Dutchtown Rd\, Savannah\, GA\, 31406\, United States
CATEGORIES:Prayer and Spiritual Meetings
END:VEVENT
BEGIN:VEVENT
DTSTART;TZID=America/New_York:20250318T190000
DTEND;TZID=America/New_York:20250318T200000
DTSTAMP:20260425T103337
CREATED:20240318T020615Z
LAST-MODIFIED:20240516T164910Z
UID:10001310-1742324400-1742328000@christmemorialbaptist.com
SUMMARY:BIBLE STUDY
DESCRIPTION:
URL:https://christmemorialbaptist.com/event/bible-study/2025-03-18/
LOCATION:Christ Memorial Baptist\, 1023 Dutchtown Rd\, Savannah\, GA\, 31406\, United States
CATEGORIES:Educational Events
END:VEVENT
BEGIN:VEVENT
DTSTART;TZID=America/New_York:20250320T193000
DTEND;TZID=America/New_York:20250320T203000
DTSTAMP:20260425T103337
CREATED:20240318T021700Z
LAST-MODIFIED:20240516T164813Z
UID:10001043-1742499000-1742502600@christmemorialbaptist.com
SUMMARY:SOLID ROCK MINISTRY
DESCRIPTION:
URL:https://christmemorialbaptist.com/event/solid-rock-ministry/2025-03-20/
LOCATION:GA
CATEGORIES:Ministry and Organizational Meetings
END:VEVENT
BEGIN:VEVENT
DTSTART;TZID=America/New_York:20250323T094500
DTEND;TZID=America/New_York:20250323T110000
DTSTAMP:20260425T103337
CREATED:20240318T015214Z
LAST-MODIFIED:20240516T162702Z
UID:10000123-1742723100-1742727600@christmemorialbaptist.com
SUMMARY:SUNDAY SCHOOL
DESCRIPTION:
URL:https://christmemorialbaptist.com/event/sunday-school/2025-03-23/
LOCATION:Christ Memorial Baptist\, 1023 Dutchtown Rd\, Savannah\, GA\, 31406\, United States
CATEGORIES:Educational Events
END:VEVENT
BEGIN:VEVENT
DTSTART;TZID=America/New_York:20250323T110000
DTEND;TZID=America/New_York:20250323T130000
DTSTAMP:20260425T103337
CREATED:20240318T015424Z
LAST-MODIFIED:20240525T140422Z
UID:10000826-1742727600-1742734800@christmemorialbaptist.com
SUMMARY:SUNDAY MORNING SERVICE
DESCRIPTION:
URL:https://christmemorialbaptist.com/event/sunday-morning-service/2025-03-23/
LOCATION:Christ Memorial Baptist\, 1023 Dutchtown Rd\, Savannah\, GA\, 31406\, United States
CATEGORIES:Regular Worship Service
ATTACH;FMTTYPE=image/jpeg:https://christmemorialbaptist.com/wp-content/uploads/2024/03/sunday-service.jpg
END:VEVENT
BEGIN:VEVENT
DTSTART;TZID=America/New_York:20250325T180000
DTEND;TZID=America/New_York:20250325T190000
DTSTAMP:20260425T103337
CREATED:20240318T020448Z
LAST-MODIFIED:20240516T165113Z
UID:10001640-1742925600-1742929200@christmemorialbaptist.com
SUMMARY:PRAYER MEETING
DESCRIPTION:
URL:https://christmemorialbaptist.com/event/prayer-meeting/2025-03-25/
LOCATION:Christ Memorial Baptist\, 1023 Dutchtown Rd\, Savannah\, GA\, 31406\, United States
CATEGORIES:Prayer and Spiritual Meetings
END:VEVENT
BEGIN:VEVENT
DTSTART;TZID=America/New_York:20250325T180000
DTEND;TZID=America/New_York:20250325T190000
DTSTAMP:20260425T103337
CREATED:20240318T021954Z
LAST-MODIFIED:20240516T165009Z
UID:10001539-1742925600-1742929200@christmemorialbaptist.com
SUMMARY:DEACON’S MEETING
DESCRIPTION:
URL:https://christmemorialbaptist.com/event/deacons-meeting/2025-03-25/
LOCATION:Christ Memorial Baptist\, 1023 Dutchtown Rd\, Savannah\, GA\, 31406\, United States
CATEGORIES:Prayer and Spiritual Meetings
END:VEVENT
BEGIN:VEVENT
DTSTART;TZID=America/New_York:20250325T190000
DTEND;TZID=America/New_York:20250325T200000
DTSTAMP:20260425T103337
CREATED:20240318T020615Z
LAST-MODIFIED:20240516T164910Z
UID:10001311-1742929200-1742932800@christmemorialbaptist.com
SUMMARY:BIBLE STUDY
DESCRIPTION:
URL:https://christmemorialbaptist.com/event/bible-study/2025-03-25/
LOCATION:Christ Memorial Baptist\, 1023 Dutchtown Rd\, Savannah\, GA\, 31406\, United States
CATEGORIES:Educational Events
END:VEVENT
END:VCALENDAR