BEGIN:VCALENDAR
VERSION:2.0
PRODID:-//Christ Memorial Baptist Church - ECPv6.15.20//NONSGML v1.0//EN
CALSCALE:GREGORIAN
METHOD:PUBLISH
X-ORIGINAL-URL:https://christmemorialbaptist.com
X-WR-CALDESC:Events for Christ Memorial Baptist Church
REFRESH-INTERVAL;VALUE=DURATION:PT1H
X-Robots-Tag:noindex
X-PUBLISHED-TTL:PT1H
BEGIN:VTIMEZONE
TZID:America/New_York
BEGIN:DAYLIGHT
TZOFFSETFROM:-0500
TZOFFSETTO:-0400
TZNAME:EDT
DTSTART:20230312T070000
END:DAYLIGHT
BEGIN:STANDARD
TZOFFSETFROM:-0400
TZOFFSETTO:-0500
TZNAME:EST
DTSTART:20231105T060000
END:STANDARD
BEGIN:DAYLIGHT
TZOFFSETFROM:-0500
TZOFFSETTO:-0400
TZNAME:EDT
DTSTART:20240310T070000
END:DAYLIGHT
BEGIN:STANDARD
TZOFFSETFROM:-0400
TZOFFSETTO:-0500
TZNAME:EST
DTSTART:20241103T060000
END:STANDARD
BEGIN:DAYLIGHT
TZOFFSETFROM:-0500
TZOFFSETTO:-0400
TZNAME:EDT
DTSTART:20250309T070000
END:DAYLIGHT
BEGIN:STANDARD
TZOFFSETFROM:-0400
TZOFFSETTO:-0500
TZNAME:EST
DTSTART:20251102T060000
END:STANDARD
END:VTIMEZONE
BEGIN:VEVENT
DTSTART;TZID=America/New_York:20240601T170000
DTEND;TZID=America/New_York:20240601T183000
DTSTAMP:20260425T211833
CREATED:20240318T021822Z
LAST-MODIFIED:20240516T163315Z
UID:10000464-1717261200-1717266600@christmemorialbaptist.com
SUMMARY:BAPTISM
DESCRIPTION:
URL:https://christmemorialbaptist.com/event/baptism/2024-06-01/
LOCATION:Christ Memorial Baptist\, 1023 Dutchtown Rd\, Savannah\, GA\, 31406\, United States
CATEGORIES:Special Worship Services
END:VEVENT
BEGIN:VEVENT
DTSTART;TZID=America/New_York:20240602T094500
DTEND;TZID=America/New_York:20240602T110000
DTSTAMP:20260425T211833
CREATED:20240318T015214Z
LAST-MODIFIED:20240516T162702Z
UID:10000081-1717321500-1717326000@christmemorialbaptist.com
SUMMARY:SUNDAY SCHOOL
DESCRIPTION:
URL:https://christmemorialbaptist.com/event/sunday-school/2024-06-02/
LOCATION:Christ Memorial Baptist\, 1023 Dutchtown Rd\, Savannah\, GA\, 31406\, United States
CATEGORIES:Educational Events
END:VEVENT
BEGIN:VEVENT
DTSTART;TZID=America/New_York:20240602T110000
DTEND;TZID=America/New_York:20240602T130000
DTSTAMP:20260425T211833
CREATED:20240318T015749Z
LAST-MODIFIED:20240516T163135Z
UID:10000403-1717326000-1717333200@christmemorialbaptist.com
SUMMARY:HOLY COMMUNION
DESCRIPTION:
URL:https://christmemorialbaptist.com/event/holy-communion/2024-06-02/
LOCATION:Christ Memorial Baptist\, 1023 Dutchtown Rd\, Savannah\, GA\, 31406\, United States
CATEGORIES:Special Worship Services
END:VEVENT
BEGIN:VEVENT
DTSTART;TZID=America/New_York:20240602T110000
DTEND;TZID=America/New_York:20240619T130000
DTSTAMP:20260425T211833
CREATED:20240516T164327Z
LAST-MODIFIED:20240525T134730Z
UID:10000728-1717326000-1718802000@christmemorialbaptist.com
SUMMARY:CHILDREN'S CHURCH
DESCRIPTION:
URL:https://christmemorialbaptist.com/event/childrens-church/2024-06-02/
LOCATION:Christ Memorial Baptist\, 1023 Dutchtown Rd\, Savannah\, GA\, 31406\, United States
CATEGORIES:Youth Events
ATTACH;FMTTYPE=image/jpeg:https://christmemorialbaptist.com/wp-content/uploads/2024/05/childrens-church.jpg
END:VEVENT
BEGIN:VEVENT
DTSTART;TZID=America/New_York:20240604T180000
DTEND;TZID=America/New_York:20240604T190000
DTSTAMP:20260425T211833
CREATED:20240318T020448Z
LAST-MODIFIED:20240516T165113Z
UID:10001598-1717524000-1717527600@christmemorialbaptist.com
SUMMARY:PRAYER MEETING
DESCRIPTION:
URL:https://christmemorialbaptist.com/event/prayer-meeting/2024-06-04/
LOCATION:Christ Memorial Baptist\, 1023 Dutchtown Rd\, Savannah\, GA\, 31406\, United States
CATEGORIES:Prayer and Spiritual Meetings
END:VEVENT
BEGIN:VEVENT
DTSTART;TZID=America/New_York:20240604T180000
DTEND;TZID=America/New_York:20240604T190000
DTSTAMP:20260425T211833
CREATED:20240318T020806Z
LAST-MODIFIED:20240516T163637Z
UID:10000586-1717524000-1717527600@christmemorialbaptist.com
SUMMARY:ADULT USHER’S MEETING
DESCRIPTION:
URL:https://christmemorialbaptist.com/event/adult-ushers-meeting/2024-06-04/
LOCATION:Christ Memorial Baptist\, 1023 Dutchtown Rd\, Savannah\, GA\, 31406\, United States
CATEGORIES:Ministry and Organizational Meetings
END:VEVENT
BEGIN:VEVENT
DTSTART;TZID=America/New_York:20240604T180000
DTEND;TZID=America/New_York:20240604T190000
DTSTAMP:20260425T211833
CREATED:20240318T022106Z
LAST-MODIFIED:20240516T163527Z
UID:10000525-1717524000-1717527600@christmemorialbaptist.com
SUMMARY:DEACONESS MEETING
DESCRIPTION:
URL:https://christmemorialbaptist.com/event/deaconess-meeting/2024-06-04/
LOCATION:Christ Memorial Baptist\, 1023 Dutchtown Rd\, Savannah\, GA\, 31406\, United States
CATEGORIES:Prayer and Spiritual Meetings
END:VEVENT
BEGIN:VEVENT
DTSTART;TZID=America/New_York:20240604T190000
DTEND;TZID=America/New_York:20240604T200000
DTSTAMP:20260425T211833
CREATED:20240318T020615Z
LAST-MODIFIED:20240516T164910Z
UID:10001269-1717527600-1717531200@christmemorialbaptist.com
SUMMARY:BIBLE STUDY
DESCRIPTION:
URL:https://christmemorialbaptist.com/event/bible-study/2024-06-04/
LOCATION:Christ Memorial Baptist\, 1023 Dutchtown Rd\, Savannah\, GA\, 31406\, United States
CATEGORIES:Educational Events
END:VEVENT
BEGIN:VEVENT
DTSTART;TZID=America/New_York:20240606T193000
DTEND;TZID=America/New_York:20240606T203000
DTSTAMP:20260425T211833
CREATED:20240318T021700Z
LAST-MODIFIED:20240516T164813Z
UID:10001002-1717702200-1717705800@christmemorialbaptist.com
SUMMARY:SOLID ROCK MINISTRY
DESCRIPTION:
URL:https://christmemorialbaptist.com/event/solid-rock-ministry/2024-06-06/
LOCATION:GA
CATEGORIES:Ministry and Organizational Meetings
END:VEVENT
BEGIN:VEVENT
DTSTART;TZID=America/New_York:20240609T094500
DTEND;TZID=America/New_York:20240609T110000
DTSTAMP:20260425T211833
CREATED:20240318T015214Z
LAST-MODIFIED:20240516T162702Z
UID:10000082-1717926300-1717930800@christmemorialbaptist.com
SUMMARY:SUNDAY SCHOOL
DESCRIPTION:
URL:https://christmemorialbaptist.com/event/sunday-school/2024-06-09/
LOCATION:Christ Memorial Baptist\, 1023 Dutchtown Rd\, Savannah\, GA\, 31406\, United States
CATEGORIES:Educational Events
END:VEVENT
BEGIN:VEVENT
DTSTART;TZID=America/New_York:20240609T110000
DTEND;TZID=America/New_York:20240609T130000
DTSTAMP:20260425T211833
CREATED:20240318T015424Z
LAST-MODIFIED:20240525T140422Z
UID:10000794-1717930800-1717938000@christmemorialbaptist.com
SUMMARY:SUNDAY MORNING SERVICE
DESCRIPTION:
URL:https://christmemorialbaptist.com/event/sunday-morning-service/2024-06-09/
LOCATION:Christ Memorial Baptist\, 1023 Dutchtown Rd\, Savannah\, GA\, 31406\, United States
CATEGORIES:Regular Worship Service
ATTACH;FMTTYPE=image/jpeg:https://christmemorialbaptist.com/wp-content/uploads/2024/03/sunday-service.jpg
END:VEVENT
BEGIN:VEVENT
DTSTART;TZID=America/New_York:20240611T180000
DTEND;TZID=America/New_York:20240611T190000
DTSTAMP:20260425T211833
CREATED:20240318T020448Z
LAST-MODIFIED:20240516T165113Z
UID:10001599-1718128800-1718132400@christmemorialbaptist.com
SUMMARY:PRAYER MEETING
DESCRIPTION:
URL:https://christmemorialbaptist.com/event/prayer-meeting/2024-06-11/
LOCATION:Christ Memorial Baptist\, 1023 Dutchtown Rd\, Savannah\, GA\, 31406\, United States
CATEGORIES:Prayer and Spiritual Meetings
END:VEVENT
BEGIN:VEVENT
DTSTART;TZID=America/New_York:20240611T180000
DTEND;TZID=America/New_York:20240611T190000
DTSTAMP:20260425T211833
CREATED:20240318T021233Z
LAST-MODIFIED:20240516T162328Z
UID:10000341-1718128800-1718132400@christmemorialbaptist.com
SUMMARY:MISSION MEETING
DESCRIPTION:
URL:https://christmemorialbaptist.com/event/mission-meeting/2024-06-11/
LOCATION:Christ Memorial Baptist\, 1023 Dutchtown Rd\, Savannah\, GA\, 31406\, United States
CATEGORIES:Prayer and Spiritual Meetings
END:VEVENT
BEGIN:VEVENT
DTSTART;TZID=America/New_York:20240611T190000
DTEND;TZID=America/New_York:20240611T200000
DTSTAMP:20260425T211833
CREATED:20240318T020615Z
LAST-MODIFIED:20240516T164910Z
UID:10001270-1718132400-1718136000@christmemorialbaptist.com
SUMMARY:BIBLE STUDY
DESCRIPTION:
URL:https://christmemorialbaptist.com/event/bible-study/2024-06-11/
LOCATION:Christ Memorial Baptist\, 1023 Dutchtown Rd\, Savannah\, GA\, 31406\, United States
CATEGORIES:Educational Events
END:VEVENT
BEGIN:VEVENT
DTSTART;TZID=America/New_York:20240612T173000
DTEND;TZID=America/New_York:20240612T183000
DTSTAMP:20260425T211833
CREATED:20240318T021129Z
LAST-MODIFIED:20240402T221910Z
UID:10000021-1718213400-1718217000@christmemorialbaptist.com
SUMMARY:YOUTH USHER’S MEETING
DESCRIPTION:
URL:https://christmemorialbaptist.com/event/youth-ushers-meeting/2024-06-12/
LOCATION:Christ Memorial Baptist\, 1023 Dutchtown Rd\, Savannah\, GA\, 31406\, United States
CATEGORIES:Youth Events
END:VEVENT
BEGIN:VEVENT
DTSTART;TZID=America/New_York:20240613T193000
DTEND;TZID=America/New_York:20240613T203000
DTSTAMP:20260425T211833
CREATED:20240318T021700Z
LAST-MODIFIED:20240516T164813Z
UID:10001003-1718307000-1718310600@christmemorialbaptist.com
SUMMARY:SOLID ROCK MINISTRY
DESCRIPTION:
URL:https://christmemorialbaptist.com/event/solid-rock-ministry/2024-06-13/
LOCATION:GA
CATEGORIES:Ministry and Organizational Meetings
END:VEVENT
BEGIN:VEVENT
DTSTART;TZID=America/New_York:20240616T094500
DTEND;TZID=America/New_York:20240616T110000
DTSTAMP:20260425T211833
CREATED:20240318T015214Z
LAST-MODIFIED:20240516T162702Z
UID:10000083-1718531100-1718535600@christmemorialbaptist.com
SUMMARY:SUNDAY SCHOOL
DESCRIPTION:
URL:https://christmemorialbaptist.com/event/sunday-school/2024-06-16/
LOCATION:Christ Memorial Baptist\, 1023 Dutchtown Rd\, Savannah\, GA\, 31406\, United States
CATEGORIES:Educational Events
END:VEVENT
BEGIN:VEVENT
DTSTART;TZID=America/New_York:20240616T110000
DTEND;TZID=America/New_York:20240616T130000
DTSTAMP:20260425T211833
CREATED:20240318T015424Z
LAST-MODIFIED:20240525T140422Z
UID:10000795-1718535600-1718542800@christmemorialbaptist.com
SUMMARY:SUNDAY MORNING SERVICE
DESCRIPTION:
URL:https://christmemorialbaptist.com/event/sunday-morning-service/2024-06-16/
LOCATION:Christ Memorial Baptist\, 1023 Dutchtown Rd\, Savannah\, GA\, 31406\, United States
CATEGORIES:Regular Worship Service
ATTACH;FMTTYPE=image/jpeg:https://christmemorialbaptist.com/wp-content/uploads/2024/03/sunday-service.jpg
END:VEVENT
BEGIN:VEVENT
DTSTART;TZID=America/New_York:20240616T110000
DTEND;TZID=America/New_York:20240616T130000
DTSTAMP:20260425T211833
CREATED:20240516T164132Z
LAST-MODIFIED:20240525T134808Z
UID:10000669-1718535600-1718542800@christmemorialbaptist.com
SUMMARY:CHILDREN'S CHURCH
DESCRIPTION:
URL:https://christmemorialbaptist.com/event/childrens-church-3/2024-06-16/
LOCATION:Christ Memorial Baptist\, 1023 Dutchtown Rd\, Savannah\, GA\, 31406\, United States
CATEGORIES:Youth Events
ATTACH;FMTTYPE=image/jpeg:https://christmemorialbaptist.com/wp-content/uploads/2024/05/childrens-church.jpg
END:VEVENT
BEGIN:VEVENT
DTSTART;TZID=America/New_York:20240618T180000
DTEND;TZID=America/New_York:20240618T190000
DTSTAMP:20260425T211833
CREATED:20240318T020448Z
LAST-MODIFIED:20240516T165113Z
UID:10001600-1718733600-1718737200@christmemorialbaptist.com
SUMMARY:PRAYER MEETING
DESCRIPTION:
URL:https://christmemorialbaptist.com/event/prayer-meeting/2024-06-18/
LOCATION:Christ Memorial Baptist\, 1023 Dutchtown Rd\, Savannah\, GA\, 31406\, United States
CATEGORIES:Prayer and Spiritual Meetings
END:VEVENT
BEGIN:VEVENT
DTSTART;TZID=America/New_York:20240618T190000
DTEND;TZID=America/New_York:20240618T200000
DTSTAMP:20260425T211833
CREATED:20240318T020615Z
LAST-MODIFIED:20240516T164910Z
UID:10001271-1718737200-1718740800@christmemorialbaptist.com
SUMMARY:BIBLE STUDY
DESCRIPTION:
URL:https://christmemorialbaptist.com/event/bible-study/2024-06-18/
LOCATION:Christ Memorial Baptist\, 1023 Dutchtown Rd\, Savannah\, GA\, 31406\, United States
CATEGORIES:Educational Events
END:VEVENT
BEGIN:VEVENT
DTSTART;TZID=America/New_York:20240620T193000
DTEND;TZID=America/New_York:20240620T203000
DTSTAMP:20260425T211833
CREATED:20240318T021700Z
LAST-MODIFIED:20240516T164813Z
UID:10001004-1718911800-1718915400@christmemorialbaptist.com
SUMMARY:SOLID ROCK MINISTRY
DESCRIPTION:
URL:https://christmemorialbaptist.com/event/solid-rock-ministry/2024-06-20/
LOCATION:GA
CATEGORIES:Ministry and Organizational Meetings
END:VEVENT
BEGIN:VEVENT
DTSTART;TZID=America/New_York:20240623T094500
DTEND;TZID=America/New_York:20240623T110000
DTSTAMP:20260425T211833
CREATED:20240318T015214Z
LAST-MODIFIED:20240516T162702Z
UID:10000084-1719135900-1719140400@christmemorialbaptist.com
SUMMARY:SUNDAY SCHOOL
DESCRIPTION:
URL:https://christmemorialbaptist.com/event/sunday-school/2024-06-23/
LOCATION:Christ Memorial Baptist\, 1023 Dutchtown Rd\, Savannah\, GA\, 31406\, United States
CATEGORIES:Educational Events
END:VEVENT
BEGIN:VEVENT
DTSTART;TZID=America/New_York:20240623T110000
DTEND;TZID=America/New_York:20240623T130000
DTSTAMP:20260425T211833
CREATED:20240318T015424Z
LAST-MODIFIED:20240525T140422Z
UID:10000796-1719140400-1719147600@christmemorialbaptist.com
SUMMARY:SUNDAY MORNING SERVICE
DESCRIPTION:
URL:https://christmemorialbaptist.com/event/sunday-morning-service/2024-06-23/
LOCATION:Christ Memorial Baptist\, 1023 Dutchtown Rd\, Savannah\, GA\, 31406\, United States
CATEGORIES:Regular Worship Service
ATTACH;FMTTYPE=image/jpeg:https://christmemorialbaptist.com/wp-content/uploads/2024/03/sunday-service.jpg
END:VEVENT
BEGIN:VEVENT
DTSTART;TZID=America/New_York:20240625T180000
DTEND;TZID=America/New_York:20240625T190000
DTSTAMP:20260425T211833
CREATED:20240318T020448Z
LAST-MODIFIED:20240516T165113Z
UID:10001601-1719338400-1719342000@christmemorialbaptist.com
SUMMARY:PRAYER MEETING
DESCRIPTION:
URL:https://christmemorialbaptist.com/event/prayer-meeting/2024-06-25/
LOCATION:Christ Memorial Baptist\, 1023 Dutchtown Rd\, Savannah\, GA\, 31406\, United States
CATEGORIES:Prayer and Spiritual Meetings
END:VEVENT
BEGIN:VEVENT
DTSTART;TZID=America/New_York:20240625T180000
DTEND;TZID=America/New_York:20240625T190000
DTSTAMP:20260425T211833
CREATED:20240318T021954Z
LAST-MODIFIED:20240516T165009Z
UID:10001530-1719338400-1719342000@christmemorialbaptist.com
SUMMARY:DEACON’S MEETING
DESCRIPTION:
URL:https://christmemorialbaptist.com/event/deacons-meeting/2024-06-25/
LOCATION:Christ Memorial Baptist\, 1023 Dutchtown Rd\, Savannah\, GA\, 31406\, United States
CATEGORIES:Prayer and Spiritual Meetings
END:VEVENT
BEGIN:VEVENT
DTSTART;TZID=America/New_York:20240625T190000
DTEND;TZID=America/New_York:20240625T200000
DTSTAMP:20260425T211833
CREATED:20240318T020615Z
LAST-MODIFIED:20240516T164910Z
UID:10001272-1719342000-1719345600@christmemorialbaptist.com
SUMMARY:BIBLE STUDY
DESCRIPTION:
URL:https://christmemorialbaptist.com/event/bible-study/2024-06-25/
LOCATION:Christ Memorial Baptist\, 1023 Dutchtown Rd\, Savannah\, GA\, 31406\, United States
CATEGORIES:Educational Events
END:VEVENT
BEGIN:VEVENT
DTSTART;TZID=America/New_York:20240627T193000
DTEND;TZID=America/New_York:20240627T203000
DTSTAMP:20260425T211833
CREATED:20240318T021700Z
LAST-MODIFIED:20240516T164813Z
UID:10001005-1719516600-1719520200@christmemorialbaptist.com
SUMMARY:SOLID ROCK MINISTRY
DESCRIPTION:
URL:https://christmemorialbaptist.com/event/solid-rock-ministry/2024-06-27/
LOCATION:GA
CATEGORIES:Ministry and Organizational Meetings
END:VEVENT
BEGIN:VEVENT
DTSTART;TZID=America/New_York:20240630T094500
DTEND;TZID=America/New_York:20240630T110000
DTSTAMP:20260425T211833
CREATED:20240318T015214Z
LAST-MODIFIED:20240516T162702Z
UID:10000085-1719740700-1719745200@christmemorialbaptist.com
SUMMARY:SUNDAY SCHOOL
DESCRIPTION:
URL:https://christmemorialbaptist.com/event/sunday-school/2024-06-30/
LOCATION:Christ Memorial Baptist\, 1023 Dutchtown Rd\, Savannah\, GA\, 31406\, United States
CATEGORIES:Educational Events
END:VEVENT
BEGIN:VEVENT
DTSTART;TZID=America/New_York:20240630T110000
DTEND;TZID=America/New_York:20240630T130000
DTSTAMP:20260425T211833
CREATED:20240318T015424Z
LAST-MODIFIED:20240525T140422Z
UID:10000797-1719745200-1719752400@christmemorialbaptist.com
SUMMARY:SUNDAY MORNING SERVICE
DESCRIPTION:
URL:https://christmemorialbaptist.com/event/sunday-morning-service/2024-06-30/
LOCATION:Christ Memorial Baptist\, 1023 Dutchtown Rd\, Savannah\, GA\, 31406\, United States
CATEGORIES:Regular Worship Service
ATTACH;FMTTYPE=image/jpeg:https://christmemorialbaptist.com/wp-content/uploads/2024/03/sunday-service.jpg
END:VEVENT
END:VCALENDAR